Workbook

Sheet Setup
A1: StellarHabit habit tracker for Excel
A2: Year | B2: 2026 | C2: Change this once a year. Every month sheet takes its dates from here.
A4: Habits (one per row, phrased so the answer is yes or no)
A5: Habit 1 | B5: 20 pages before bed
A6: Habit 2 | B6: Walk 7,000 steps
A7: Habit 3 | B7: No phone in bed
A8: Habit 4 | B8: Water before coffee
A9: Habit 5 | B9: 10 min tidy
A10: Habit 6
A13: How to tick a day: type x in the cell. On Microsoft 365 you can instead select C9:H39 on a month
A14: sheet and use Insert > Checkbox. The formulas count both an x and a ticked checkbox.
A15: Completion = days done / days elapsed so far, not / days in the month.
A16: Current streak does not break on today until today is over.
A17: Streaks carry over from one month sheet to the next.
A18: No macros, no LET, SCAN or LAMBDA: every function used has existed since Excel 2007, so no Microsoft 365 needed.
A19: From stellarhabit.com/blog/habit-tracker-excel. Free, no email, edit anything.

Sheet Year
A1: ="Year "&Setup!$B$2
A2: Completion per month (days done / days elapsed). Blank = before you first ticked that habit.
A4: Habit | B4: Jan | C4: Feb | D4: Mar | E4: Apr | F4: May | G4: Jun | H4: Jul | I4: Aug | J4: Sep | K4: Oct | L4: Nov | M4: Dec | N4: Year | O4: Best streak
A5: =IF(Setup!$B$5="","",Setup!$B$5) | B5: =IF(Q5=1,'Jan'!C6,"") | C5: =IF(R5=1,'Feb'!C6,"") | D5: =IF(S5=1,'Mar'!C6,"") | E5: =IF(T5=1,'Apr'!C6,"") | F5: =IF(U5=1,'May'!C6,"") | G5: =IF(V5=1,'Jun'!C6,"") | H5: =IF(W5=1,'Jul'!C6,"") | I5: =IF(X5=1,'Aug'!C6,"") | J5: =IF(Y5=1,'Sep'!C6,"") | K5: =IF(Z5=1,'Oct'!C6,"") | L5: =IF(AA5=1,'Nov'!C6,"") | M5: =IF(AB5=1,'Dec'!C6,"") | N5: =IF(OR($A5="",('Jan'!$B$2*Q5+'Feb'!$B$2*R5+'Mar'!$B$2*S5+'Apr'!$B$2*T5+'May'!$B$2*U5+'Jun'!$B$2*V5+'Jul'!$B$2*W5+'Aug'!$B$2*X5+'Sep'!$B$2*Y5+'Oct'!$B$2*Z5+'Nov'!$B$2*AA5+'Dec'!$B$2*AB5)=0),"",(N('Jan'!C5)+N('Feb'!C5)+N('Mar'!C5)+N('Apr'!C5)+N('May'!C5)+N('Jun'!C5)+N('Jul'!C5)+N('Aug'!C5)+N('Sep'!C5)+N('Oct'!C5)+N('Nov'!C5)+N('Dec'!C5))/('Jan'!$B$2*Q5+'Feb'!$B$2*R5+'Mar'!$B$2*S5+'Apr'!$B$2*T5+'May'!$B$2*U5+'Jun'!$B$2*V5+'Jul'!$B$2*W5+'Aug'!$B$2*X5+'Sep'!$B$2*Y5+'Oct'!$B$2*Z5+'Nov'!$B$2*AA5+'Dec'!$B$2*AB5)) | O5: =IF($A5="","",MAX(N('Jan'!C4),N('Feb'!C4),N('Mar'!C4),N('Apr'!C4),N('May'!C4),N('Jun'!C4),N('Jul'!C4),N('Aug'!C4),N('Sep'!C4),N('Oct'!C4),N('Nov'!C4),N('Dec'!C4))) | Q5: =IF(OR(N('Jan'!C5)>0),1,0) | R5: =IF(OR(Q5=1,N('Feb'!C5)>0),1,0) | S5: =IF(OR(R5=1,N('Mar'!C5)>0),1,0) | T5: =IF(OR(S5=1,N('Apr'!C5)>0),1,0) | U5: =IF(OR(T5=1,N('May'!C5)>0),1,0) | V5: =IF(OR(U5=1,N('Jun'!C5)>0),1,0) | W5: =IF(OR(V5=1,N('Jul'!C5)>0),1,0) | X5: =IF(OR(W5=1,N('Aug'!C5)>0),1,0) | Y5: =IF(OR(X5=1,N('Sep'!C5)>0),1,0) | Z5: =IF(OR(Y5=1,N('Oct'!C5)>0),1,0) | AA5: =IF(OR(Z5=1,N('Nov'!C5)>0),1,0) | AB5: =IF(OR(AA5=1,N('Dec'!C5)>0),1,0)
A6: =IF(Setup!$B$6="","",Setup!$B$6) | B6: =IF(Q6=1,'Jan'!D6,"") | C6: =IF(R6=1,'Feb'!D6,"") | D6: =IF(S6=1,'Mar'!D6,"") | E6: =IF(T6=1,'Apr'!D6,"") | F6: =IF(U6=1,'May'!D6,"") | G6: =IF(V6=1,'Jun'!D6,"") | H6: =IF(W6=1,'Jul'!D6,"") | I6: =IF(X6=1,'Aug'!D6,"") | J6: =IF(Y6=1,'Sep'!D6,"") | K6: =IF(Z6=1,'Oct'!D6,"") | L6: =IF(AA6=1,'Nov'!D6,"") | M6: =IF(AB6=1,'Dec'!D6,"") | N6: =IF(OR($A6="",('Jan'!$B$2*Q6+'Feb'!$B$2*R6+'Mar'!$B$2*S6+'Apr'!$B$2*T6+'May'!$B$2*U6+'Jun'!$B$2*V6+'Jul'!$B$2*W6+'Aug'!$B$2*X6+'Sep'!$B$2*Y6+'Oct'!$B$2*Z6+'Nov'!$B$2*AA6+'Dec'!$B$2*AB6)=0),"",(N('Jan'!D5)+N('Feb'!D5)+N('Mar'!D5)+N('Apr'!D5)+N('May'!D5)+N('Jun'!D5)+N('Jul'!D5)+N('Aug'!D5)+N('Sep'!D5)+N('Oct'!D5)+N('Nov'!D5)+N('Dec'!D5))/('Jan'!$B$2*Q6+'Feb'!$B$2*R6+'Mar'!$B$2*S6+'Apr'!$B$2*T6+'May'!$B$2*U6+'Jun'!$B$2*V6+'Jul'!$B$2*W6+'Aug'!$B$2*X6+'Sep'!$B$2*Y6+'Oct'!$B$2*Z6+'Nov'!$B$2*AA6+'Dec'!$B$2*AB6)) | O6: =IF($A6="","",MAX(N('Jan'!D4),N('Feb'!D4),N('Mar'!D4),N('Apr'!D4),N('May'!D4),N('Jun'!D4),N('Jul'!D4),N('Aug'!D4),N('Sep'!D4),N('Oct'!D4),N('Nov'!D4),N('Dec'!D4))) | Q6: =IF(OR(N('Jan'!D5)>0),1,0) | R6: =IF(OR(Q6=1,N('Feb'!D5)>0),1,0) | S6: =IF(OR(R6=1,N('Mar'!D5)>0),1,0) | T6: =IF(OR(S6=1,N('Apr'!D5)>0),1,0) | U6: =IF(OR(T6=1,N('May'!D5)>0),1,0) | V6: =IF(OR(U6=1,N('Jun'!D5)>0),1,0) | W6: =IF(OR(V6=1,N('Jul'!D5)>0),1,0) | X6: =IF(OR(W6=1,N('Aug'!D5)>0),1,0) | Y6: =IF(OR(X6=1,N('Sep'!D5)>0),1,0) | Z6: =IF(OR(Y6=1,N('Oct'!D5)>0),1,0) | AA6: =IF(OR(Z6=1,N('Nov'!D5)>0),1,0) | AB6: =IF(OR(AA6=1,N('Dec'!D5)>0),1,0)
A7: =IF(Setup!$B$7="","",Setup!$B$7) | B7: =IF(Q7=1,'Jan'!E6,"") | C7: =IF(R7=1,'Feb'!E6,"") | D7: =IF(S7=1,'Mar'!E6,"") | E7: =IF(T7=1,'Apr'!E6,"") | F7: =IF(U7=1,'May'!E6,"") | G7: =IF(V7=1,'Jun'!E6,"") | H7: =IF(W7=1,'Jul'!E6,"") | I7: =IF(X7=1,'Aug'!E6,"") | J7: =IF(Y7=1,'Sep'!E6,"") | K7: =IF(Z7=1,'Oct'!E6,"") | L7: =IF(AA7=1,'Nov'!E6,"") | M7: =IF(AB7=1,'Dec'!E6,"") | N7: =IF(OR($A7="",('Jan'!$B$2*Q7+'Feb'!$B$2*R7+'Mar'!$B$2*S7+'Apr'!$B$2*T7+'May'!$B$2*U7+'Jun'!$B$2*V7+'Jul'!$B$2*W7+'Aug'!$B$2*X7+'Sep'!$B$2*Y7+'Oct'!$B$2*Z7+'Nov'!$B$2*AA7+'Dec'!$B$2*AB7)=0),"",(N('Jan'!E5)+N('Feb'!E5)+N('Mar'!E5)+N('Apr'!E5)+N('May'!E5)+N('Jun'!E5)+N('Jul'!E5)+N('Aug'!E5)+N('Sep'!E5)+N('Oct'!E5)+N('Nov'!E5)+N('Dec'!E5))/('Jan'!$B$2*Q7+'Feb'!$B$2*R7+'Mar'!$B$2*S7+'Apr'!$B$2*T7+'May'!$B$2*U7+'Jun'!$B$2*V7+'Jul'!$B$2*W7+'Aug'!$B$2*X7+'Sep'!$B$2*Y7+'Oct'!$B$2*Z7+'Nov'!$B$2*AA7+'Dec'!$B$2*AB7)) | O7: =IF($A7="","",MAX(N('Jan'!E4),N('Feb'!E4),N('Mar'!E4),N('Apr'!E4),N('May'!E4),N('Jun'!E4),N('Jul'!E4),N('Aug'!E4),N('Sep'!E4),N('Oct'!E4),N('Nov'!E4),N('Dec'!E4))) | Q7: =IF(OR(N('Jan'!E5)>0),1,0) | R7: =IF(OR(Q7=1,N('Feb'!E5)>0),1,0) | S7: =IF(OR(R7=1,N('Mar'!E5)>0),1,0) | T7: =IF(OR(S7=1,N('Apr'!E5)>0),1,0) | U7: =IF(OR(T7=1,N('May'!E5)>0),1,0) | V7: =IF(OR(U7=1,N('Jun'!E5)>0),1,0) | W7: =IF(OR(V7=1,N('Jul'!E5)>0),1,0) | X7: =IF(OR(W7=1,N('Aug'!E5)>0),1,0) | Y7: =IF(OR(X7=1,N('Sep'!E5)>0),1,0) | Z7: =IF(OR(Y7=1,N('Oct'!E5)>0),1,0) | AA7: =IF(OR(Z7=1,N('Nov'!E5)>0),1,0) | AB7: =IF(OR(AA7=1,N('Dec'!E5)>0),1,0)
A8: =IF(Setup!$B$8="","",Setup!$B$8) | B8: =IF(Q8=1,'Jan'!F6,"") | C8: =IF(R8=1,'Feb'!F6,"") | D8: =IF(S8=1,'Mar'!F6,"") | E8: =IF(T8=1,'Apr'!F6,"") | F8: =IF(U8=1,'May'!F6,"") | G8: =IF(V8=1,'Jun'!F6,"") | H8: =IF(W8=1,'Jul'!F6,"") | I8: =IF(X8=1,'Aug'!F6,"") | J8: =IF(Y8=1,'Sep'!F6,"") | K8: =IF(Z8=1,'Oct'!F6,"") | L8: =IF(AA8=1,'Nov'!F6,"") | M8: =IF(AB8=1,'Dec'!F6,"") | N8: =IF(OR($A8="",('Jan'!$B$2*Q8+'Feb'!$B$2*R8+'Mar'!$B$2*S8+'Apr'!$B$2*T8+'May'!$B$2*U8+'Jun'!$B$2*V8+'Jul'!$B$2*W8+'Aug'!$B$2*X8+'Sep'!$B$2*Y8+'Oct'!$B$2*Z8+'Nov'!$B$2*AA8+'Dec'!$B$2*AB8)=0),"",(N('Jan'!F5)+N('Feb'!F5)+N('Mar'!F5)+N('Apr'!F5)+N('May'!F5)+N('Jun'!F5)+N('Jul'!F5)+N('Aug'!F5)+N('Sep'!F5)+N('Oct'!F5)+N('Nov'!F5)+N('Dec'!F5))/('Jan'!$B$2*Q8+'Feb'!$B$2*R8+'Mar'!$B$2*S8+'Apr'!$B$2*T8+'May'!$B$2*U8+'Jun'!$B$2*V8+'Jul'!$B$2*W8+'Aug'!$B$2*X8+'Sep'!$B$2*Y8+'Oct'!$B$2*Z8+'Nov'!$B$2*AA8+'Dec'!$B$2*AB8)) | O8: =IF($A8="","",MAX(N('Jan'!F4),N('Feb'!F4),N('Mar'!F4),N('Apr'!F4),N('May'!F4),N('Jun'!F4),N('Jul'!F4),N('Aug'!F4),N('Sep'!F4),N('Oct'!F4),N('Nov'!F4),N('Dec'!F4))) | Q8: =IF(OR(N('Jan'!F5)>0),1,0) | R8: =IF(OR(Q8=1,N('Feb'!F5)>0),1,0) | S8: =IF(OR(R8=1,N('Mar'!F5)>0),1,0) | T8: =IF(OR(S8=1,N('Apr'!F5)>0),1,0) | U8: =IF(OR(T8=1,N('May'!F5)>0),1,0) | V8: =IF(OR(U8=1,N('Jun'!F5)>0),1,0) | W8: =IF(OR(V8=1,N('Jul'!F5)>0),1,0) | X8: =IF(OR(W8=1,N('Aug'!F5)>0),1,0) | Y8: =IF(OR(X8=1,N('Sep'!F5)>0),1,0) | Z8: =IF(OR(Y8=1,N('Oct'!F5)>0),1,0) | AA8: =IF(OR(Z8=1,N('Nov'!F5)>0),1,0) | AB8: =IF(OR(AA8=1,N('Dec'!F5)>0),1,0)
A9: =IF(Setup!$B$9="","",Setup!$B$9) | B9: =IF(Q9=1,'Jan'!G6,"") | C9: =IF(R9=1,'Feb'!G6,"") | D9: =IF(S9=1,'Mar'!G6,"") | E9: =IF(T9=1,'Apr'!G6,"") | F9: =IF(U9=1,'May'!G6,"") | G9: =IF(V9=1,'Jun'!G6,"") | H9: =IF(W9=1,'Jul'!G6,"") | I9: =IF(X9=1,'Aug'!G6,"") | J9: =IF(Y9=1,'Sep'!G6,"") | K9: =IF(Z9=1,'Oct'!G6,"") | L9: =IF(AA9=1,'Nov'!G6,"") | M9: =IF(AB9=1,'Dec'!G6,"") | N9: =IF(OR($A9="",('Jan'!$B$2*Q9+'Feb'!$B$2*R9+'Mar'!$B$2*S9+'Apr'!$B$2*T9+'May'!$B$2*U9+'Jun'!$B$2*V9+'Jul'!$B$2*W9+'Aug'!$B$2*X9+'Sep'!$B$2*Y9+'Oct'!$B$2*Z9+'Nov'!$B$2*AA9+'Dec'!$B$2*AB9)=0),"",(N('Jan'!G5)+N('Feb'!G5)+N('Mar'!G5)+N('Apr'!G5)+N('May'!G5)+N('Jun'!G5)+N('Jul'!G5)+N('Aug'!G5)+N('Sep'!G5)+N('Oct'!G5)+N('Nov'!G5)+N('Dec'!G5))/('Jan'!$B$2*Q9+'Feb'!$B$2*R9+'Mar'!$B$2*S9+'Apr'!$B$2*T9+'May'!$B$2*U9+'Jun'!$B$2*V9+'Jul'!$B$2*W9+'Aug'!$B$2*X9+'Sep'!$B$2*Y9+'Oct'!$B$2*Z9+'Nov'!$B$2*AA9+'Dec'!$B$2*AB9)) | O9: =IF($A9="","",MAX(N('Jan'!G4),N('Feb'!G4),N('Mar'!G4),N('Apr'!G4),N('May'!G4),N('Jun'!G4),N('Jul'!G4),N('Aug'!G4),N('Sep'!G4),N('Oct'!G4),N('Nov'!G4),N('Dec'!G4))) | Q9: =IF(OR(N('Jan'!G5)>0),1,0) | R9: =IF(OR(Q9=1,N('Feb'!G5)>0),1,0) | S9: =IF(OR(R9=1,N('Mar'!G5)>0),1,0) | T9: =IF(OR(S9=1,N('Apr'!G5)>0),1,0) | U9: =IF(OR(T9=1,N('May'!G5)>0),1,0) | V9: =IF(OR(U9=1,N('Jun'!G5)>0),1,0) | W9: =IF(OR(V9=1,N('Jul'!G5)>0),1,0) | X9: =IF(OR(W9=1,N('Aug'!G5)>0),1,0) | Y9: =IF(OR(X9=1,N('Sep'!G5)>0),1,0) | Z9: =IF(OR(Y9=1,N('Oct'!G5)>0),1,0) | AA9: =IF(OR(Z9=1,N('Nov'!G5)>0),1,0) | AB9: =IF(OR(AA9=1,N('Dec'!G5)>0),1,0)
A10: =IF(Setup!$B$10="","",Setup!$B$10) | B10: =IF(Q10=1,'Jan'!H6,"") | C10: =IF(R10=1,'Feb'!H6,"") | D10: =IF(S10=1,'Mar'!H6,"") | E10: =IF(T10=1,'Apr'!H6,"") | F10: =IF(U10=1,'May'!H6,"") | G10: =IF(V10=1,'Jun'!H6,"") | H10: =IF(W10=1,'Jul'!H6,"") | I10: =IF(X10=1,'Aug'!H6,"") | J10: =IF(Y10=1,'Sep'!H6,"") | K10: =IF(Z10=1,'Oct'!H6,"") | L10: =IF(AA10=1,'Nov'!H6,"") | M10: =IF(AB10=1,'Dec'!H6,"") | N10: =IF(OR($A10="",('Jan'!$B$2*Q10+'Feb'!$B$2*R10+'Mar'!$B$2*S10+'Apr'!$B$2*T10+'May'!$B$2*U10+'Jun'!$B$2*V10+'Jul'!$B$2*W10+'Aug'!$B$2*X10+'Sep'!$B$2*Y10+'Oct'!$B$2*Z10+'Nov'!$B$2*AA10+'Dec'!$B$2*AB10)=0),"",(N('Jan'!H5)+N('Feb'!H5)+N('Mar'!H5)+N('Apr'!H5)+N('May'!H5)+N('Jun'!H5)+N('Jul'!H5)+N('Aug'!H5)+N('Sep'!H5)+N('Oct'!H5)+N('Nov'!H5)+N('Dec'!H5))/('Jan'!$B$2*Q10+'Feb'!$B$2*R10+'Mar'!$B$2*S10+'Apr'!$B$2*T10+'May'!$B$2*U10+'Jun'!$B$2*V10+'Jul'!$B$2*W10+'Aug'!$B$2*X10+'Sep'!$B$2*Y10+'Oct'!$B$2*Z10+'Nov'!$B$2*AA10+'Dec'!$B$2*AB10)) | O10: =IF($A10="","",MAX(N('Jan'!H4),N('Feb'!H4),N('Mar'!H4),N('Apr'!H4),N('May'!H4),N('Jun'!H4),N('Jul'!H4),N('Aug'!H4),N('Sep'!H4),N('Oct'!H4),N('Nov'!H4),N('Dec'!H4))) | Q10: =IF(OR(N('Jan'!H5)>0),1,0) | R10: =IF(OR(Q10=1,N('Feb'!H5)>0),1,0) | S10: =IF(OR(R10=1,N('Mar'!H5)>0),1,0) | T10: =IF(OR(S10=1,N('Apr'!H5)>0),1,0) | U10: =IF(OR(T10=1,N('May'!H5)>0),1,0) | V10: =IF(OR(U10=1,N('Jun'!H5)>0),1,0) | W10: =IF(OR(V10=1,N('Jul'!H5)>0),1,0) | X10: =IF(OR(W10=1,N('Aug'!H5)>0),1,0) | Y10: =IF(OR(X10=1,N('Sep'!H5)>0),1,0) | Z10: =IF(OR(Y10=1,N('Oct'!H5)>0),1,0) | AA10: =IF(OR(Z10=1,N('Nov'!H5)>0),1,0) | AB10: =IF(OR(AA10=1,N('Dec'!H5)>0),1,0)

Sheet Jan
A1: =DATE(Setup!$B$2,1,1)
A2: Days elapsed | B2: =IF(TODAY()<$A$9,0,MIN(TODAY(),MAX($A$9:$A$39))-$A$9+1)
A3: Current streak | C3: =IF(C$8="","",IF($B$2=0,0,IF(OR(INDEX(L$9:L$39,$B$2)>0,TODAY()>MAX($A$9:$A$39),$B$2=1),INDEX(L$9:L$39,$B$2),INDEX(L$9:L$39,$B$2-1)))) | D3: =IF(D$8="","",IF($B$2=0,0,IF(OR(INDEX(M$9:M$39,$B$2)>0,TODAY()>MAX($A$9:$A$39),$B$2=1),INDEX(M$9:M$39,$B$2),INDEX(M$9:M$39,$B$2-1)))) | E3: =IF(E$8="","",IF($B$2=0,0,IF(OR(INDEX(N$9:N$39,$B$2)>0,TODAY()>MAX($A$9:$A$39),$B$2=1),INDEX(N$9:N$39,$B$2),INDEX(N$9:N$39,$B$2-1)))) | F3: =IF(F$8="","",IF($B$2=0,0,IF(OR(INDEX(O$9:O$39,$B$2)>0,TODAY()>MAX($A$9:$A$39),$B$2=1),INDEX(O$9:O$39,$B$2),INDEX(O$9:O$39,$B$2-1)))) | G3: =IF(G$8="","",IF($B$2=0,0,IF(OR(INDEX(P$9:P$39,$B$2)>0,TODAY()>MAX($A$9:$A$39),$B$2=1),INDEX(P$9:P$39,$B$2),INDEX(P$9:P$39,$B$2-1)))) | H3: =IF(H$8="","",IF($B$2=0,0,IF(OR(INDEX(Q$9:Q$39,$B$2)>0,TODAY()>MAX($A$9:$A$39),$B$2=1),INDEX(Q$9:Q$39,$B$2),INDEX(Q$9:Q$39,$B$2-1))))
A4: Longest streak | C4: =IF(C$8="","",MAX(L$9:L$39)) | D4: =IF(D$8="","",MAX(M$9:M$39)) | E4: =IF(E$8="","",MAX(N$9:N$39)) | F4: =IF(F$8="","",MAX(O$9:O$39)) | G4: =IF(G$8="","",MAX(P$9:P$39)) | H4: =IF(H$8="","",MAX(Q$9:Q$39))
A5: Days done | C5: =IF(C$8="","",COUNTIF(C$9:C$39,TRUE)+COUNTIF(C$9:C$39,"x")) | D5: =IF(D$8="","",COUNTIF(D$9:D$39,TRUE)+COUNTIF(D$9:D$39,"x")) | E5: =IF(E$8="","",COUNTIF(E$9:E$39,TRUE)+COUNTIF(E$9:E$39,"x")) | F5: =IF(F$8="","",COUNTIF(F$9:F$39,TRUE)+COUNTIF(F$9:F$39,"x")) | G5: =IF(G$8="","",COUNTIF(G$9:G$39,TRUE)+COUNTIF(G$9:G$39,"x")) | H5: =IF(H$8="","",COUNTIF(H$9:H$39,TRUE)+COUNTIF(H$9:H$39,"x"))
A6: Completion | C6: =IF(OR(C$8="",$B$2=0),"",C5/$B$2) | D6: =IF(OR(D$8="",$B$2=0),"",D5/$B$2) | E6: =IF(OR(E$8="",$B$2=0),"",E5/$B$2) | F6: =IF(OR(F$8="",$B$2=0),"",F5/$B$2) | G6: =IF(OR(G$8="",$B$2=0),"",G5/$B$2) | H6: =IF(OR(H$8="",$B$2=0),"",H5/$B$2)
A7: Type x to tick a day. Completion divides by days elapsed, not by days in the month.
A8: Date | B8: Day | C8: =IF(Setup!$B$5="","",Setup!$B$5) | D8: =IF(Setup!$B$6="","",Setup!$B$6) | E8: =IF(Setup!$B$7="","",Setup!$B$7) | F8: =IF(Setup!$B$8="","",Setup!$B$8) | G8: =IF(Setup!$B$9="","",Setup!$B$9) | H8: =IF(Setup!$B$10="","",Setup!$B$10) | I8: Done today
A9: =$A$1 | B9: =IF(A9="","",A9) | I9: =IF(A9="","",COUNTIF(C9:H9,TRUE)+COUNTIF(C9:H9,"x")) | L9: =IF($A9="","",IF(OR(C9=TRUE,C9="x"),0+1,0)) | M9: =IF($A9="","",IF(OR(D9=TRUE,D9="x"),0+1,0)) | N9: =IF($A9="","",IF(OR(E9=TRUE,E9="x"),0+1,0)) | O9: =IF($A9="","",IF(OR(F9=TRUE,F9="x"),0+1,0)) | P9: =IF($A9="","",IF(OR(G9=TRUE,G9="x"),0+1,0)) | Q9: =IF($A9="","",IF(OR(H9=TRUE,H9="x"),0+1,0))
A10: =IF(A9="","",IF(MONTH(A9+1)=1,A9+1,"")) | B10: =IF(A10="","",A10) | I10: =IF(A10="","",COUNTIF(C10:H10,TRUE)+COUNTIF(C10:H10,"x")) | L10: =IF($A10="","",IF(OR(C10=TRUE,C10="x"),N(L9)+1,0)) | M10: =IF($A10="","",IF(OR(D10=TRUE,D10="x"),N(M9)+1,0)) | N10: =IF($A10="","",IF(OR(E10=TRUE,E10="x"),N(N9)+1,0)) | O10: =IF($A10="","",IF(OR(F10=TRUE,F10="x"),N(O9)+1,0)) | P10: =IF($A10="","",IF(OR(G10=TRUE,G10="x"),N(P9)+1,0)) | Q10: =IF($A10="","",IF(OR(H10=TRUE,H10="x"),N(Q9)+1,0))
A11: =IF(A10="","",IF(MONTH(A10+1)=1,A10+1,"")) | B11: =IF(A11="","",A11) | I11: =IF(A11="","",COUNTIF(C11:H11,TRUE)+COUNTIF(C11:H11,"x")) | L11: =IF($A11="","",IF(OR(C11=TRUE,C11="x"),N(L10)+1,0)) | M11: =IF($A11="","",IF(OR(D11=TRUE,D11="x"),N(M10)+1,0)) | N11: =IF($A11="","",IF(OR(E11=TRUE,E11="x"),N(N10)+1,0)) | O11: =IF($A11="","",IF(OR(F11=TRUE,F11="x"),N(O10)+1,0)) | P11: =IF($A11="","",IF(OR(G11=TRUE,G11="x"),N(P10)+1,0)) | Q11: =IF($A11="","",IF(OR(H11=TRUE,H11="x"),N(Q10)+1,0))
A12: =IF(A11="","",IF(MONTH(A11+1)=1,A11+1,"")) | B12: =IF(A12="","",A12) | I12: =IF(A12="","",COUNTIF(C12:H12,TRUE)+COUNTIF(C12:H12,"x")) | L12: =IF($A12="","",IF(OR(C12=TRUE,C12="x"),N(L11)+1,0)) | M12: =IF($A12="","",IF(OR(D12=TRUE,D12="x"),N(M11)+1,0)) | N12: =IF($A12="","",IF(OR(E12=TRUE,E12="x"),N(N11)+1,0)) | O12: =IF($A12="","",IF(OR(F12=TRUE,F12="x"),N(O11)+1,0)) | P12: =IF($A12="","",IF(OR(G12=TRUE,G12="x"),N(P11)+1,0)) | Q12: =IF($A12="","",IF(OR(H12=TRUE,H12="x"),N(Q11)+1,0))
A13: =IF(A12="","",IF(MONTH(A12+1)=1,A12+1,"")) | B13: =IF(A13="","",A13) | I13: =IF(A13="","",COUNTIF(C13:H13,TRUE)+COUNTIF(C13:H13,"x")) | L13: =IF($A13="","",IF(OR(C13=TRUE,C13="x"),N(L12)+1,0)) | M13: =IF($A13="","",IF(OR(D13=TRUE,D13="x"),N(M12)+1,0)) | N13: =IF($A13="","",IF(OR(E13=TRUE,E13="x"),N(N12)+1,0)) | O13: =IF($A13="","",IF(OR(F13=TRUE,F13="x"),N(O12)+1,0)) | P13: =IF($A13="","",IF(OR(G13=TRUE,G13="x"),N(P12)+1,0)) | Q13: =IF($A13="","",IF(OR(H13=TRUE,H13="x"),N(Q12)+1,0))
A14: =IF(A13="","",IF(MONTH(A13+1)=1,A13+1,"")) | B14: =IF(A14="","",A14) | I14: =IF(A14="","",COUNTIF(C14:H14,TRUE)+COUNTIF(C14:H14,"x")) | L14: =IF($A14="","",IF(OR(C14=TRUE,C14="x"),N(L13)+1,0)) | M14: =IF($A14="","",IF(OR(D14=TRUE,D14="x"),N(M13)+1,0)) | N14: =IF($A14="","",IF(OR(E14=TRUE,E14="x"),N(N13)+1,0)) | O14: =IF($A14="","",IF(OR(F14=TRUE,F14="x"),N(O13)+1,0)) | P14: =IF($A14="","",IF(OR(G14=TRUE,G14="x"),N(P13)+1,0)) | Q14: =IF($A14="","",IF(OR(H14=TRUE,H14="x"),N(Q13)+1,0))
A15: =IF(A14="","",IF(MONTH(A14+1)=1,A14+1,"")) | B15: =IF(A15="","",A15) | I15: =IF(A15="","",COUNTIF(C15:H15,TRUE)+COUNTIF(C15:H15,"x")) | L15: =IF($A15="","",IF(OR(C15=TRUE,C15="x"),N(L14)+1,0)) | M15: =IF($A15="","",IF(OR(D15=TRUE,D15="x"),N(M14)+1,0)) | N15: =IF($A15="","",IF(OR(E15=TRUE,E15="x"),N(N14)+1,0)) | O15: =IF($A15="","",IF(OR(F15=TRUE,F15="x"),N(O14)+1,0)) | P15: =IF($A15="","",IF(OR(G15=TRUE,G15="x"),N(P14)+1,0)) | Q15: =IF($A15="","",IF(OR(H15=TRUE,H15="x"),N(Q14)+1,0))
A16: =IF(A15="","",IF(MONTH(A15+1)=1,A15+1,"")) | B16: =IF(A16="","",A16) | I16: =IF(A16="","",COUNTIF(C16:H16,TRUE)+COUNTIF(C16:H16,"x")) | L16: =IF($A16="","",IF(OR(C16=TRUE,C16="x"),N(L15)+1,0)) | M16: =IF($A16="","",IF(OR(D16=TRUE,D16="x"),N(M15)+1,0)) | N16: =IF($A16="","",IF(OR(E16=TRUE,E16="x"),N(N15)+1,0)) | O16: =IF($A16="","",IF(OR(F16=TRUE,F16="x"),N(O15)+1,0)) | P16: =IF($A16="","",IF(OR(G16=TRUE,G16="x"),N(P15)+1,0)) | Q16: =IF($A16="","",IF(OR(H16=TRUE,H16="x"),N(Q15)+1,0))
A17: =IF(A16="","",IF(MONTH(A16+1)=1,A16+1,"")) | B17: =IF(A17="","",A17) | I17: =IF(A17="","",COUNTIF(C17:H17,TRUE)+COUNTIF(C17:H17,"x")) | L17: =IF($A17="","",IF(OR(C17=TRUE,C17="x"),N(L16)+1,0)) | M17: =IF($A17="","",IF(OR(D17=TRUE,D17="x"),N(M16)+1,0)) | N17: =IF($A17="","",IF(OR(E17=TRUE,E17="x"),N(N16)+1,0)) | O17: =IF($A17="","",IF(OR(F17=TRUE,F17="x"),N(O16)+1,0)) | P17: =IF($A17="","",IF(OR(G17=TRUE,G17="x"),N(P16)+1,0)) | Q17: =IF($A17="","",IF(OR(H17=TRUE,H17="x"),N(Q16)+1,0))
A18: =IF(A17="","",IF(MONTH(A17+1)=1,A17+1,"")) | B18: =IF(A18="","",A18) | I18: =IF(A18="","",COUNTIF(C18:H18,TRUE)+COUNTIF(C18:H18,"x")) | L18: =IF($A18="","",IF(OR(C18=TRUE,C18="x"),N(L17)+1,0)) | M18: =IF($A18="","",IF(OR(D18=TRUE,D18="x"),N(M17)+1,0)) | N18: =IF($A18="","",IF(OR(E18=TRUE,E18="x"),N(N17)+1,0)) | O18: =IF($A18="","",IF(OR(F18=TRUE,F18="x"),N(O17)+1,0)) | P18: =IF($A18="","",IF(OR(G18=TRUE,G18="x"),N(P17)+1,0)) | Q18: =IF($A18="","",IF(OR(H18=TRUE,H18="x"),N(Q17)+1,0))
A19: =IF(A18="","",IF(MONTH(A18+1)=1,A18+1,"")) | B19: =IF(A19="","",A19) | I19: =IF(A19="","",COUNTIF(C19:H19,TRUE)+COUNTIF(C19:H19,"x")) | L19: =IF($A19="","",IF(OR(C19=TRUE,C19="x"),N(L18)+1,0)) | M19: =IF($A19="","",IF(OR(D19=TRUE,D19="x"),N(M18)+1,0)) | N19: =IF($A19="","",IF(OR(E19=TRUE,E19="x"),N(N18)+1,0)) | O19: =IF($A19="","",IF(OR(F19=TRUE,F19="x"),N(O18)+1,0)) | P19: =IF($A19="","",IF(OR(G19=TRUE,G19="x"),N(P18)+1,0)) | Q19: =IF($A19="","",IF(OR(H19=TRUE,H19="x"),N(Q18)+1,0))
A20: =IF(A19="","",IF(MONTH(A19+1)=1,A19+1,"")) | B20: =IF(A20="","",A20) | I20: =IF(A20="","",COUNTIF(C20:H20,TRUE)+COUNTIF(C20:H20,"x")) | L20: =IF($A20="","",IF(OR(C20=TRUE,C20="x"),N(L19)+1,0)) | M20: =IF($A20="","",IF(OR(D20=TRUE,D20="x"),N(M19)+1,0)) | N20: =IF($A20="","",IF(OR(E20=TRUE,E20="x"),N(N19)+1,0)) | O20: =IF($A20="","",IF(OR(F20=TRUE,F20="x"),N(O19)+1,0)) | P20: =IF($A20="","",IF(OR(G20=TRUE,G20="x"),N(P19)+1,0)) | Q20: =IF($A20="","",IF(OR(H20=TRUE,H20="x"),N(Q19)+1,0))
A21: =IF(A20="","",IF(MONTH(A20+1)=1,A20+1,"")) | B21: =IF(A21="","",A21) | I21: =IF(A21="","",COUNTIF(C21:H21,TRUE)+COUNTIF(C21:H21,"x")) | L21: =IF($A21="","",IF(OR(C21=TRUE,C21="x"),N(L20)+1,0)) | M21: =IF($A21="","",IF(OR(D21=TRUE,D21="x"),N(M20)+1,0)) | N21: =IF($A21="","",IF(OR(E21=TRUE,E21="x"),N(N20)+1,0)) | O21: =IF($A21="","",IF(OR(F21=TRUE,F21="x"),N(O20)+1,0)) | P21: =IF($A21="","",IF(OR(G21=TRUE,G21="x"),N(P20)+1,0)) | Q21: =IF($A21="","",IF(OR(H21=TRUE,H21="x"),N(Q20)+1,0))
... A39: =IF(A38="","",IF(MONTH(A38+1)=1,A38+1,"")) | B39: =IF(A39="","",A39) | I39: =IF(A39="","",COUNTIF(C39:H39,TRUE)+COUNTIF(C39:H39,"x")) | L39: =IF($A39="","",IF(OR(C39=TRUE,C39="x"),N(L38)+1,0)) | M39: =IF($A39="","",IF(OR(D39=TRUE,D39="x"),N(M38)+1,0)) | N39: =IF($A39="","",IF(OR(E39=TRUE,E39="x"),N(N38)+1,0)) | O39: =IF($A39="","",IF(OR(F39=TRUE,F39="x"),N(O38)+1,0)) | P39: =IF($A39="","",IF(OR(G39=TRUE,G39="x"),N(P38)+1,0)) | Q39: =IF($A39="","",IF(OR(H39=TRUE,H39="x"),N(Q38)+1,0))

Sheet Feb
A1: =DATE(Setup!$B$2,2,1)
A2: Days elapsed | B2: =IF(TODAY()<$A$9,0,MIN(TODAY(),MAX($A$9:$A$39))-$A$9+1)
A3: Current streak | C3: =IF(C$8="","",IF($B$2=0,0,IF(OR(INDEX(L$9:L$39,$B$2)>0,TODAY()>MAX($A$9:$A$39),$B$2=1),INDEX(L$9:L$39,$B$2),INDEX(L$9:L$39,$B$2-1)))) | D3: =IF(D$8="","",IF($B$2=0,0,IF(OR(INDEX(M$9:M$39,$B$2)>0,TODAY()>MAX($A$9:$A$39),$B$2=1),INDEX(M$9:M$39,$B$2),INDEX(M$9:M$39,$B$2-1)))) | E3: =IF(E$8="","",IF($B$2=0,0,IF(OR(INDEX(N$9:N$39,$B$2)>0,TODAY()>MAX($A$9:$A$39),$B$2=1),INDEX(N$9:N$39,$B$2),INDEX(N$9:N$39,$B$2-1)))) | F3: =IF(F$8="","",IF($B$2=0,0,IF(OR(INDEX(O$9:O$39,$B$2)>0,TODAY()>MAX($A$9:$A$39),$B$2=1),INDEX(O$9:O$39,$B$2),INDEX(O$9:O$39,$B$2-1)))) | G3: =IF(G$8="","",IF($B$2=0,0,IF(OR(INDEX(P$9:P$39,$B$2)>0,TODAY()>MAX($A$9:$A$39),$B$2=1),INDEX(P$9:P$39,$B$2),INDEX(P$9:P$39,$B$2-1)))) | H3: =IF(H$8="","",IF($B$2=0,0,IF(OR(INDEX(Q$9:Q$39,$B$2)>0,TODAY()>MAX($A$9:$A$39),$B$2=1),INDEX(Q$9:Q$39,$B$2),INDEX(Q$9:Q$39,$B$2-1))))
A4: Longest streak | C4: =IF(C$8="","",MAX(L$9:L$39)) | D4: =IF(D$8="","",MAX(M$9:M$39)) | E4: =IF(E$8="","",MAX(N$9:N$39)) | F4: =IF(F$8="","",MAX(O$9:O$39)) | G4: =IF(G$8="","",MAX(P$9:P$39)) | H4: =IF(H$8="","",MAX(Q$9:Q$39))
A5: Days done | C5: =IF(C$8="","",COUNTIF(C$9:C$39,TRUE)+COUNTIF(C$9:C$39,"x")) | D5: =IF(D$8="","",COUNTIF(D$9:D$39,TRUE)+COUNTIF(D$9:D$39,"x")) | E5: =IF(E$8="","",COUNTIF(E$9:E$39,TRUE)+COUNTIF(E$9:E$39,"x")) | F5: =IF(F$8="","",COUNTIF(F$9:F$39,TRUE)+COUNTIF(F$9:F$39,"x")) | G5: =IF(G$8="","",COUNTIF(G$9:G$39,TRUE)+COUNTIF(G$9:G$39,"x")) | H5: =IF(H$8="","",COUNTIF(H$9:H$39,TRUE)+COUNTIF(H$9:H$39,"x"))
A6: Completion | C6: =IF(OR(C$8="",$B$2=0),"",C5/$B$2) | D6: =IF(OR(D$8="",$B$2=0),"",D5/$B$2) | E6: =IF(OR(E$8="",$B$2=0),"",E5/$B$2) | F6: =IF(OR(F$8="",$B$2=0),"",F5/$B$2) | G6: =IF(OR(G$8="",$B$2=0),"",G5/$B$2) | H6: =IF(OR(H$8="",$B$2=0),"",H5/$B$2)
A7: Type x to tick a day. Completion divides by days elapsed, not by days in the month.
A8: Date | B8: Day | C8: =IF(Setup!$B$5="","",Setup!$B$5) | D8: =IF(Setup!$B$6="","",Setup!$B$6) | E8: =IF(Setup!$B$7="","",Setup!$B$7) | F8: =IF(Setup!$B$8="","",Setup!$B$8) | G8: =IF(Setup!$B$9="","",Setup!$B$9) | H8: =IF(Setup!$B$10="","",Setup!$B$10) | I8: Done today
A9: =$A$1 | B9: =IF(A9="","",A9) | I9: =IF(A9="","",COUNTIF(C9:H9,TRUE)+COUNTIF(C9:H9,"x")) | L9: =IF($A9="","",IF(OR(C9=TRUE,C9="x"),N(INDEX('Jan'!L$9:L$39,DAY($A$9-1)))+1,0)) | M9: =IF($A9="","",IF(OR(D9=TRUE,D9="x"),N(INDEX('Jan'!M$9:M$39,DAY($A$9-1)))+1,0)) | N9: =IF($A9="","",IF(OR(E9=TRUE,E9="x"),N(INDEX('Jan'!N$9:N$39,DAY($A$9-1)))+1,0)) | O9: =IF($A9="","",IF(OR(F9=TRUE,F9="x"),N(INDEX('Jan'!O$9:O$39,DAY($A$9-1)))+1,0)) | P9: =IF($A9="","",IF(OR(G9=TRUE,G9="x"),N(INDEX('Jan'!P$9:P$39,DAY($A$9-1)))+1,0)) | Q9: =IF($A9="","",IF(OR(H9=TRUE,H9="x"),N(INDEX('Jan'!Q$9:Q$39,DAY($A$9-1)))+1,0))
A10: =IF(A9="","",IF(MONTH(A9+1)=2,A9+1,"")) | B10: =IF(A10="","",A10) | I10: =IF(A10="","",COUNTIF(C10:H10,TRUE)+COUNTIF(C10:H10,"x")) | L10: =IF($A10="","",IF(OR(C10=TRUE,C10="x"),N(L9)+1,0)) | M10: =IF($A10="","",IF(OR(D10=TRUE,D10="x"),N(M9)+1,0)) | N10: =IF($A10="","",IF(OR(E10=TRUE,E10="x"),N(N9)+1,0)) | O10: =IF($A10="","",IF(OR(F10=TRUE,F10="x"),N(O9)+1,0)) | P10: =IF($A10="","",IF(OR(G10=TRUE,G10="x"),N(P9)+1,0)) | Q10: =IF($A10="","",IF(OR(H10=TRUE,H10="x"),N(Q9)+1,0))
A11: =IF(A10="","",IF(MONTH(A10+1)=2,A10+1,"")) | B11: =IF(A11="","",A11) | I11: =IF(A11="","",COUNTIF(C11:H11,TRUE)+COUNTIF(C11:H11,"x")) | L11: =IF($A11="","",IF(OR(C11=TRUE,C11="x"),N(L10)+1,0)) | M11: =IF($A11="","",IF(OR(D11=TRUE,D11="x"),N(M10)+1,0)) | N11: =IF($A11="","",IF(OR(E11=TRUE,E11="x"),N(N10)+1,0)) | O11: =IF($A11="","",IF(OR(F11=TRUE,F11="x"),N(O10)+1,0)) | P11: =IF($A11="","",IF(OR(G11=TRUE,G11="x"),N(P10)+1,0)) | Q11: =IF($A11="","",IF(OR(H11=TRUE,H11="x"),N(Q10)+1,0))
A12: =IF(A11="","",IF(MONTH(A11+1)=2,A11+1,"")) | B12: =IF(A12="","",A12) | I12: =IF(A12="","",COUNTIF(C12:H12,TRUE)+COUNTIF(C12:H12,"x")) | L12: =IF($A12="","",IF(OR(C12=TRUE,C12="x"),N(L11)+1,0)) | M12: =IF($A12="","",IF(OR(D12=TRUE,D12="x"),N(M11)+1,0)) | N12: =IF($A12="","",IF(OR(E12=TRUE,E12="x"),N(N11)+1,0)) | O12: =IF($A12="","",IF(OR(F12=TRUE,F12="x"),N(O11)+1,0)) | P12: =IF($A12="","",IF(OR(G12=TRUE,G12="x"),N(P11)+1,0)) | Q12: =IF($A12="","",IF(OR(H12=TRUE,H12="x"),N(Q11)+1,0))
A13: =IF(A12="","",IF(MONTH(A12+1)=2,A12+1,"")) | B13: =IF(A13="","",A13) | I13: =IF(A13="","",COUNTIF(C13:H13,TRUE)+COUNTIF(C13:H13,"x")) | L13: =IF($A13="","",IF(OR(C13=TRUE,C13="x"),N(L12)+1,0)) | M13: =IF($A13="","",IF(OR(D13=TRUE,D13="x"),N(M12)+1,0)) | N13: =IF($A13="","",IF(OR(E13=TRUE,E13="x"),N(N12)+1,0)) | O13: =IF($A13="","",IF(OR(F13=TRUE,F13="x"),N(O12)+1,0)) | P13: =IF($A13="","",IF(OR(G13=TRUE,G13="x"),N(P12)+1,0)) | Q13: =IF($A13="","",IF(OR(H13=TRUE,H13="x"),N(Q12)+1,0))
A14: =IF(A13="","",IF(MONTH(A13+1)=2,A13+1,"")) | B14: =IF(A14="","",A14) | I14: =IF(A14="","",COUNTIF(C14:H14,TRUE)+COUNTIF(C14:H14,"x")) | L14: =IF($A14="","",IF(OR(C14=TRUE,C14="x"),N(L13)+1,0)) | M14: =IF($A14="","",IF(OR(D14=TRUE,D14="x"),N(M13)+1,0)) | N14: =IF($A14="","",IF(OR(E14=TRUE,E14="x"),N(N13)+1,0)) | O14: =IF($A14="","",IF(OR(F14=TRUE,F14="x"),N(O13)+1,0)) | P14: =IF($A14="","",IF(OR(G14=TRUE,G14="x"),N(P13)+1,0)) | Q14: =IF($A14="","",IF(OR(H14=TRUE,H14="x"),N(Q13)+1,0))
A15: =IF(A14="","",IF(MONTH(A14+1)=2,A14+1,"")) | B15: =IF(A15="","",A15) | I15: =IF(A15="","",COUNTIF(C15:H15,TRUE)+COUNTIF(C15:H15,"x")) | L15: =IF($A15="","",IF(OR(C15=TRUE,C15="x"),N(L14)+1,0)) | M15: =IF($A15="","",IF(OR(D15=TRUE,D15="x"),N(M14)+1,0)) | N15: =IF($A15="","",IF(OR(E15=TRUE,E15="x"),N(N14)+1,0)) | O15: =IF($A15="","",IF(OR(F15=TRUE,F15="x"),N(O14)+1,0)) | P15: =IF($A15="","",IF(OR(G15=TRUE,G15="x"),N(P14)+1,0)) | Q15: =IF($A15="","",IF(OR(H15=TRUE,H15="x"),N(Q14)+1,0))
A16: =IF(A15="","",IF(MONTH(A15+1)=2,A15+1,"")) | B16: =IF(A16="","",A16) | I16: =IF(A16="","",COUNTIF(C16:H16,TRUE)+COUNTIF(C16:H16,"x")) | L16: =IF($A16="","",IF(OR(C16=TRUE,C16="x"),N(L15)+1,0)) | M16: =IF($A16="","",IF(OR(D16=TRUE,D16="x"),N(M15)+1,0)) | N16: =IF($A16="","",IF(OR(E16=TRUE,E16="x"),N(N15)+1,0)) | O16: =IF($A16="","",IF(OR(F16=TRUE,F16="x"),N(O15)+1,0)) | P16: =IF($A16="","",IF(OR(G16=TRUE,G16="x"),N(P15)+1,0)) | Q16: =IF($A16="","",IF(OR(H16=TRUE,H16="x"),N(Q15)+1,0))
A17: =IF(A16="","",IF(MONTH(A16+1)=2,A16+1,"")) | B17: =IF(A17="","",A17) | I17: =IF(A17="","",COUNTIF(C17:H17,TRUE)+COUNTIF(C17:H17,"x")) | L17: =IF($A17="","",IF(OR(C17=TRUE,C17="x"),N(L16)+1,0)) | M17: =IF($A17="","",IF(OR(D17=TRUE,D17="x"),N(M16)+1,0)) | N17: =IF($A17="","",IF(OR(E17=TRUE,E17="x"),N(N16)+1,0)) | O17: =IF($A17="","",IF(OR(F17=TRUE,F17="x"),N(O16)+1,0)) | P17: =IF($A17="","",IF(OR(G17=TRUE,G17="x"),N(P16)+1,0)) | Q17: =IF($A17="","",IF(OR(H17=TRUE,H17="x"),N(Q16)+1,0))
A18: =IF(A17="","",IF(MONTH(A17+1)=2,A17+1,"")) | B18: =IF(A18="","",A18) | I18: =IF(A18="","",COUNTIF(C18:H18,TRUE)+COUNTIF(C18:H18,"x")) | L18: =IF($A18="","",IF(OR(C18=TRUE,C18="x"),N(L17)+1,0)) | M18: =IF($A18="","",IF(OR(D18=TRUE,D18="x"),N(M17)+1,0)) | N18: =IF($A18="","",IF(OR(E18=TRUE,E18="x"),N(N17)+1,0)) | O18: =IF($A18="","",IF(OR(F18=TRUE,F18="x"),N(O17)+1,0)) | P18: =IF($A18="","",IF(OR(G18=TRUE,G18="x"),N(P17)+1,0)) | Q18: =IF($A18="","",IF(OR(H18=TRUE,H18="x"),N(Q17)+1,0))
A19: =IF(A18="","",IF(MONTH(A18+1)=2,A18+1,"")) | B19: =IF(A19="","",A19) | I19: =IF(A19="","",COUNTIF(C19:H19,TRUE)+COUNTIF(C19:H19,"x")) | L19: =IF($A19="","",IF(OR(C19=TRUE,C19="x"),N(L18)+1,0)) | M19: =IF($A19="","",IF(OR(D19=TRUE,D19="x"),N(M18)+1,0)) | N19: =IF($A19="","",IF(OR(E19=TRUE,E19="x"),N(N18)+1,0)) | O19: =IF($A19="","",IF(OR(F19=TRUE,F19="x"),N(O18)+1,0)) | P19: =IF($A19="","",IF(OR(G19=TRUE,G19="x"),N(P18)+1,0)) | Q19: =IF($A19="","",IF(OR(H19=TRUE,H19="x"),N(Q18)+1,0))
A20: =IF(A19="","",IF(MONTH(A19+1)=2,A19+1,"")) | B20: =IF(A20="","",A20) | I20: =IF(A20="","",COUNTIF(C20:H20,TRUE)+COUNTIF(C20:H20,"x")) | L20: =IF($A20="","",IF(OR(C20=TRUE,C20="x"),N(L19)+1,0)) | M20: =IF($A20="","",IF(OR(D20=TRUE,D20="x"),N(M19)+1,0)) | N20: =IF($A20="","",IF(OR(E20=TRUE,E20="x"),N(N19)+1,0)) | O20: =IF($A20="","",IF(OR(F20=TRUE,F20="x"),N(O19)+1,0)) | P20: =IF($A20="","",IF(OR(G20=TRUE,G20="x"),N(P19)+1,0)) | Q20: =IF($A20="","",IF(OR(H20=TRUE,H20="x"),N(Q19)+1,0))
A21: =IF(A20="","",IF(MONTH(A20+1)=2,A20+1,"")) | B21: =IF(A21="","",A21) | I21: =IF(A21="","",COUNTIF(C21:H21,TRUE)+COUNTIF(C21:H21,"x")) | L21: =IF($A21="","",IF(OR(C21=TRUE,C21="x"),N(L20)+1,0)) | M21: =IF($A21="","",IF(OR(D21=TRUE,D21="x"),N(M20)+1,0)) | N21: =IF($A21="","",IF(OR(E21=TRUE,E21="x"),N(N20)+1,0)) | O21: =IF($A21="","",IF(OR(F21=TRUE,F21="x"),N(O20)+1,0)) | P21: =IF($A21="","",IF(OR(G21=TRUE,G21="x"),N(P20)+1,0)) | Q21: =IF($A21="","",IF(OR(H21=TRUE,H21="x"),N(Q20)+1,0))
... A39: =IF(A38="","",IF(MONTH(A38+1)=2,A38+1,"")) | B39: =IF(A39="","",A39) | I39: =IF(A39="","",COUNTIF(C39:H39,TRUE)+COUNTIF(C39:H39,"x")) | L39: =IF($A39="","",IF(OR(C39=TRUE,C39="x"),N(L38)+1,0)) | M39: =IF($A39="","",IF(OR(D39=TRUE,D39="x"),N(M38)+1,0)) | N39: =IF($A39="","",IF(OR(E39=TRUE,E39="x"),N(N38)+1,0)) | O39: =IF($A39="","",IF(OR(F39=TRUE,F39="x"),N(O38)+1,0)) | P39: =IF($A39="","",IF(OR(G39=TRUE,G39="x"),N(P38)+1,0)) | Q39: =IF($A39="","",IF(OR(H39=TRUE,H39="x"),N(Q38)+1,0))

Sheet Mar
A1: =DATE(Setup!$B$2,3,1)
A2: Days elapsed | B2: =IF(TODAY()<$A$9,0,MIN(TODAY(),MAX($A$9:$A$39))-$A$9+1)
A3: Current streak | C3: =IF(C$8="","",IF($B$2=0,0,IF(OR(INDEX(L$9:L$39,$B$2)>0,TODAY()>MAX($A$9:$A$39),$B$2=1),INDEX(L$9:L$39,$B$2),INDEX(L$9:L$39,$B$2-1)))) | D3: =IF(D$8="","",IF($B$2=0,0,IF(OR(INDEX(M$9:M$39,$B$2)>0,TODAY()>MAX($A$9:$A$39),$B$2=1),INDEX(M$9:M$39,$B$2),INDEX(M$9:M$39,$B$2-1)))) | E3: =IF(E$8="","",IF($B$2=0,0,IF(OR(INDEX(N$9:N$39,$B$2)>0,TODAY()>MAX($A$9:$A$39),$B$2=1),INDEX(N$9:N$39,$B$2),INDEX(N$9:N$39,$B$2-1)))) | F3: =IF(F$8="","",IF($B$2=0,0,IF(OR(INDEX(O$9:O$39,$B$2)>0,TODAY()>MAX($A$9:$A$39),$B$2=1),INDEX(O$9:O$39,$B$2),INDEX(O$9:O$39,$B$2-1)))) | G3: =IF(G$8="","",IF($B$2=0,0,IF(OR(INDEX(P$9:P$39,$B$2)>0,TODAY()>MAX($A$9:$A$39),$B$2=1),INDEX(P$9:P$39,$B$2),INDEX(P$9:P$39,$B$2-1)))) | H3: =IF(H$8="","",IF($B$2=0,0,IF(OR(INDEX(Q$9:Q$39,$B$2)>0,TODAY()>MAX($A$9:$A$39),$B$2=1),INDEX(Q$9:Q$39,$B$2),INDEX(Q$9:Q$39,$B$2-1))))
A4: Longest streak | C4: =IF(C$8="","",MAX(L$9:L$39)) | D4: =IF(D$8="","",MAX(M$9:M$39)) | E4: =IF(E$8="","",MAX(N$9:N$39)) | F4: =IF(F$8="","",MAX(O$9:O$39)) | G4: =IF(G$8="","",MAX(P$9:P$39)) | H4: =IF(H$8="","",MAX(Q$9:Q$39))
A5: Days done | C5: =IF(C$8="","",COUNTIF(C$9:C$39,TRUE)+COUNTIF(C$9:C$39,"x")) | D5: =IF(D$8="","",COUNTIF(D$9:D$39,TRUE)+COUNTIF(D$9:D$39,"x")) | E5: =IF(E$8="","",COUNTIF(E$9:E$39,TRUE)+COUNTIF(E$9:E$39,"x")) | F5: =IF(F$8="","",COUNTIF(F$9:F$39,TRUE)+COUNTIF(F$9:F$39,"x")) | G5: =IF(G$8="","",COUNTIF(G$9:G$39,TRUE)+COUNTIF(G$9:G$39,"x")) | H5: =IF(H$8="","",COUNTIF(H$9:H$39,TRUE)+COUNTIF(H$9:H$39,"x"))
A6: Completion | C6: =IF(OR(C$8="",$B$2=0),"",C5/$B$2) | D6: =IF(OR(D$8="",$B$2=0),"",D5/$B$2) | E6: =IF(OR(E$8="",$B$2=0),"",E5/$B$2) | F6: =IF(OR(F$8="",$B$2=0),"",F5/$B$2) | G6: =IF(OR(G$8="",$B$2=0),"",G5/$B$2) | H6: =IF(OR(H$8="",$B$2=0),"",H5/$B$2)
A7: Type x to tick a day. Completion divides by days elapsed, not by days in the month.
A8: Date | B8: Day | C8: =IF(Setup!$B$5="","",Setup!$B$5) | D8: =IF(Setup!$B$6="","",Setup!$B$6) | E8: =IF(Setup!$B$7="","",Setup!$B$7) | F8: =IF(Setup!$B$8="","",Setup!$B$8) | G8: =IF(Setup!$B$9="","",Setup!$B$9) | H8: =IF(Setup!$B$10="","",Setup!$B$10) | I8: Done today
A9: =$A$1 | B9: =IF(A9="","",A9) | I9: =IF(A9="","",COUNTIF(C9:H9,TRUE)+COUNTIF(C9:H9,"x")) | L9: =IF($A9="","",IF(OR(C9=TRUE,C9="x"),N(INDEX('Feb'!L$9:L$39,DAY($A$9-1)))+1,0)) | M9: =IF($A9="","",IF(OR(D9=TRUE,D9="x"),N(INDEX('Feb'!M$9:M$39,DAY($A$9-1)))+1,0)) | N9: =IF($A9="","",IF(OR(E9=TRUE,E9="x"),N(INDEX('Feb'!N$9:N$39,DAY($A$9-1)))+1,0)) | O9: =IF($A9="","",IF(OR(F9=TRUE,F9="x"),N(INDEX('Feb'!O$9:O$39,DAY($A$9-1)))+1,0)) | P9: =IF($A9="","",IF(OR(G9=TRUE,G9="x"),N(INDEX('Feb'!P$9:P$39,DAY($A$9-1)))+1,0)) | Q9: =IF($A9="","",IF(OR(H9=TRUE,H9="x"),N(INDEX('Feb'!Q$9:Q$39,DAY($A$9-1)))+1,0))
A10: =IF(A9="","",IF(MONTH(A9+1)=3,A9+1,"")) | B10: =IF(A10="","",A10) | I10: =IF(A10="","",COUNTIF(C10:H10,TRUE)+COUNTIF(C10:H10,"x")) | L10: =IF($A10="","",IF(OR(C10=TRUE,C10="x"),N(L9)+1,0)) | M10: =IF($A10="","",IF(OR(D10=TRUE,D10="x"),N(M9)+1,0)) | N10: =IF($A10="","",IF(OR(E10=TRUE,E10="x"),N(N9)+1,0)) | O10: =IF($A10="","",IF(OR(F10=TRUE,F10="x"),N(O9)+1,0)) | P10: =IF($A10="","",IF(OR(G10=TRUE,G10="x"),N(P9)+1,0)) | Q10: =IF($A10="","",IF(OR(H10=TRUE,H10="x"),N(Q9)+1,0))
A11: =IF(A10="","",IF(MONTH(A10+1)=3,A10+1,"")) | B11: =IF(A11="","",A11) | I11: =IF(A11="","",COUNTIF(C11:H11,TRUE)+COUNTIF(C11:H11,"x")) | L11: =IF($A11="","",IF(OR(C11=TRUE,C11="x"),N(L10)+1,0)) | M11: =IF($A11="","",IF(OR(D11=TRUE,D11="x"),N(M10)+1,0)) | N11: =IF($A11="","",IF(OR(E11=TRUE,E11="x"),N(N10)+1,0)) | O11: =IF($A11="","",IF(OR(F11=TRUE,F11="x"),N(O10)+1,0)) | P11: =IF($A11="","",IF(OR(G11=TRUE,G11="x"),N(P10)+1,0)) | Q11: =IF($A11="","",IF(OR(H11=TRUE,H11="x"),N(Q10)+1,0))
A12: =IF(A11="","",IF(MONTH(A11+1)=3,A11+1,"")) | B12: =IF(A12="","",A12) | I12: =IF(A12="","",COUNTIF(C12:H12,TRUE)+COUNTIF(C12:H12,"x")) | L12: =IF($A12="","",IF(OR(C12=TRUE,C12="x"),N(L11)+1,0)) | M12: =IF($A12="","",IF(OR(D12=TRUE,D12="x"),N(M11)+1,0)) | N12: =IF($A12="","",IF(OR(E12=TRUE,E12="x"),N(N11)+1,0)) | O12: =IF($A12="","",IF(OR(F12=TRUE,F12="x"),N(O11)+1,0)) | P12: =IF($A12="","",IF(OR(G12=TRUE,G12="x"),N(P11)+1,0)) | Q12: =IF($A12="","",IF(OR(H12=TRUE,H12="x"),N(Q11)+1,0))
A13: =IF(A12="","",IF(MONTH(A12+1)=3,A12+1,"")) | B13: =IF(A13="","",A13) | I13: =IF(A13="","",COUNTIF(C13:H13,TRUE)+COUNTIF(C13:H13,"x")) | L13: =IF($A13="","",IF(OR(C13=TRUE,C13="x"),N(L12)+1,0)) | M13: =IF($A13="","",IF(OR(D13=TRUE,D13="x"),N(M12)+1,0)) | N13: =IF($A13="","",IF(OR(E13=TRUE,E13="x"),N(N12)+1,0)) | O13: =IF($A13="","",IF(OR(F13=TRUE,F13="x"),N(O12)+1,0)) | P13: =IF($A13="","",IF(OR(G13=TRUE,G13="x"),N(P12)+1,0)) | Q13: =IF($A13="","",IF(OR(H13=TRUE,H13="x"),N(Q12)+1,0))
A14: =IF(A13="","",IF(MONTH(A13+1)=3,A13+1,"")) | B14: =IF(A14="","",A14) | I14: =IF(A14="","",COUNTIF(C14:H14,TRUE)+COUNTIF(C14:H14,"x")) | L14: =IF($A14="","",IF(OR(C14=TRUE,C14="x"),N(L13)+1,0)) | M14: =IF($A14="","",IF(OR(D14=TRUE,D14="x"),N(M13)+1,0)) | N14: =IF($A14="","",IF(OR(E14=TRUE,E14="x"),N(N13)+1,0)) | O14: =IF($A14="","",IF(OR(F14=TRUE,F14="x"),N(O13)+1,0)) | P14: =IF($A14="","",IF(OR(G14=TRUE,G14="x"),N(P13)+1,0)) | Q14: =IF($A14="","",IF(OR(H14=TRUE,H14="x"),N(Q13)+1,0))
A15: =IF(A14="","",IF(MONTH(A14+1)=3,A14+1,"")) | B15: =IF(A15="","",A15) | I15: =IF(A15="","",COUNTIF(C15:H15,TRUE)+COUNTIF(C15:H15,"x")) | L15: =IF($A15="","",IF(OR(C15=TRUE,C15="x"),N(L14)+1,0)) | M15: =IF($A15="","",IF(OR(D15=TRUE,D15="x"),N(M14)+1,0)) | N15: =IF($A15="","",IF(OR(E15=TRUE,E15="x"),N(N14)+1,0)) | O15: =IF($A15="","",IF(OR(F15=TRUE,F15="x"),N(O14)+1,0)) | P15: =IF($A15="","",IF(OR(G15=TRUE,G15="x"),N(P14)+1,0)) | Q15: =IF($A15="","",IF(OR(H15=TRUE,H15="x"),N(Q14)+1,0))
A16: =IF(A15="","",IF(MONTH(A15+1)=3,A15+1,"")) | B16: =IF(A16="","",A16) | I16: =IF(A16="","",COUNTIF(C16:H16,TRUE)+COUNTIF(C16:H16,"x")) | L16: =IF($A16="","",IF(OR(C16=TRUE,C16="x"),N(L15)+1,0)) | M16: =IF($A16="","",IF(OR(D16=TRUE,D16="x"),N(M15)+1,0)) | N16: =IF($A16="","",IF(OR(E16=TRUE,E16="x"),N(N15)+1,0)) | O16: =IF($A16="","",IF(OR(F16=TRUE,F16="x"),N(O15)+1,0)) | P16: =IF($A16="","",IF(OR(G16=TRUE,G16="x"),N(P15)+1,0)) | Q16: =IF($A16="","",IF(OR(H16=TRUE,H16="x"),N(Q15)+1,0))
A17: =IF(A16="","",IF(MONTH(A16+1)=3,A16+1,"")) | B17: =IF(A17="","",A17) | I17: =IF(A17="","",COUNTIF(C17:H17,TRUE)+COUNTIF(C17:H17,"x")) | L17: =IF($A17="","",IF(OR(C17=TRUE,C17="x"),N(L16)+1,0)) | M17: =IF($A17="","",IF(OR(D17=TRUE,D17="x"),N(M16)+1,0)) | N17: =IF($A17="","",IF(OR(E17=TRUE,E17="x"),N(N16)+1,0)) | O17: =IF($A17="","",IF(OR(F17=TRUE,F17="x"),N(O16)+1,0)) | P17: =IF($A17="","",IF(OR(G17=TRUE,G17="x"),N(P16)+1,0)) | Q17: =IF($A17="","",IF(OR(H17=TRUE,H17="x"),N(Q16)+1,0))
A18: =IF(A17="","",IF(MONTH(A17+1)=3,A17+1,"")) | B18: =IF(A18="","",A18) | I18: =IF(A18="","",COUNTIF(C18:H18,TRUE)+COUNTIF(C18:H18,"x")) | L18: =IF($A18="","",IF(OR(C18=TRUE,C18="x"),N(L17)+1,0)) | M18: =IF($A18="","",IF(OR(D18=TRUE,D18="x"),N(M17)+1,0)) | N18: =IF($A18="","",IF(OR(E18=TRUE,E18="x"),N(N17)+1,0)) | O18: =IF($A18="","",IF(OR(F18=TRUE,F18="x"),N(O17)+1,0)) | P18: =IF($A18="","",IF(OR(G18=TRUE,G18="x"),N(P17)+1,0)) | Q18: =IF($A18="","",IF(OR(H18=TRUE,H18="x"),N(Q17)+1,0))
A19: =IF(A18="","",IF(MONTH(A18+1)=3,A18+1,"")) | B19: =IF(A19="","",A19) | I19: =IF(A19="","",COUNTIF(C19:H19,TRUE)+COUNTIF(C19:H19,"x")) | L19: =IF($A19="","",IF(OR(C19=TRUE,C19="x"),N(L18)+1,0)) | M19: =IF($A19="","",IF(OR(D19=TRUE,D19="x"),N(M18)+1,0)) | N19: =IF($A19="","",IF(OR(E19=TRUE,E19="x"),N(N18)+1,0)) | O19: =IF($A19="","",IF(OR(F19=TRUE,F19="x"),N(O18)+1,0)) | P19: =IF($A19="","",IF(OR(G19=TRUE,G19="x"),N(P18)+1,0)) | Q19: =IF($A19="","",IF(OR(H19=TRUE,H19="x"),N(Q18)+1,0))
A20: =IF(A19="","",IF(MONTH(A19+1)=3,A19+1,"")) | B20: =IF(A20="","",A20) | I20: =IF(A20="","",COUNTIF(C20:H20,TRUE)+COUNTIF(C20:H20,"x")) | L20: =IF($A20="","",IF(OR(C20=TRUE,C20="x"),N(L19)+1,0)) | M20: =IF($A20="","",IF(OR(D20=TRUE,D20="x"),N(M19)+1,0)) | N20: =IF($A20="","",IF(OR(E20=TRUE,E20="x"),N(N19)+1,0)) | O20: =IF($A20="","",IF(OR(F20=TRUE,F20="x"),N(O19)+1,0)) | P20: =IF($A20="","",IF(OR(G20=TRUE,G20="x"),N(P19)+1,0)) | Q20: =IF($A20="","",IF(OR(H20=TRUE,H20="x"),N(Q19)+1,0))
A21: =IF(A20="","",IF(MONTH(A20+1)=3,A20+1,"")) | B21: =IF(A21="","",A21) | I21: =IF(A21="","",COUNTIF(C21:H21,TRUE)+COUNTIF(C21:H21,"x")) | L21: =IF($A21="","",IF(OR(C21=TRUE,C21="x"),N(L20)+1,0)) | M21: =IF($A21="","",IF(OR(D21=TRUE,D21="x"),N(M20)+1,0)) | N21: =IF($A21="","",IF(OR(E21=TRUE,E21="x"),N(N20)+1,0)) | O21: =IF($A21="","",IF(OR(F21=TRUE,F21="x"),N(O20)+1,0)) | P21: =IF($A21="","",IF(OR(G21=TRUE,G21="x"),N(P20)+1,0)) | Q21: =IF($A21="","",IF(OR(H21=TRUE,H21="x"),N(Q20)+1,0))
... A39: =IF(A38="","",IF(MONTH(A38+1)=3,A38+1,"")) | B39: =IF(A39="","",A39) | I39: =IF(A39="","",COUNTIF(C39:H39,TRUE)+COUNTIF(C39:H39,"x")) | L39: =IF($A39="","",IF(OR(C39=TRUE,C39="x"),N(L38)+1,0)) | M39: =IF($A39="","",IF(OR(D39=TRUE,D39="x"),N(M38)+1,0)) | N39: =IF($A39="","",IF(OR(E39=TRUE,E39="x"),N(N38)+1,0)) | O39: =IF($A39="","",IF(OR(F39=TRUE,F39="x"),N(O38)+1,0)) | P39: =IF($A39="","",IF(OR(G39=TRUE,G39="x"),N(P38)+1,0)) | Q39: =IF($A39="","",IF(OR(H39=TRUE,H39="x"),N(Q38)+1,0))

Sheet Apr
A1: =DATE(Setup!$B$2,4,1)
A2: Days elapsed | B2: =IF(TODAY()<$A$9,0,MIN(TODAY(),MAX($A$9:$A$39))-$A$9+1)
A3: Current streak | C3: =IF(C$8="","",IF($B$2=0,0,IF(OR(INDEX(L$9:L$39,$B$2)>0,TODAY()>MAX($A$9:$A$39),$B$2=1),INDEX(L$9:L$39,$B$2),INDEX(L$9:L$39,$B$2-1)))) | D3: =IF(D$8="","",IF($B$2=0,0,IF(OR(INDEX(M$9:M$39,$B$2)>0,TODAY()>MAX($A$9:$A$39),$B$2=1),INDEX(M$9:M$39,$B$2),INDEX(M$9:M$39,$B$2-1)))) | E3: =IF(E$8="","",IF($B$2=0,0,IF(OR(INDEX(N$9:N$39,$B$2)>0,TODAY()>MAX($A$9:$A$39),$B$2=1),INDEX(N$9:N$39,$B$2),INDEX(N$9:N$39,$B$2-1)))) | F3: =IF(F$8="","",IF($B$2=0,0,IF(OR(INDEX(O$9:O$39,$B$2)>0,TODAY()>MAX($A$9:$A$39),$B$2=1),INDEX(O$9:O$39,$B$2),INDEX(O$9:O$39,$B$2-1)))) | G3: =IF(G$8="","",IF($B$2=0,0,IF(OR(INDEX(P$9:P$39,$B$2)>0,TODAY()>MAX($A$9:$A$39),$B$2=1),INDEX(P$9:P$39,$B$2),INDEX(P$9:P$39,$B$2-1)))) | H3: =IF(H$8="","",IF($B$2=0,0,IF(OR(INDEX(Q$9:Q$39,$B$2)>0,TODAY()>MAX($A$9:$A$39),$B$2=1),INDEX(Q$9:Q$39,$B$2),INDEX(Q$9:Q$39,$B$2-1))))
A4: Longest streak | C4: =IF(C$8="","",MAX(L$9:L$39)) | D4: =IF(D$8="","",MAX(M$9:M$39)) | E4: =IF(E$8="","",MAX(N$9:N$39)) | F4: =IF(F$8="","",MAX(O$9:O$39)) | G4: =IF(G$8="","",MAX(P$9:P$39)) | H4: =IF(H$8="","",MAX(Q$9:Q$39))
A5: Days done | C5: =IF(C$8="","",COUNTIF(C$9:C$39,TRUE)+COUNTIF(C$9:C$39,"x")) | D5: =IF(D$8="","",COUNTIF(D$9:D$39,TRUE)+COUNTIF(D$9:D$39,"x")) | E5: =IF(E$8="","",COUNTIF(E$9:E$39,TRUE)+COUNTIF(E$9:E$39,"x")) | F5: =IF(F$8="","",COUNTIF(F$9:F$39,TRUE)+COUNTIF(F$9:F$39,"x")) | G5: =IF(G$8="","",COUNTIF(G$9:G$39,TRUE)+COUNTIF(G$9:G$39,"x")) | H5: =IF(H$8="","",COUNTIF(H$9:H$39,TRUE)+COUNTIF(H$9:H$39,"x"))
A6: Completion | C6: =IF(OR(C$8="",$B$2=0),"",C5/$B$2) | D6: =IF(OR(D$8="",$B$2=0),"",D5/$B$2) | E6: =IF(OR(E$8="",$B$2=0),"",E5/$B$2) | F6: =IF(OR(F$8="",$B$2=0),"",F5/$B$2) | G6: =IF(OR(G$8="",$B$2=0),"",G5/$B$2) | H6: =IF(OR(H$8="",$B$2=0),"",H5/$B$2)
A7: Type x to tick a day. Completion divides by days elapsed, not by days in the month.
A8: Date | B8: Day | C8: =IF(Setup!$B$5="","",Setup!$B$5) | D8: =IF(Setup!$B$6="","",Setup!$B$6) | E8: =IF(Setup!$B$7="","",Setup!$B$7) | F8: =IF(Setup!$B$8="","",Setup!$B$8) | G8: =IF(Setup!$B$9="","",Setup!$B$9) | H8: =IF(Setup!$B$10="","",Setup!$B$10) | I8: Done today
A9: =$A$1 | B9: =IF(A9="","",A9) | I9: =IF(A9="","",COUNTIF(C9:H9,TRUE)+COUNTIF(C9:H9,"x")) | L9: =IF($A9="","",IF(OR(C9=TRUE,C9="x"),N(INDEX('Mar'!L$9:L$39,DAY($A$9-1)))+1,0)) | M9: =IF($A9="","",IF(OR(D9=TRUE,D9="x"),N(INDEX('Mar'!M$9:M$39,DAY($A$9-1)))+1,0)) | N9: =IF($A9="","",IF(OR(E9=TRUE,E9="x"),N(INDEX('Mar'!N$9:N$39,DAY($A$9-1)))+1,0)) | O9: =IF($A9="","",IF(OR(F9=TRUE,F9="x"),N(INDEX('Mar'!O$9:O$39,DAY($A$9-1)))+1,0)) | P9: =IF($A9="","",IF(OR(G9=TRUE,G9="x"),N(INDEX('Mar'!P$9:P$39,DAY($A$9-1)))+1,0)) | Q9: =IF($A9="","",IF(OR(H9=TRUE,H9="x"),N(INDEX('Mar'!Q$9:Q$39,DAY($A$9-1)))+1,0))
A10: =IF(A9="","",IF(MONTH(A9+1)=4,A9+1,"")) | B10: =IF(A10="","",A10) | I10: =IF(A10="","",COUNTIF(C10:H10,TRUE)+COUNTIF(C10:H10,"x")) | L10: =IF($A10="","",IF(OR(C10=TRUE,C10="x"),N(L9)+1,0)) | M10: =IF($A10="","",IF(OR(D10=TRUE,D10="x"),N(M9)+1,0)) | N10: =IF($A10="","",IF(OR(E10=TRUE,E10="x"),N(N9)+1,0)) | O10: =IF($A10="","",IF(OR(F10=TRUE,F10="x"),N(O9)+1,0)) | P10: =IF($A10="","",IF(OR(G10=TRUE,G10="x"),N(P9)+1,0)) | Q10: =IF($A10="","",IF(OR(H10=TRUE,H10="x"),N(Q9)+1,0))
A11: =IF(A10="","",IF(MONTH(A10+1)=4,A10+1,"")) | B11: =IF(A11="","",A11) | I11: =IF(A11="","",COUNTIF(C11:H11,TRUE)+COUNTIF(C11:H11,"x")) | L11: =IF($A11="","",IF(OR(C11=TRUE,C11="x"),N(L10)+1,0)) | M11: =IF($A11="","",IF(OR(D11=TRUE,D11="x"),N(M10)+1,0)) | N11: =IF($A11="","",IF(OR(E11=TRUE,E11="x"),N(N10)+1,0)) | O11: =IF($A11="","",IF(OR(F11=TRUE,F11="x"),N(O10)+1,0)) | P11: =IF($A11="","",IF(OR(G11=TRUE,G11="x"),N(P10)+1,0)) | Q11: =IF($A11="","",IF(OR(H11=TRUE,H11="x"),N(Q10)+1,0))
A12: =IF(A11="","",IF(MONTH(A11+1)=4,A11+1,"")) | B12: =IF(A12="","",A12) | I12: =IF(A12="","",COUNTIF(C12:H12,TRUE)+COUNTIF(C12:H12,"x")) | L12: =IF($A12="","",IF(OR(C12=TRUE,C12="x"),N(L11)+1,0)) | M12: =IF($A12="","",IF(OR(D12=TRUE,D12="x"),N(M11)+1,0)) | N12: =IF($A12="","",IF(OR(E12=TRUE,E12="x"),N(N11)+1,0)) | O12: =IF($A12="","",IF(OR(F12=TRUE,F12="x"),N(O11)+1,0)) | P12: =IF($A12="","",IF(OR(G12=TRUE,G12="x"),N(P11)+1,0)) | Q12: =IF($A12="","",IF(OR(H12=TRUE,H12="x"),N(Q11)+1,0))
A13: =IF(A12="","",IF(MONTH(A12+1)=4,A12+1,"")) | B13: =IF(A13="","",A13) | I13: =IF(A13="","",COUNTIF(C13:H13,TRUE)+COUNTIF(C13:H13,"x")) | L13: =IF($A13="","",IF(OR(C13=TRUE,C13="x"),N(L12)+1,0)) | M13: =IF($A13="","",IF(OR(D13=TRUE,D13="x"),N(M12)+1,0)) | N13: =IF($A13="","",IF(OR(E13=TRUE,E13="x"),N(N12)+1,0)) | O13: =IF($A13="","",IF(OR(F13=TRUE,F13="x"),N(O12)+1,0)) | P13: =IF($A13="","",IF(OR(G13=TRUE,G13="x"),N(P12)+1,0)) | Q13: =IF($A13="","",IF(OR(H13=TRUE,H13="x"),N(Q12)+1,0))
A14: =IF(A13="","",IF(MONTH(A13+1)=4,A13+1,"")) | B14: =IF(A14="","",A14) | I14: =IF(A14="","",COUNTIF(C14:H14,TRUE)+COUNTIF(C14:H14,"x")) | L14: =IF($A14="","",IF(OR(C14=TRUE,C14="x"),N(L13)+1,0)) | M14: =IF($A14="","",IF(OR(D14=TRUE,D14="x"),N(M13)+1,0)) | N14: =IF($A14="","",IF(OR(E14=TRUE,E14="x"),N(N13)+1,0)) | O14: =IF($A14="","",IF(OR(F14=TRUE,F14="x"),N(O13)+1,0)) | P14: =IF($A14="","",IF(OR(G14=TRUE,G14="x"),N(P13)+1,0)) | Q14: =IF($A14="","",IF(OR(H14=TRUE,H14="x"),N(Q13)+1,0))
A15: =IF(A14="","",IF(MONTH(A14+1)=4,A14+1,"")) | B15: =IF(A15="","",A15) | I15: =IF(A15="","",COUNTIF(C15:H15,TRUE)+COUNTIF(C15:H15,"x")) | L15: =IF($A15="","",IF(OR(C15=TRUE,C15="x"),N(L14)+1,0)) | M15: =IF($A15="","",IF(OR(D15=TRUE,D15="x"),N(M14)+1,0)) | N15: =IF($A15="","",IF(OR(E15=TRUE,E15="x"),N(N14)+1,0)) | O15: =IF($A15="","",IF(OR(F15=TRUE,F15="x"),N(O14)+1,0)) | P15: =IF($A15="","",IF(OR(G15=TRUE,G15="x"),N(P14)+1,0)) | Q15: =IF($A15="","",IF(OR(H15=TRUE,H15="x"),N(Q14)+1,0))
A16: =IF(A15="","",IF(MONTH(A15+1)=4,A15+1,"")) | B16: =IF(A16="","",A16) | I16: =IF(A16="","",COUNTIF(C16:H16,TRUE)+COUNTIF(C16:H16,"x")) | L16: =IF($A16="","",IF(OR(C16=TRUE,C16="x"),N(L15)+1,0)) | M16: =IF($A16="","",IF(OR(D16=TRUE,D16="x"),N(M15)+1,0)) | N16: =IF($A16="","",IF(OR(E16=TRUE,E16="x"),N(N15)+1,0)) | O16: =IF($A16="","",IF(OR(F16=TRUE,F16="x"),N(O15)+1,0)) | P16: =IF($A16="","",IF(OR(G16=TRUE,G16="x"),N(P15)+1,0)) | Q16: =IF($A16="","",IF(OR(H16=TRUE,H16="x"),N(Q15)+1,0))
A17: =IF(A16="","",IF(MONTH(A16+1)=4,A16+1,"")) | B17: =IF(A17="","",A17) | I17: =IF(A17="","",COUNTIF(C17:H17,TRUE)+COUNTIF(C17:H17,"x")) | L17: =IF($A17="","",IF(OR(C17=TRUE,C17="x"),N(L16)+1,0)) | M17: =IF($A17="","",IF(OR(D17=TRUE,D17="x"),N(M16)+1,0)) | N17: =IF($A17="","",IF(OR(E17=TRUE,E17="x"),N(N16)+1,0)) | O17: =IF($A17="","",IF(OR(F17=TRUE,F17="x"),N(O16)+1,0)) | P17: =IF($A17="","",IF(OR(G17=TRUE,G17="x"),N(P16)+1,0)) | Q17: =IF($A17="","",IF(OR(H17=TRUE,H17="x"),N(Q16)+1,0))
A18: =IF(A17="","",IF(MONTH(A17+1)=4,A17+1,"")) | B18: =IF(A18="","",A18) | I18: =IF(A18="","",COUNTIF(C18:H18,TRUE)+COUNTIF(C18:H18,"x")) | L18: =IF($A18="","",IF(OR(C18=TRUE,C18="x"),N(L17)+1,0)) | M18: =IF($A18="","",IF(OR(D18=TRUE,D18="x"),N(M17)+1,0)) | N18: =IF($A18="","",IF(OR(E18=TRUE,E18="x"),N(N17)+1,0)) | O18: =IF($A18="","",IF(OR(F18=TRUE,F18="x"),N(O17)+1,0)) | P18: =IF($A18="","",IF(OR(G18=TRUE,G18="x"),N(P17)+1,0)) | Q18: =IF($A18="","",IF(OR(H18=TRUE,H18="x"),N(Q17)+1,0))
A19: =IF(A18="","",IF(MONTH(A18+1)=4,A18+1,"")) | B19: =IF(A19="","",A19) | I19: =IF(A19="","",COUNTIF(C19:H19,TRUE)+COUNTIF(C19:H19,"x")) | L19: =IF($A19="","",IF(OR(C19=TRUE,C19="x"),N(L18)+1,0)) | M19: =IF($A19="","",IF(OR(D19=TRUE,D19="x"),N(M18)+1,0)) | N19: =IF($A19="","",IF(OR(E19=TRUE,E19="x"),N(N18)+1,0)) | O19: =IF($A19="","",IF(OR(F19=TRUE,F19="x"),N(O18)+1,0)) | P19: =IF($A19="","",IF(OR(G19=TRUE,G19="x"),N(P18)+1,0)) | Q19: =IF($A19="","",IF(OR(H19=TRUE,H19="x"),N(Q18)+1,0))
A20: =IF(A19="","",IF(MONTH(A19+1)=4,A19+1,"")) | B20: =IF(A20="","",A20) | I20: =IF(A20="","",COUNTIF(C20:H20,TRUE)+COUNTIF(C20:H20,"x")) | L20: =IF($A20="","",IF(OR(C20=TRUE,C20="x"),N(L19)+1,0)) | M20: =IF($A20="","",IF(OR(D20=TRUE,D20="x"),N(M19)+1,0)) | N20: =IF($A20="","",IF(OR(E20=TRUE,E20="x"),N(N19)+1,0)) | O20: =IF($A20="","",IF(OR(F20=TRUE,F20="x"),N(O19)+1,0)) | P20: =IF($A20="","",IF(OR(G20=TRUE,G20="x"),N(P19)+1,0)) | Q20: =IF($A20="","",IF(OR(H20=TRUE,H20="x"),N(Q19)+1,0))
A21: =IF(A20="","",IF(MONTH(A20+1)=4,A20+1,"")) | B21: =IF(A21="","",A21) | I21: =IF(A21="","",COUNTIF(C21:H21,TRUE)+COUNTIF(C21:H21,"x")) | L21: =IF($A21="","",IF(OR(C21=TRUE,C21="x"),N(L20)+1,0)) | M21: =IF($A21="","",IF(OR(D21=TRUE,D21="x"),N(M20)+1,0)) | N21: =IF($A21="","",IF(OR(E21=TRUE,E21="x"),N(N20)+1,0)) | O21: =IF($A21="","",IF(OR(F21=TRUE,F21="x"),N(O20)+1,0)) | P21: =IF($A21="","",IF(OR(G21=TRUE,G21="x"),N(P20)+1,0)) | Q21: =IF($A21="","",IF(OR(H21=TRUE,H21="x"),N(Q20)+1,0))
... A39: =IF(A38="","",IF(MONTH(A38+1)=4,A38+1,"")) | B39: =IF(A39="","",A39) | I39: =IF(A39="","",COUNTIF(C39:H39,TRUE)+COUNTIF(C39:H39,"x")) | L39: =IF($A39="","",IF(OR(C39=TRUE,C39="x"),N(L38)+1,0)) | M39: =IF($A39="","",IF(OR(D39=TRUE,D39="x"),N(M38)+1,0)) | N39: =IF($A39="","",IF(OR(E39=TRUE,E39="x"),N(N38)+1,0)) | O39: =IF($A39="","",IF(OR(F39=TRUE,F39="x"),N(O38)+1,0)) | P39: =IF($A39="","",IF(OR(G39=TRUE,G39="x"),N(P38)+1,0)) | Q39: =IF($A39="","",IF(OR(H39=TRUE,H39="x"),N(Q38)+1,0))

Sheet May
A1: =DATE(Setup!$B$2,5,1)
A2: Days elapsed | B2: =IF(TODAY()<$A$9,0,MIN(TODAY(),MAX($A$9:$A$39))-$A$9+1)
A3: Current streak | C3: =IF(C$8="","",IF($B$2=0,0,IF(OR(INDEX(L$9:L$39,$B$2)>0,TODAY()>MAX($A$9:$A$39),$B$2=1),INDEX(L$9:L$39,$B$2),INDEX(L$9:L$39,$B$2-1)))) | D3: =IF(D$8="","",IF($B$2=0,0,IF(OR(INDEX(M$9:M$39,$B$2)>0,TODAY()>MAX($A$9:$A$39),$B$2=1),INDEX(M$9:M$39,$B$2),INDEX(M$9:M$39,$B$2-1)))) | E3: =IF(E$8="","",IF($B$2=0,0,IF(OR(INDEX(N$9:N$39,$B$2)>0,TODAY()>MAX($A$9:$A$39),$B$2=1),INDEX(N$9:N$39,$B$2),INDEX(N$9:N$39,$B$2-1)))) | F3: =IF(F$8="","",IF($B$2=0,0,IF(OR(INDEX(O$9:O$39,$B$2)>0,TODAY()>MAX($A$9:$A$39),$B$2=1),INDEX(O$9:O$39,$B$2),INDEX(O$9:O$39,$B$2-1)))) | G3: =IF(G$8="","",IF($B$2=0,0,IF(OR(INDEX(P$9:P$39,$B$2)>0,TODAY()>MAX($A$9:$A$39),$B$2=1),INDEX(P$9:P$39,$B$2),INDEX(P$9:P$39,$B$2-1)))) | H3: =IF(H$8="","",IF($B$2=0,0,IF(OR(INDEX(Q$9:Q$39,$B$2)>0,TODAY()>MAX($A$9:$A$39),$B$2=1),INDEX(Q$9:Q$39,$B$2),INDEX(Q$9:Q$39,$B$2-1))))
A4: Longest streak | C4: =IF(C$8="","",MAX(L$9:L$39)) | D4: =IF(D$8="","",MAX(M$9:M$39)) | E4: =IF(E$8="","",MAX(N$9:N$39)) | F4: =IF(F$8="","",MAX(O$9:O$39)) | G4: =IF(G$8="","",MAX(P$9:P$39)) | H4: =IF(H$8="","",MAX(Q$9:Q$39))
A5: Days done | C5: =IF(C$8="","",COUNTIF(C$9:C$39,TRUE)+COUNTIF(C$9:C$39,"x")) | D5: =IF(D$8="","",COUNTIF(D$9:D$39,TRUE)+COUNTIF(D$9:D$39,"x")) | E5: =IF(E$8="","",COUNTIF(E$9:E$39,TRUE)+COUNTIF(E$9:E$39,"x")) | F5: =IF(F$8="","",COUNTIF(F$9:F$39,TRUE)+COUNTIF(F$9:F$39,"x")) | G5: =IF(G$8="","",COUNTIF(G$9:G$39,TRUE)+COUNTIF(G$9:G$39,"x")) | H5: =IF(H$8="","",COUNTIF(H$9:H$39,TRUE)+COUNTIF(H$9:H$39,"x"))
A6: Completion | C6: =IF(OR(C$8="",$B$2=0),"",C5/$B$2) | D6: =IF(OR(D$8="",$B$2=0),"",D5/$B$2) | E6: =IF(OR(E$8="",$B$2=0),"",E5/$B$2) | F6: =IF(OR(F$8="",$B$2=0),"",F5/$B$2) | G6: =IF(OR(G$8="",$B$2=0),"",G5/$B$2) | H6: =IF(OR(H$8="",$B$2=0),"",H5/$B$2)
A7: Type x to tick a day. Completion divides by days elapsed, not by days in the month.
A8: Date | B8: Day | C8: =IF(Setup!$B$5="","",Setup!$B$5) | D8: =IF(Setup!$B$6="","",Setup!$B$6) | E8: =IF(Setup!$B$7="","",Setup!$B$7) | F8: =IF(Setup!$B$8="","",Setup!$B$8) | G8: =IF(Setup!$B$9="","",Setup!$B$9) | H8: =IF(Setup!$B$10="","",Setup!$B$10) | I8: Done today
A9: =$A$1 | B9: =IF(A9="","",A9) | I9: =IF(A9="","",COUNTIF(C9:H9,TRUE)+COUNTIF(C9:H9,"x")) | L9: =IF($A9="","",IF(OR(C9=TRUE,C9="x"),N(INDEX('Apr'!L$9:L$39,DAY($A$9-1)))+1,0)) | M9: =IF($A9="","",IF(OR(D9=TRUE,D9="x"),N(INDEX('Apr'!M$9:M$39,DAY($A$9-1)))+1,0)) | N9: =IF($A9="","",IF(OR(E9=TRUE,E9="x"),N(INDEX('Apr'!N$9:N$39,DAY($A$9-1)))+1,0)) | O9: =IF($A9="","",IF(OR(F9=TRUE,F9="x"),N(INDEX('Apr'!O$9:O$39,DAY($A$9-1)))+1,0)) | P9: =IF($A9="","",IF(OR(G9=TRUE,G9="x"),N(INDEX('Apr'!P$9:P$39,DAY($A$9-1)))+1,0)) | Q9: =IF($A9="","",IF(OR(H9=TRUE,H9="x"),N(INDEX('Apr'!Q$9:Q$39,DAY($A$9-1)))+1,0))
A10: =IF(A9="","",IF(MONTH(A9+1)=5,A9+1,"")) | B10: =IF(A10="","",A10) | I10: =IF(A10="","",COUNTIF(C10:H10,TRUE)+COUNTIF(C10:H10,"x")) | L10: =IF($A10="","",IF(OR(C10=TRUE,C10="x"),N(L9)+1,0)) | M10: =IF($A10="","",IF(OR(D10=TRUE,D10="x"),N(M9)+1,0)) | N10: =IF($A10="","",IF(OR(E10=TRUE,E10="x"),N(N9)+1,0)) | O10: =IF($A10="","",IF(OR(F10=TRUE,F10="x"),N(O9)+1,0)) | P10: =IF($A10="","",IF(OR(G10=TRUE,G10="x"),N(P9)+1,0)) | Q10: =IF($A10="","",IF(OR(H10=TRUE,H10="x"),N(Q9)+1,0))
A11: =IF(A10="","",IF(MONTH(A10+1)=5,A10+1,"")) | B11: =IF(A11="","",A11) | I11: =IF(A11="","",COUNTIF(C11:H11,TRUE)+COUNTIF(C11:H11,"x")) | L11: =IF($A11="","",IF(OR(C11=TRUE,C11="x"),N(L10)+1,0)) | M11: =IF($A11="","",IF(OR(D11=TRUE,D11="x"),N(M10)+1,0)) | N11: =IF($A11="","",IF(OR(E11=TRUE,E11="x"),N(N10)+1,0)) | O11: =IF($A11="","",IF(OR(F11=TRUE,F11="x"),N(O10)+1,0)) | P11: =IF($A11="","",IF(OR(G11=TRUE,G11="x"),N(P10)+1,0)) | Q11: =IF($A11="","",IF(OR(H11=TRUE,H11="x"),N(Q10)+1,0))
A12: =IF(A11="","",IF(MONTH(A11+1)=5,A11+1,"")) | B12: =IF(A12="","",A12) | I12: =IF(A12="","",COUNTIF(C12:H12,TRUE)+COUNTIF(C12:H12,"x")) | L12: =IF($A12="","",IF(OR(C12=TRUE,C12="x"),N(L11)+1,0)) | M12: =IF($A12="","",IF(OR(D12=TRUE,D12="x"),N(M11)+1,0)) | N12: =IF($A12="","",IF(OR(E12=TRUE,E12="x"),N(N11)+1,0)) | O12: =IF($A12="","",IF(OR(F12=TRUE,F12="x"),N(O11)+1,0)) | P12: =IF($A12="","",IF(OR(G12=TRUE,G12="x"),N(P11)+1,0)) | Q12: =IF($A12="","",IF(OR(H12=TRUE,H12="x"),N(Q11)+1,0))
A13: =IF(A12="","",IF(MONTH(A12+1)=5,A12+1,"")) | B13: =IF(A13="","",A13) | I13: =IF(A13="","",COUNTIF(C13:H13,TRUE)+COUNTIF(C13:H13,"x")) | L13: =IF($A13="","",IF(OR(C13=TRUE,C13="x"),N(L12)+1,0)) | M13: =IF($A13="","",IF(OR(D13=TRUE,D13="x"),N(M12)+1,0)) | N13: =IF($A13="","",IF(OR(E13=TRUE,E13="x"),N(N12)+1,0)) | O13: =IF($A13="","",IF(OR(F13=TRUE,F13="x"),N(O12)+1,0)) | P13: =IF($A13="","",IF(OR(G13=TRUE,G13="x"),N(P12)+1,0)) | Q13: =IF($A13="","",IF(OR(H13=TRUE,H13="x"),N(Q12)+1,0))
A14: =IF(A13="","",IF(MONTH(A13+1)=5,A13+1,"")) | B14: =IF(A14="","",A14) | I14: =IF(A14="","",COUNTIF(C14:H14,TRUE)+COUNTIF(C14:H14,"x")) | L14: =IF($A14="","",IF(OR(C14=TRUE,C14="x"),N(L13)+1,0)) | M14: =IF($A14="","",IF(OR(D14=TRUE,D14="x"),N(M13)+1,0)) | N14: =IF($A14="","",IF(OR(E14=TRUE,E14="x"),N(N13)+1,0)) | O14: =IF($A14="","",IF(OR(F14=TRUE,F14="x"),N(O13)+1,0)) | P14: =IF($A14="","",IF(OR(G14=TRUE,G14="x"),N(P13)+1,0)) | Q14: =IF($A14="","",IF(OR(H14=TRUE,H14="x"),N(Q13)+1,0))
A15: =IF(A14="","",IF(MONTH(A14+1)=5,A14+1,"")) | B15: =IF(A15="","",A15) | I15: =IF(A15="","",COUNTIF(C15:H15,TRUE)+COUNTIF(C15:H15,"x")) | L15: =IF($A15="","",IF(OR(C15=TRUE,C15="x"),N(L14)+1,0)) | M15: =IF($A15="","",IF(OR(D15=TRUE,D15="x"),N(M14)+1,0)) | N15: =IF($A15="","",IF(OR(E15=TRUE,E15="x"),N(N14)+1,0)) | O15: =IF($A15="","",IF(OR(F15=TRUE,F15="x"),N(O14)+1,0)) | P15: =IF($A15="","",IF(OR(G15=TRUE,G15="x"),N(P14)+1,0)) | Q15: =IF($A15="","",IF(OR(H15=TRUE,H15="x"),N(Q14)+1,0))
A16: =IF(A15="","",IF(MONTH(A15+1)=5,A15+1,"")) | B16: =IF(A16="","",A16) | I16: =IF(A16="","",COUNTIF(C16:H16,TRUE)+COUNTIF(C16:H16,"x")) | L16: =IF($A16="","",IF(OR(C16=TRUE,C16="x"),N(L15)+1,0)) | M16: =IF($A16="","",IF(OR(D16=TRUE,D16="x"),N(M15)+1,0)) | N16: =IF($A16="","",IF(OR(E16=TRUE,E16="x"),N(N15)+1,0)) | O16: =IF($A16="","",IF(OR(F16=TRUE,F16="x"),N(O15)+1,0)) | P16: =IF($A16="","",IF(OR(G16=TRUE,G16="x"),N(P15)+1,0)) | Q16: =IF($A16="","",IF(OR(H16=TRUE,H16="x"),N(Q15)+1,0))
A17: =IF(A16="","",IF(MONTH(A16+1)=5,A16+1,"")) | B17: =IF(A17="","",A17) | I17: =IF(A17="","",COUNTIF(C17:H17,TRUE)+COUNTIF(C17:H17,"x")) | L17: =IF($A17="","",IF(OR(C17=TRUE,C17="x"),N(L16)+1,0)) | M17: =IF($A17="","",IF(OR(D17=TRUE,D17="x"),N(M16)+1,0)) | N17: =IF($A17="","",IF(OR(E17=TRUE,E17="x"),N(N16)+1,0)) | O17: =IF($A17="","",IF(OR(F17=TRUE,F17="x"),N(O16)+1,0)) | P17: =IF($A17="","",IF(OR(G17=TRUE,G17="x"),N(P16)+1,0)) | Q17: =IF($A17="","",IF(OR(H17=TRUE,H17="x"),N(Q16)+1,0))
A18: =IF(A17="","",IF(MONTH(A17+1)=5,A17+1,"")) | B18: =IF(A18="","",A18) | I18: =IF(A18="","",COUNTIF(C18:H18,TRUE)+COUNTIF(C18:H18,"x")) | L18: =IF($A18="","",IF(OR(C18=TRUE,C18="x"),N(L17)+1,0)) | M18: =IF($A18="","",IF(OR(D18=TRUE,D18="x"),N(M17)+1,0)) | N18: =IF($A18="","",IF(OR(E18=TRUE,E18="x"),N(N17)+1,0)) | O18: =IF($A18="","",IF(OR(F18=TRUE,F18="x"),N(O17)+1,0)) | P18: =IF($A18="","",IF(OR(G18=TRUE,G18="x"),N(P17)+1,0)) | Q18: =IF($A18="","",IF(OR(H18=TRUE,H18="x"),N(Q17)+1,0))
A19: =IF(A18="","",IF(MONTH(A18+1)=5,A18+1,"")) | B19: =IF(A19="","",A19) | I19: =IF(A19="","",COUNTIF(C19:H19,TRUE)+COUNTIF(C19:H19,"x")) | L19: =IF($A19="","",IF(OR(C19=TRUE,C19="x"),N(L18)+1,0)) | M19: =IF($A19="","",IF(OR(D19=TRUE,D19="x"),N(M18)+1,0)) | N19: =IF($A19="","",IF(OR(E19=TRUE,E19="x"),N(N18)+1,0)) | O19: =IF($A19="","",IF(OR(F19=TRUE,F19="x"),N(O18)+1,0)) | P19: =IF($A19="","",IF(OR(G19=TRUE,G19="x"),N(P18)+1,0)) | Q19: =IF($A19="","",IF(OR(H19=TRUE,H19="x"),N(Q18)+1,0))
A20: =IF(A19="","",IF(MONTH(A19+1)=5,A19+1,"")) | B20: =IF(A20="","",A20) | I20: =IF(A20="","",COUNTIF(C20:H20,TRUE)+COUNTIF(C20:H20,"x")) | L20: =IF($A20="","",IF(OR(C20=TRUE,C20="x"),N(L19)+1,0)) | M20: =IF($A20="","",IF(OR(D20=TRUE,D20="x"),N(M19)+1,0)) | N20: =IF($A20="","",IF(OR(E20=TRUE,E20="x"),N(N19)+1,0)) | O20: =IF($A20="","",IF(OR(F20=TRUE,F20="x"),N(O19)+1,0)) | P20: =IF($A20="","",IF(OR(G20=TRUE,G20="x"),N(P19)+1,0)) | Q20: =IF($A20="","",IF(OR(H20=TRUE,H20="x"),N(Q19)+1,0))
A21: =IF(A20="","",IF(MONTH(A20+1)=5,A20+1,"")) | B21: =IF(A21="","",A21) | I21: =IF(A21="","",COUNTIF(C21:H21,TRUE)+COUNTIF(C21:H21,"x")) | L21: =IF($A21="","",IF(OR(C21=TRUE,C21="x"),N(L20)+1,0)) | M21: =IF($A21="","",IF(OR(D21=TRUE,D21="x"),N(M20)+1,0)) | N21: =IF($A21="","",IF(OR(E21=TRUE,E21="x"),N(N20)+1,0)) | O21: =IF($A21="","",IF(OR(F21=TRUE,F21="x"),N(O20)+1,0)) | P21: =IF($A21="","",IF(OR(G21=TRUE,G21="x"),N(P20)+1,0)) | Q21: =IF($A21="","",IF(OR(H21=TRUE,H21="x"),N(Q20)+1,0))
... A39: =IF(A38="","",IF(MONTH(A38+1)=5,A38+1,"")) | B39: =IF(A39="","",A39) | I39: =IF(A39="","",COUNTIF(C39:H39,TRUE)+COUNTIF(C39:H39,"x")) | L39: =IF($A39="","",IF(OR(C39=TRUE,C39="x"),N(L38)+1,0)) | M39: =IF($A39="","",IF(OR(D39=TRUE,D39="x"),N(M38)+1,0)) | N39: =IF($A39="","",IF(OR(E39=TRUE,E39="x"),N(N38)+1,0)) | O39: =IF($A39="","",IF(OR(F39=TRUE,F39="x"),N(O38)+1,0)) | P39: =IF($A39="","",IF(OR(G39=TRUE,G39="x"),N(P38)+1,0)) | Q39: =IF($A39="","",IF(OR(H39=TRUE,H39="x"),N(Q38)+1,0))

Sheet Jun
A1: =DATE(Setup!$B$2,6,1)
A2: Days elapsed | B2: =IF(TODAY()<$A$9,0,MIN(TODAY(),MAX($A$9:$A$39))-$A$9+1)
A3: Current streak | C3: =IF(C$8="","",IF($B$2=0,0,IF(OR(INDEX(L$9:L$39,$B$2)>0,TODAY()>MAX($A$9:$A$39),$B$2=1),INDEX(L$9:L$39,$B$2),INDEX(L$9:L$39,$B$2-1)))) | D3: =IF(D$8="","",IF($B$2=0,0,IF(OR(INDEX(M$9:M$39,$B$2)>0,TODAY()>MAX($A$9:$A$39),$B$2=1),INDEX(M$9:M$39,$B$2),INDEX(M$9:M$39,$B$2-1)))) | E3: =IF(E$8="","",IF($B$2=0,0,IF(OR(INDEX(N$9:N$39,$B$2)>0,TODAY()>MAX($A$9:$A$39),$B$2=1),INDEX(N$9:N$39,$B$2),INDEX(N$9:N$39,$B$2-1)))) | F3: =IF(F$8="","",IF($B$2=0,0,IF(OR(INDEX(O$9:O$39,$B$2)>0,TODAY()>MAX($A$9:$A$39),$B$2=1),INDEX(O$9:O$39,$B$2),INDEX(O$9:O$39,$B$2-1)))) | G3: =IF(G$8="","",IF($B$2=0,0,IF(OR(INDEX(P$9:P$39,$B$2)>0,TODAY()>MAX($A$9:$A$39),$B$2=1),INDEX(P$9:P$39,$B$2),INDEX(P$9:P$39,$B$2-1)))) | H3: =IF(H$8="","",IF($B$2=0,0,IF(OR(INDEX(Q$9:Q$39,$B$2)>0,TODAY()>MAX($A$9:$A$39),$B$2=1),INDEX(Q$9:Q$39,$B$2),INDEX(Q$9:Q$39,$B$2-1))))
A4: Longest streak | C4: =IF(C$8="","",MAX(L$9:L$39)) | D4: =IF(D$8="","",MAX(M$9:M$39)) | E4: =IF(E$8="","",MAX(N$9:N$39)) | F4: =IF(F$8="","",MAX(O$9:O$39)) | G4: =IF(G$8="","",MAX(P$9:P$39)) | H4: =IF(H$8="","",MAX(Q$9:Q$39))
A5: Days done | C5: =IF(C$8="","",COUNTIF(C$9:C$39,TRUE)+COUNTIF(C$9:C$39,"x")) | D5: =IF(D$8="","",COUNTIF(D$9:D$39,TRUE)+COUNTIF(D$9:D$39,"x")) | E5: =IF(E$8="","",COUNTIF(E$9:E$39,TRUE)+COUNTIF(E$9:E$39,"x")) | F5: =IF(F$8="","",COUNTIF(F$9:F$39,TRUE)+COUNTIF(F$9:F$39,"x")) | G5: =IF(G$8="","",COUNTIF(G$9:G$39,TRUE)+COUNTIF(G$9:G$39,"x")) | H5: =IF(H$8="","",COUNTIF(H$9:H$39,TRUE)+COUNTIF(H$9:H$39,"x"))
A6: Completion | C6: =IF(OR(C$8="",$B$2=0),"",C5/$B$2) | D6: =IF(OR(D$8="",$B$2=0),"",D5/$B$2) | E6: =IF(OR(E$8="",$B$2=0),"",E5/$B$2) | F6: =IF(OR(F$8="",$B$2=0),"",F5/$B$2) | G6: =IF(OR(G$8="",$B$2=0),"",G5/$B$2) | H6: =IF(OR(H$8="",$B$2=0),"",H5/$B$2)
A7: Type x to tick a day. Completion divides by days elapsed, not by days in the month.
A8: Date | B8: Day | C8: =IF(Setup!$B$5="","",Setup!$B$5) | D8: =IF(Setup!$B$6="","",Setup!$B$6) | E8: =IF(Setup!$B$7="","",Setup!$B$7) | F8: =IF(Setup!$B$8="","",Setup!$B$8) | G8: =IF(Setup!$B$9="","",Setup!$B$9) | H8: =IF(Setup!$B$10="","",Setup!$B$10) | I8: Done today
A9: =$A$1 | B9: =IF(A9="","",A9) | I9: =IF(A9="","",COUNTIF(C9:H9,TRUE)+COUNTIF(C9:H9,"x")) | L9: =IF($A9="","",IF(OR(C9=TRUE,C9="x"),N(INDEX('May'!L$9:L$39,DAY($A$9-1)))+1,0)) | M9: =IF($A9="","",IF(OR(D9=TRUE,D9="x"),N(INDEX('May'!M$9:M$39,DAY($A$9-1)))+1,0)) | N9: =IF($A9="","",IF(OR(E9=TRUE,E9="x"),N(INDEX('May'!N$9:N$39,DAY($A$9-1)))+1,0)) | O9: =IF($A9="","",IF(OR(F9=TRUE,F9="x"),N(INDEX('May'!O$9:O$39,DAY($A$9-1)))+1,0)) | P9: =IF($A9="","",IF(OR(G9=TRUE,G9="x"),N(INDEX('May'!P$9:P$39,DAY($A$9-1)))+1,0)) | Q9: =IF($A9="","",IF(OR(H9=TRUE,H9="x"),N(INDEX('May'!Q$9:Q$39,DAY($A$9-1)))+1,0))
A10: =IF(A9="","",IF(MONTH(A9+1)=6,A9+1,"")) | B10: =IF(A10="","",A10) | I10: =IF(A10="","",COUNTIF(C10:H10,TRUE)+COUNTIF(C10:H10,"x")) | L10: =IF($A10="","",IF(OR(C10=TRUE,C10="x"),N(L9)+1,0)) | M10: =IF($A10="","",IF(OR(D10=TRUE,D10="x"),N(M9)+1,0)) | N10: =IF($A10="","",IF(OR(E10=TRUE,E10="x"),N(N9)+1,0)) | O10: =IF($A10="","",IF(OR(F10=TRUE,F10="x"),N(O9)+1,0)) | P10: =IF($A10="","",IF(OR(G10=TRUE,G10="x"),N(P9)+1,0)) | Q10: =IF($A10="","",IF(OR(H10=TRUE,H10="x"),N(Q9)+1,0))
A11: =IF(A10="","",IF(MONTH(A10+1)=6,A10+1,"")) | B11: =IF(A11="","",A11) | I11: =IF(A11="","",COUNTIF(C11:H11,TRUE)+COUNTIF(C11:H11,"x")) | L11: =IF($A11="","",IF(OR(C11=TRUE,C11="x"),N(L10)+1,0)) | M11: =IF($A11="","",IF(OR(D11=TRUE,D11="x"),N(M10)+1,0)) | N11: =IF($A11="","",IF(OR(E11=TRUE,E11="x"),N(N10)+1,0)) | O11: =IF($A11="","",IF(OR(F11=TRUE,F11="x"),N(O10)+1,0)) | P11: =IF($A11="","",IF(OR(G11=TRUE,G11="x"),N(P10)+1,0)) | Q11: =IF($A11="","",IF(OR(H11=TRUE,H11="x"),N(Q10)+1,0))
A12: =IF(A11="","",IF(MONTH(A11+1)=6,A11+1,"")) | B12: =IF(A12="","",A12) | I12: =IF(A12="","",COUNTIF(C12:H12,TRUE)+COUNTIF(C12:H12,"x")) | L12: =IF($A12="","",IF(OR(C12=TRUE,C12="x"),N(L11)+1,0)) | M12: =IF($A12="","",IF(OR(D12=TRUE,D12="x"),N(M11)+1,0)) | N12: =IF($A12="","",IF(OR(E12=TRUE,E12="x"),N(N11)+1,0)) | O12: =IF($A12="","",IF(OR(F12=TRUE,F12="x"),N(O11)+1,0)) | P12: =IF($A12="","",IF(OR(G12=TRUE,G12="x"),N(P11)+1,0)) | Q12: =IF($A12="","",IF(OR(H12=TRUE,H12="x"),N(Q11)+1,0))
A13: =IF(A12="","",IF(MONTH(A12+1)=6,A12+1,"")) | B13: =IF(A13="","",A13) | I13: =IF(A13="","",COUNTIF(C13:H13,TRUE)+COUNTIF(C13:H13,"x")) | L13: =IF($A13="","",IF(OR(C13=TRUE,C13="x"),N(L12)+1,0)) | M13: =IF($A13="","",IF(OR(D13=TRUE,D13="x"),N(M12)+1,0)) | N13: =IF($A13="","",IF(OR(E13=TRUE,E13="x"),N(N12)+1,0)) | O13: =IF($A13="","",IF(OR(F13=TRUE,F13="x"),N(O12)+1,0)) | P13: =IF($A13="","",IF(OR(G13=TRUE,G13="x"),N(P12)+1,0)) | Q13: =IF($A13="","",IF(OR(H13=TRUE,H13="x"),N(Q12)+1,0))
A14: =IF(A13="","",IF(MONTH(A13+1)=6,A13+1,"")) | B14: =IF(A14="","",A14) | I14: =IF(A14="","",COUNTIF(C14:H14,TRUE)+COUNTIF(C14:H14,"x")) | L14: =IF($A14="","",IF(OR(C14=TRUE,C14="x"),N(L13)+1,0)) | M14: =IF($A14="","",IF(OR(D14=TRUE,D14="x"),N(M13)+1,0)) | N14: =IF($A14="","",IF(OR(E14=TRUE,E14="x"),N(N13)+1,0)) | O14: =IF($A14="","",IF(OR(F14=TRUE,F14="x"),N(O13)+1,0)) | P14: =IF($A14="","",IF(OR(G14=TRUE,G14="x"),N(P13)+1,0)) | Q14: =IF($A14="","",IF(OR(H14=TRUE,H14="x"),N(Q13)+1,0))
A15: =IF(A14="","",IF(MONTH(A14+1)=6,A14+1,"")) | B15: =IF(A15="","",A15) | I15: =IF(A15="","",COUNTIF(C15:H15,TRUE)+COUNTIF(C15:H15,"x")) | L15: =IF($A15="","",IF(OR(C15=TRUE,C15="x"),N(L14)+1,0)) | M15: =IF($A15="","",IF(OR(D15=TRUE,D15="x"),N(M14)+1,0)) | N15: =IF($A15="","",IF(OR(E15=TRUE,E15="x"),N(N14)+1,0)) | O15: =IF($A15="","",IF(OR(F15=TRUE,F15="x"),N(O14)+1,0)) | P15: =IF($A15="","",IF(OR(G15=TRUE,G15="x"),N(P14)+1,0)) | Q15: =IF($A15="","",IF(OR(H15=TRUE,H15="x"),N(Q14)+1,0))
A16: =IF(A15="","",IF(MONTH(A15+1)=6,A15+1,"")) | B16: =IF(A16="","",A16) | I16: =IF(A16="","",COUNTIF(C16:H16,TRUE)+COUNTIF(C16:H16,"x")) | L16: =IF($A16="","",IF(OR(C16=TRUE,C16="x"),N(L15)+1,0)) | M16: =IF($A16="","",IF(OR(D16=TRUE,D16="x"),N(M15)+1,0)) | N16: =IF($A16="","",IF(OR(E16=TRUE,E16="x"),N(N15)+1,0)) | O16: =IF($A16="","",IF(OR(F16=TRUE,F16="x"),N(O15)+1,0)) | P16: =IF($A16="","",IF(OR(G16=TRUE,G16="x"),N(P15)+1,0)) | Q16: =IF($A16="","",IF(OR(H16=TRUE,H16="x"),N(Q15)+1,0))
A17: =IF(A16="","",IF(MONTH(A16+1)=6,A16+1,"")) | B17: =IF(A17="","",A17) | I17: =IF(A17="","",COUNTIF(C17:H17,TRUE)+COUNTIF(C17:H17,"x")) | L17: =IF($A17="","",IF(OR(C17=TRUE,C17="x"),N(L16)+1,0)) | M17: =IF($A17="","",IF(OR(D17=TRUE,D17="x"),N(M16)+1,0)) | N17: =IF($A17="","",IF(OR(E17=TRUE,E17="x"),N(N16)+1,0)) | O17: =IF($A17="","",IF(OR(F17=TRUE,F17="x"),N(O16)+1,0)) | P17: =IF($A17="","",IF(OR(G17=TRUE,G17="x"),N(P16)+1,0)) | Q17: =IF($A17="","",IF(OR(H17=TRUE,H17="x"),N(Q16)+1,0))
A18: =IF(A17="","",IF(MONTH(A17+1)=6,A17+1,"")) | B18: =IF(A18="","",A18) | I18: =IF(A18="","",COUNTIF(C18:H18,TRUE)+COUNTIF(C18:H18,"x")) | L18: =IF($A18="","",IF(OR(C18=TRUE,C18="x"),N(L17)+1,0)) | M18: =IF($A18="","",IF(OR(D18=TRUE,D18="x"),N(M17)+1,0)) | N18: =IF($A18="","",IF(OR(E18=TRUE,E18="x"),N(N17)+1,0)) | O18: =IF($A18="","",IF(OR(F18=TRUE,F18="x"),N(O17)+1,0)) | P18: =IF($A18="","",IF(OR(G18=TRUE,G18="x"),N(P17)+1,0)) | Q18: =IF($A18="","",IF(OR(H18=TRUE,H18="x"),N(Q17)+1,0))
A19: =IF(A18="","",IF(MONTH(A18+1)=6,A18+1,"")) | B19: =IF(A19="","",A19) | I19: =IF(A19="","",COUNTIF(C19:H19,TRUE)+COUNTIF(C19:H19,"x")) | L19: =IF($A19="","",IF(OR(C19=TRUE,C19="x"),N(L18)+1,0)) | M19: =IF($A19="","",IF(OR(D19=TRUE,D19="x"),N(M18)+1,0)) | N19: =IF($A19="","",IF(OR(E19=TRUE,E19="x"),N(N18)+1,0)) | O19: =IF($A19="","",IF(OR(F19=TRUE,F19="x"),N(O18)+1,0)) | P19: =IF($A19="","",IF(OR(G19=TRUE,G19="x"),N(P18)+1,0)) | Q19: =IF($A19="","",IF(OR(H19=TRUE,H19="x"),N(Q18)+1,0))
A20: =IF(A19="","",IF(MONTH(A19+1)=6,A19+1,"")) | B20: =IF(A20="","",A20) | I20: =IF(A20="","",COUNTIF(C20:H20,TRUE)+COUNTIF(C20:H20,"x")) | L20: =IF($A20="","",IF(OR(C20=TRUE,C20="x"),N(L19)+1,0)) | M20: =IF($A20="","",IF(OR(D20=TRUE,D20="x"),N(M19)+1,0)) | N20: =IF($A20="","",IF(OR(E20=TRUE,E20="x"),N(N19)+1,0)) | O20: =IF($A20="","",IF(OR(F20=TRUE,F20="x"),N(O19)+1,0)) | P20: =IF($A20="","",IF(OR(G20=TRUE,G20="x"),N(P19)+1,0)) | Q20: =IF($A20="","",IF(OR(H20=TRUE,H20="x"),N(Q19)+1,0))
A21: =IF(A20="","",IF(MONTH(A20+1)=6,A20+1,"")) | B21: =IF(A21="","",A21) | I21: =IF(A21="","",COUNTIF(C21:H21,TRUE)+COUNTIF(C21:H21,"x")) | L21: =IF($A21="","",IF(OR(C21=TRUE,C21="x"),N(L20)+1,0)) | M21: =IF($A21="","",IF(OR(D21=TRUE,D21="x"),N(M20)+1,0)) | N21: =IF($A21="","",IF(OR(E21=TRUE,E21="x"),N(N20)+1,0)) | O21: =IF($A21="","",IF(OR(F21=TRUE,F21="x"),N(O20)+1,0)) | P21: =IF($A21="","",IF(OR(G21=TRUE,G21="x"),N(P20)+1,0)) | Q21: =IF($A21="","",IF(OR(H21=TRUE,H21="x"),N(Q20)+1,0))
... A39: =IF(A38="","",IF(MONTH(A38+1)=6,A38+1,"")) | B39: =IF(A39="","",A39) | I39: =IF(A39="","",COUNTIF(C39:H39,TRUE)+COUNTIF(C39:H39,"x")) | L39: =IF($A39="","",IF(OR(C39=TRUE,C39="x"),N(L38)+1,0)) | M39: =IF($A39="","",IF(OR(D39=TRUE,D39="x"),N(M38)+1,0)) | N39: =IF($A39="","",IF(OR(E39=TRUE,E39="x"),N(N38)+1,0)) | O39: =IF($A39="","",IF(OR(F39=TRUE,F39="x"),N(O38)+1,0)) | P39: =IF($A39="","",IF(OR(G39=TRUE,G39="x"),N(P38)+1,0)) | Q39: =IF($A39="","",IF(OR(H39=TRUE,H39="x"),N(Q38)+1,0))

Sheet Jul
A1: =DATE(Setup!$B$2,7,1)
A2: Days elapsed | B2: =IF(TODAY()<$A$9,0,MIN(TODAY(),MAX($A$9:$A$39))-$A$9+1)
A3: Current streak | C3: =IF(C$8="","",IF($B$2=0,0,IF(OR(INDEX(L$9:L$39,$B$2)>0,TODAY()>MAX($A$9:$A$39),$B$2=1),INDEX(L$9:L$39,$B$2),INDEX(L$9:L$39,$B$2-1)))) | D3: =IF(D$8="","",IF($B$2=0,0,IF(OR(INDEX(M$9:M$39,$B$2)>0,TODAY()>MAX($A$9:$A$39),$B$2=1),INDEX(M$9:M$39,$B$2),INDEX(M$9:M$39,$B$2-1)))) | E3: =IF(E$8="","",IF($B$2=0,0,IF(OR(INDEX(N$9:N$39,$B$2)>0,TODAY()>MAX($A$9:$A$39),$B$2=1),INDEX(N$9:N$39,$B$2),INDEX(N$9:N$39,$B$2-1)))) | F3: =IF(F$8="","",IF($B$2=0,0,IF(OR(INDEX(O$9:O$39,$B$2)>0,TODAY()>MAX($A$9:$A$39),$B$2=1),INDEX(O$9:O$39,$B$2),INDEX(O$9:O$39,$B$2-1)))) | G3: =IF(G$8="","",IF($B$2=0,0,IF(OR(INDEX(P$9:P$39,$B$2)>0,TODAY()>MAX($A$9:$A$39),$B$2=1),INDEX(P$9:P$39,$B$2),INDEX(P$9:P$39,$B$2-1)))) | H3: =IF(H$8="","",IF($B$2=0,0,IF(OR(INDEX(Q$9:Q$39,$B$2)>0,TODAY()>MAX($A$9:$A$39),$B$2=1),INDEX(Q$9:Q$39,$B$2),INDEX(Q$9:Q$39,$B$2-1))))
A4: Longest streak | C4: =IF(C$8="","",MAX(L$9:L$39)) | D4: =IF(D$8="","",MAX(M$9:M$39)) | E4: =IF(E$8="","",MAX(N$9:N$39)) | F4: =IF(F$8="","",MAX(O$9:O$39)) | G4: =IF(G$8="","",MAX(P$9:P$39)) | H4: =IF(H$8="","",MAX(Q$9:Q$39))
A5: Days done | C5: =IF(C$8="","",COUNTIF(C$9:C$39,TRUE)+COUNTIF(C$9:C$39,"x")) | D5: =IF(D$8="","",COUNTIF(D$9:D$39,TRUE)+COUNTIF(D$9:D$39,"x")) | E5: =IF(E$8="","",COUNTIF(E$9:E$39,TRUE)+COUNTIF(E$9:E$39,"x")) | F5: =IF(F$8="","",COUNTIF(F$9:F$39,TRUE)+COUNTIF(F$9:F$39,"x")) | G5: =IF(G$8="","",COUNTIF(G$9:G$39,TRUE)+COUNTIF(G$9:G$39,"x")) | H5: =IF(H$8="","",COUNTIF(H$9:H$39,TRUE)+COUNTIF(H$9:H$39,"x"))
A6: Completion | C6: =IF(OR(C$8="",$B$2=0),"",C5/$B$2) | D6: =IF(OR(D$8="",$B$2=0),"",D5/$B$2) | E6: =IF(OR(E$8="",$B$2=0),"",E5/$B$2) | F6: =IF(OR(F$8="",$B$2=0),"",F5/$B$2) | G6: =IF(OR(G$8="",$B$2=0),"",G5/$B$2) | H6: =IF(OR(H$8="",$B$2=0),"",H5/$B$2)
A7: Type x to tick a day. Completion divides by days elapsed, not by days in the month.
A8: Date | B8: Day | C8: =IF(Setup!$B$5="","",Setup!$B$5) | D8: =IF(Setup!$B$6="","",Setup!$B$6) | E8: =IF(Setup!$B$7="","",Setup!$B$7) | F8: =IF(Setup!$B$8="","",Setup!$B$8) | G8: =IF(Setup!$B$9="","",Setup!$B$9) | H8: =IF(Setup!$B$10="","",Setup!$B$10) | I8: Done today
A9: =$A$1 | B9: =IF(A9="","",A9) | I9: =IF(A9="","",COUNTIF(C9:H9,TRUE)+COUNTIF(C9:H9,"x")) | L9: =IF($A9="","",IF(OR(C9=TRUE,C9="x"),N(INDEX('Jun'!L$9:L$39,DAY($A$9-1)))+1,0)) | M9: =IF($A9="","",IF(OR(D9=TRUE,D9="x"),N(INDEX('Jun'!M$9:M$39,DAY($A$9-1)))+1,0)) | N9: =IF($A9="","",IF(OR(E9=TRUE,E9="x"),N(INDEX('Jun'!N$9:N$39,DAY($A$9-1)))+1,0)) | O9: =IF($A9="","",IF(OR(F9=TRUE,F9="x"),N(INDEX('Jun'!O$9:O$39,DAY($A$9-1)))+1,0)) | P9: =IF($A9="","",IF(OR(G9=TRUE,G9="x"),N(INDEX('Jun'!P$9:P$39,DAY($A$9-1)))+1,0)) | Q9: =IF($A9="","",IF(OR(H9=TRUE,H9="x"),N(INDEX('Jun'!Q$9:Q$39,DAY($A$9-1)))+1,0))
A10: =IF(A9="","",IF(MONTH(A9+1)=7,A9+1,"")) | B10: =IF(A10="","",A10) | I10: =IF(A10="","",COUNTIF(C10:H10,TRUE)+COUNTIF(C10:H10,"x")) | L10: =IF($A10="","",IF(OR(C10=TRUE,C10="x"),N(L9)+1,0)) | M10: =IF($A10="","",IF(OR(D10=TRUE,D10="x"),N(M9)+1,0)) | N10: =IF($A10="","",IF(OR(E10=TRUE,E10="x"),N(N9)+1,0)) | O10: =IF($A10="","",IF(OR(F10=TRUE,F10="x"),N(O9)+1,0)) | P10: =IF($A10="","",IF(OR(G10=TRUE,G10="x"),N(P9)+1,0)) | Q10: =IF($A10="","",IF(OR(H10=TRUE,H10="x"),N(Q9)+1,0))
A11: =IF(A10="","",IF(MONTH(A10+1)=7,A10+1,"")) | B11: =IF(A11="","",A11) | I11: =IF(A11="","",COUNTIF(C11:H11,TRUE)+COUNTIF(C11:H11,"x")) | L11: =IF($A11="","",IF(OR(C11=TRUE,C11="x"),N(L10)+1,0)) | M11: =IF($A11="","",IF(OR(D11=TRUE,D11="x"),N(M10)+1,0)) | N11: =IF($A11="","",IF(OR(E11=TRUE,E11="x"),N(N10)+1,0)) | O11: =IF($A11="","",IF(OR(F11=TRUE,F11="x"),N(O10)+1,0)) | P11: =IF($A11="","",IF(OR(G11=TRUE,G11="x"),N(P10)+1,0)) | Q11: =IF($A11="","",IF(OR(H11=TRUE,H11="x"),N(Q10)+1,0))
A12: =IF(A11="","",IF(MONTH(A11+1)=7,A11+1,"")) | B12: =IF(A12="","",A12) | I12: =IF(A12="","",COUNTIF(C12:H12,TRUE)+COUNTIF(C12:H12,"x")) | L12: =IF($A12="","",IF(OR(C12=TRUE,C12="x"),N(L11)+1,0)) | M12: =IF($A12="","",IF(OR(D12=TRUE,D12="x"),N(M11)+1,0)) | N12: =IF($A12="","",IF(OR(E12=TRUE,E12="x"),N(N11)+1,0)) | O12: =IF($A12="","",IF(OR(F12=TRUE,F12="x"),N(O11)+1,0)) | P12: =IF($A12="","",IF(OR(G12=TRUE,G12="x"),N(P11)+1,0)) | Q12: =IF($A12="","",IF(OR(H12=TRUE,H12="x"),N(Q11)+1,0))
A13: =IF(A12="","",IF(MONTH(A12+1)=7,A12+1,"")) | B13: =IF(A13="","",A13) | I13: =IF(A13="","",COUNTIF(C13:H13,TRUE)+COUNTIF(C13:H13,"x")) | L13: =IF($A13="","",IF(OR(C13=TRUE,C13="x"),N(L12)+1,0)) | M13: =IF($A13="","",IF(OR(D13=TRUE,D13="x"),N(M12)+1,0)) | N13: =IF($A13="","",IF(OR(E13=TRUE,E13="x"),N(N12)+1,0)) | O13: =IF($A13="","",IF(OR(F13=TRUE,F13="x"),N(O12)+1,0)) | P13: =IF($A13="","",IF(OR(G13=TRUE,G13="x"),N(P12)+1,0)) | Q13: =IF($A13="","",IF(OR(H13=TRUE,H13="x"),N(Q12)+1,0))
A14: =IF(A13="","",IF(MONTH(A13+1)=7,A13+1,"")) | B14: =IF(A14="","",A14) | I14: =IF(A14="","",COUNTIF(C14:H14,TRUE)+COUNTIF(C14:H14,"x")) | L14: =IF($A14="","",IF(OR(C14=TRUE,C14="x"),N(L13)+1,0)) | M14: =IF($A14="","",IF(OR(D14=TRUE,D14="x"),N(M13)+1,0)) | N14: =IF($A14="","",IF(OR(E14=TRUE,E14="x"),N(N13)+1,0)) | O14: =IF($A14="","",IF(OR(F14=TRUE,F14="x"),N(O13)+1,0)) | P14: =IF($A14="","",IF(OR(G14=TRUE,G14="x"),N(P13)+1,0)) | Q14: =IF($A14="","",IF(OR(H14=TRUE,H14="x"),N(Q13)+1,0))
A15: =IF(A14="","",IF(MONTH(A14+1)=7,A14+1,"")) | B15: =IF(A15="","",A15) | I15: =IF(A15="","",COUNTIF(C15:H15,TRUE)+COUNTIF(C15:H15,"x")) | L15: =IF($A15="","",IF(OR(C15=TRUE,C15="x"),N(L14)+1,0)) | M15: =IF($A15="","",IF(OR(D15=TRUE,D15="x"),N(M14)+1,0)) | N15: =IF($A15="","",IF(OR(E15=TRUE,E15="x"),N(N14)+1,0)) | O15: =IF($A15="","",IF(OR(F15=TRUE,F15="x"),N(O14)+1,0)) | P15: =IF($A15="","",IF(OR(G15=TRUE,G15="x"),N(P14)+1,0)) | Q15: =IF($A15="","",IF(OR(H15=TRUE,H15="x"),N(Q14)+1,0))
A16: =IF(A15="","",IF(MONTH(A15+1)=7,A15+1,"")) | B16: =IF(A16="","",A16) | I16: =IF(A16="","",COUNTIF(C16:H16,TRUE)+COUNTIF(C16:H16,"x")) | L16: =IF($A16="","",IF(OR(C16=TRUE,C16="x"),N(L15)+1,0)) | M16: =IF($A16="","",IF(OR(D16=TRUE,D16="x"),N(M15)+1,0)) | N16: =IF($A16="","",IF(OR(E16=TRUE,E16="x"),N(N15)+1,0)) | O16: =IF($A16="","",IF(OR(F16=TRUE,F16="x"),N(O15)+1,0)) | P16: =IF($A16="","",IF(OR(G16=TRUE,G16="x"),N(P15)+1,0)) | Q16: =IF($A16="","",IF(OR(H16=TRUE,H16="x"),N(Q15)+1,0))
A17: =IF(A16="","",IF(MONTH(A16+1)=7,A16+1,"")) | B17: =IF(A17="","",A17) | I17: =IF(A17="","",COUNTIF(C17:H17,TRUE)+COUNTIF(C17:H17,"x")) | L17: =IF($A17="","",IF(OR(C17=TRUE,C17="x"),N(L16)+1,0)) | M17: =IF($A17="","",IF(OR(D17=TRUE,D17="x"),N(M16)+1,0)) | N17: =IF($A17="","",IF(OR(E17=TRUE,E17="x"),N(N16)+1,0)) | O17: =IF($A17="","",IF(OR(F17=TRUE,F17="x"),N(O16)+1,0)) | P17: =IF($A17="","",IF(OR(G17=TRUE,G17="x"),N(P16)+1,0)) | Q17: =IF($A17="","",IF(OR(H17=TRUE,H17="x"),N(Q16)+1,0))
A18: =IF(A17="","",IF(MONTH(A17+1)=7,A17+1,"")) | B18: =IF(A18="","",A18) | I18: =IF(A18="","",COUNTIF(C18:H18,TRUE)+COUNTIF(C18:H18,"x")) | L18: =IF($A18="","",IF(OR(C18=TRUE,C18="x"),N(L17)+1,0)) | M18: =IF($A18="","",IF(OR(D18=TRUE,D18="x"),N(M17)+1,0)) | N18: =IF($A18="","",IF(OR(E18=TRUE,E18="x"),N(N17)+1,0)) | O18: =IF($A18="","",IF(OR(F18=TRUE,F18="x"),N(O17)+1,0)) | P18: =IF($A18="","",IF(OR(G18=TRUE,G18="x"),N(P17)+1,0)) | Q18: =IF($A18="","",IF(OR(H18=TRUE,H18="x"),N(Q17)+1,0))
A19: =IF(A18="","",IF(MONTH(A18+1)=7,A18+1,"")) | B19: =IF(A19="","",A19) | I19: =IF(A19="","",COUNTIF(C19:H19,TRUE)+COUNTIF(C19:H19,"x")) | L19: =IF($A19="","",IF(OR(C19=TRUE,C19="x"),N(L18)+1,0)) | M19: =IF($A19="","",IF(OR(D19=TRUE,D19="x"),N(M18)+1,0)) | N19: =IF($A19="","",IF(OR(E19=TRUE,E19="x"),N(N18)+1,0)) | O19: =IF($A19="","",IF(OR(F19=TRUE,F19="x"),N(O18)+1,0)) | P19: =IF($A19="","",IF(OR(G19=TRUE,G19="x"),N(P18)+1,0)) | Q19: =IF($A19="","",IF(OR(H19=TRUE,H19="x"),N(Q18)+1,0))
A20: =IF(A19="","",IF(MONTH(A19+1)=7,A19+1,"")) | B20: =IF(A20="","",A20) | I20: =IF(A20="","",COUNTIF(C20:H20,TRUE)+COUNTIF(C20:H20,"x")) | L20: =IF($A20="","",IF(OR(C20=TRUE,C20="x"),N(L19)+1,0)) | M20: =IF($A20="","",IF(OR(D20=TRUE,D20="x"),N(M19)+1,0)) | N20: =IF($A20="","",IF(OR(E20=TRUE,E20="x"),N(N19)+1,0)) | O20: =IF($A20="","",IF(OR(F20=TRUE,F20="x"),N(O19)+1,0)) | P20: =IF($A20="","",IF(OR(G20=TRUE,G20="x"),N(P19)+1,0)) | Q20: =IF($A20="","",IF(OR(H20=TRUE,H20="x"),N(Q19)+1,0))
A21: =IF(A20="","",IF(MONTH(A20+1)=7,A20+1,"")) | B21: =IF(A21="","",A21) | I21: =IF(A21="","",COUNTIF(C21:H21,TRUE)+COUNTIF(C21:H21,"x")) | L21: =IF($A21="","",IF(OR(C21=TRUE,C21="x"),N(L20)+1,0)) | M21: =IF($A21="","",IF(OR(D21=TRUE,D21="x"),N(M20)+1,0)) | N21: =IF($A21="","",IF(OR(E21=TRUE,E21="x"),N(N20)+1,0)) | O21: =IF($A21="","",IF(OR(F21=TRUE,F21="x"),N(O20)+1,0)) | P21: =IF($A21="","",IF(OR(G21=TRUE,G21="x"),N(P20)+1,0)) | Q21: =IF($A21="","",IF(OR(H21=TRUE,H21="x"),N(Q20)+1,0))
... A39: =IF(A38="","",IF(MONTH(A38+1)=7,A38+1,"")) | B39: =IF(A39="","",A39) | I39: =IF(A39="","",COUNTIF(C39:H39,TRUE)+COUNTIF(C39:H39,"x")) | L39: =IF($A39="","",IF(OR(C39=TRUE,C39="x"),N(L38)+1,0)) | M39: =IF($A39="","",IF(OR(D39=TRUE,D39="x"),N(M38)+1,0)) | N39: =IF($A39="","",IF(OR(E39=TRUE,E39="x"),N(N38)+1,0)) | O39: =IF($A39="","",IF(OR(F39=TRUE,F39="x"),N(O38)+1,0)) | P39: =IF($A39="","",IF(OR(G39=TRUE,G39="x"),N(P38)+1,0)) | Q39: =IF($A39="","",IF(OR(H39=TRUE,H39="x"),N(Q38)+1,0))

Sheet Aug
A1: =DATE(Setup!$B$2,8,1)
A2: Days elapsed | B2: =IF(TODAY()<$A$9,0,MIN(TODAY(),MAX($A$9:$A$39))-$A$9+1)
A3: Current streak | C3: =IF(C$8="","",IF($B$2=0,0,IF(OR(INDEX(L$9:L$39,$B$2)>0,TODAY()>MAX($A$9:$A$39),$B$2=1),INDEX(L$9:L$39,$B$2),INDEX(L$9:L$39,$B$2-1)))) | D3: =IF(D$8="","",IF($B$2=0,0,IF(OR(INDEX(M$9:M$39,$B$2)>0,TODAY()>MAX($A$9:$A$39),$B$2=1),INDEX(M$9:M$39,$B$2),INDEX(M$9:M$39,$B$2-1)))) | E3: =IF(E$8="","",IF($B$2=0,0,IF(OR(INDEX(N$9:N$39,$B$2)>0,TODAY()>MAX($A$9:$A$39),$B$2=1),INDEX(N$9:N$39,$B$2),INDEX(N$9:N$39,$B$2-1)))) | F3: =IF(F$8="","",IF($B$2=0,0,IF(OR(INDEX(O$9:O$39,$B$2)>0,TODAY()>MAX($A$9:$A$39),$B$2=1),INDEX(O$9:O$39,$B$2),INDEX(O$9:O$39,$B$2-1)))) | G3: =IF(G$8="","",IF($B$2=0,0,IF(OR(INDEX(P$9:P$39,$B$2)>0,TODAY()>MAX($A$9:$A$39),$B$2=1),INDEX(P$9:P$39,$B$2),INDEX(P$9:P$39,$B$2-1)))) | H3: =IF(H$8="","",IF($B$2=0,0,IF(OR(INDEX(Q$9:Q$39,$B$2)>0,TODAY()>MAX($A$9:$A$39),$B$2=1),INDEX(Q$9:Q$39,$B$2),INDEX(Q$9:Q$39,$B$2-1))))
A4: Longest streak | C4: =IF(C$8="","",MAX(L$9:L$39)) | D4: =IF(D$8="","",MAX(M$9:M$39)) | E4: =IF(E$8="","",MAX(N$9:N$39)) | F4: =IF(F$8="","",MAX(O$9:O$39)) | G4: =IF(G$8="","",MAX(P$9:P$39)) | H4: =IF(H$8="","",MAX(Q$9:Q$39))
A5: Days done | C5: =IF(C$8="","",COUNTIF(C$9:C$39,TRUE)+COUNTIF(C$9:C$39,"x")) | D5: =IF(D$8="","",COUNTIF(D$9:D$39,TRUE)+COUNTIF(D$9:D$39,"x")) | E5: =IF(E$8="","",COUNTIF(E$9:E$39,TRUE)+COUNTIF(E$9:E$39,"x")) | F5: =IF(F$8="","",COUNTIF(F$9:F$39,TRUE)+COUNTIF(F$9:F$39,"x")) | G5: =IF(G$8="","",COUNTIF(G$9:G$39,TRUE)+COUNTIF(G$9:G$39,"x")) | H5: =IF(H$8="","",COUNTIF(H$9:H$39,TRUE)+COUNTIF(H$9:H$39,"x"))
A6: Completion | C6: =IF(OR(C$8="",$B$2=0),"",C5/$B$2) | D6: =IF(OR(D$8="",$B$2=0),"",D5/$B$2) | E6: =IF(OR(E$8="",$B$2=0),"",E5/$B$2) | F6: =IF(OR(F$8="",$B$2=0),"",F5/$B$2) | G6: =IF(OR(G$8="",$B$2=0),"",G5/$B$2) | H6: =IF(OR(H$8="",$B$2=0),"",H5/$B$2)
A7: Type x to tick a day. Completion divides by days elapsed, not by days in the month.
A8: Date | B8: Day | C8: =IF(Setup!$B$5="","",Setup!$B$5) | D8: =IF(Setup!$B$6="","",Setup!$B$6) | E8: =IF(Setup!$B$7="","",Setup!$B$7) | F8: =IF(Setup!$B$8="","",Setup!$B$8) | G8: =IF(Setup!$B$9="","",Setup!$B$9) | H8: =IF(Setup!$B$10="","",Setup!$B$10) | I8: Done today
A9: =$A$1 | B9: =IF(A9="","",A9) | I9: =IF(A9="","",COUNTIF(C9:H9,TRUE)+COUNTIF(C9:H9,"x")) | L9: =IF($A9="","",IF(OR(C9=TRUE,C9="x"),N(INDEX('Jul'!L$9:L$39,DAY($A$9-1)))+1,0)) | M9: =IF($A9="","",IF(OR(D9=TRUE,D9="x"),N(INDEX('Jul'!M$9:M$39,DAY($A$9-1)))+1,0)) | N9: =IF($A9="","",IF(OR(E9=TRUE,E9="x"),N(INDEX('Jul'!N$9:N$39,DAY($A$9-1)))+1,0)) | O9: =IF($A9="","",IF(OR(F9=TRUE,F9="x"),N(INDEX('Jul'!O$9:O$39,DAY($A$9-1)))+1,0)) | P9: =IF($A9="","",IF(OR(G9=TRUE,G9="x"),N(INDEX('Jul'!P$9:P$39,DAY($A$9-1)))+1,0)) | Q9: =IF($A9="","",IF(OR(H9=TRUE,H9="x"),N(INDEX('Jul'!Q$9:Q$39,DAY($A$9-1)))+1,0))
A10: =IF(A9="","",IF(MONTH(A9+1)=8,A9+1,"")) | B10: =IF(A10="","",A10) | I10: =IF(A10="","",COUNTIF(C10:H10,TRUE)+COUNTIF(C10:H10,"x")) | L10: =IF($A10="","",IF(OR(C10=TRUE,C10="x"),N(L9)+1,0)) | M10: =IF($A10="","",IF(OR(D10=TRUE,D10="x"),N(M9)+1,0)) | N10: =IF($A10="","",IF(OR(E10=TRUE,E10="x"),N(N9)+1,0)) | O10: =IF($A10="","",IF(OR(F10=TRUE,F10="x"),N(O9)+1,0)) | P10: =IF($A10="","",IF(OR(G10=TRUE,G10="x"),N(P9)+1,0)) | Q10: =IF($A10="","",IF(OR(H10=TRUE,H10="x"),N(Q9)+1,0))
A11: =IF(A10="","",IF(MONTH(A10+1)=8,A10+1,"")) | B11: =IF(A11="","",A11) | I11: =IF(A11="","",COUNTIF(C11:H11,TRUE)+COUNTIF(C11:H11,"x")) | L11: =IF($A11="","",IF(OR(C11=TRUE,C11="x"),N(L10)+1,0)) | M11: =IF($A11="","",IF(OR(D11=TRUE,D11="x"),N(M10)+1,0)) | N11: =IF($A11="","",IF(OR(E11=TRUE,E11="x"),N(N10)+1,0)) | O11: =IF($A11="","",IF(OR(F11=TRUE,F11="x"),N(O10)+1,0)) | P11: =IF($A11="","",IF(OR(G11=TRUE,G11="x"),N(P10)+1,0)) | Q11: =IF($A11="","",IF(OR(H11=TRUE,H11="x"),N(Q10)+1,0))
A12: =IF(A11="","",IF(MONTH(A11+1)=8,A11+1,"")) | B12: =IF(A12="","",A12) | I12: =IF(A12="","",COUNTIF(C12:H12,TRUE)+COUNTIF(C12:H12,"x")) | L12: =IF($A12="","",IF(OR(C12=TRUE,C12="x"),N(L11)+1,0)) | M12: =IF($A12="","",IF(OR(D12=TRUE,D12="x"),N(M11)+1,0)) | N12: =IF($A12="","",IF(OR(E12=TRUE,E12="x"),N(N11)+1,0)) | O12: =IF($A12="","",IF(OR(F12=TRUE,F12="x"),N(O11)+1,0)) | P12: =IF($A12="","",IF(OR(G12=TRUE,G12="x"),N(P11)+1,0)) | Q12: =IF($A12="","",IF(OR(H12=TRUE,H12="x"),N(Q11)+1,0))
A13: =IF(A12="","",IF(MONTH(A12+1)=8,A12+1,"")) | B13: =IF(A13="","",A13) | I13: =IF(A13="","",COUNTIF(C13:H13,TRUE)+COUNTIF(C13:H13,"x")) | L13: =IF($A13="","",IF(OR(C13=TRUE,C13="x"),N(L12)+1,0)) | M13: =IF($A13="","",IF(OR(D13=TRUE,D13="x"),N(M12)+1,0)) | N13: =IF($A13="","",IF(OR(E13=TRUE,E13="x"),N(N12)+1,0)) | O13: =IF($A13="","",IF(OR(F13=TRUE,F13="x"),N(O12)+1,0)) | P13: =IF($A13="","",IF(OR(G13=TRUE,G13="x"),N(P12)+1,0)) | Q13: =IF($A13="","",IF(OR(H13=TRUE,H13="x"),N(Q12)+1,0))
A14: =IF(A13="","",IF(MONTH(A13+1)=8,A13+1,"")) | B14: =IF(A14="","",A14) | I14: =IF(A14="","",COUNTIF(C14:H14,TRUE)+COUNTIF(C14:H14,"x")) | L14: =IF($A14="","",IF(OR(C14=TRUE,C14="x"),N(L13)+1,0)) | M14: =IF($A14="","",IF(OR(D14=TRUE,D14="x"),N(M13)+1,0)) | N14: =IF($A14="","",IF(OR(E14=TRUE,E14="x"),N(N13)+1,0)) | O14: =IF($A14="","",IF(OR(F14=TRUE,F14="x"),N(O13)+1,0)) | P14: =IF($A14="","",IF(OR(G14=TRUE,G14="x"),N(P13)+1,0)) | Q14: =IF($A14="","",IF(OR(H14=TRUE,H14="x"),N(Q13)+1,0))
A15: =IF(A14="","",IF(MONTH(A14+1)=8,A14+1,"")) | B15: =IF(A15="","",A15) | I15: =IF(A15="","",COUNTIF(C15:H15,TRUE)+COUNTIF(C15:H15,"x")) | L15: =IF($A15="","",IF(OR(C15=TRUE,C15="x"),N(L14)+1,0)) | M15: =IF($A15="","",IF(OR(D15=TRUE,D15="x"),N(M14)+1,0)) | N15: =IF($A15="","",IF(OR(E15=TRUE,E15="x"),N(N14)+1,0)) | O15: =IF($A15="","",IF(OR(F15=TRUE,F15="x"),N(O14)+1,0)) | P15: =IF($A15="","",IF(OR(G15=TRUE,G15="x"),N(P14)+1,0)) | Q15: =IF($A15="","",IF(OR(H15=TRUE,H15="x"),N(Q14)+1,0))
A16: =IF(A15="","",IF(MONTH(A15+1)=8,A15+1,"")) | B16: =IF(A16="","",A16) | I16: =IF(A16="","",COUNTIF(C16:H16,TRUE)+COUNTIF(C16:H16,"x")) | L16: =IF($A16="","",IF(OR(C16=TRUE,C16="x"),N(L15)+1,0)) | M16: =IF($A16="","",IF(OR(D16=TRUE,D16="x"),N(M15)+1,0)) | N16: =IF($A16="","",IF(OR(E16=TRUE,E16="x"),N(N15)+1,0)) | O16: =IF($A16="","",IF(OR(F16=TRUE,F16="x"),N(O15)+1,0)) | P16: =IF($A16="","",IF(OR(G16=TRUE,G16="x"),N(P15)+1,0)) | Q16: =IF($A16="","",IF(OR(H16=TRUE,H16="x"),N(Q15)+1,0))
A17: =IF(A16="","",IF(MONTH(A16+1)=8,A16+1,"")) | B17: =IF(A17="","",A17) | I17: =IF(A17="","",COUNTIF(C17:H17,TRUE)+COUNTIF(C17:H17,"x")) | L17: =IF($A17="","",IF(OR(C17=TRUE,C17="x"),N(L16)+1,0)) | M17: =IF($A17="","",IF(OR(D17=TRUE,D17="x"),N(M16)+1,0)) | N17: =IF($A17="","",IF(OR(E17=TRUE,E17="x"),N(N16)+1,0)) | O17: =IF($A17="","",IF(OR(F17=TRUE,F17="x"),N(O16)+1,0)) | P17: =IF($A17="","",IF(OR(G17=TRUE,G17="x"),N(P16)+1,0)) | Q17: =IF($A17="","",IF(OR(H17=TRUE,H17="x"),N(Q16)+1,0))
A18: =IF(A17="","",IF(MONTH(A17+1)=8,A17+1,"")) | B18: =IF(A18="","",A18) | I18: =IF(A18="","",COUNTIF(C18:H18,TRUE)+COUNTIF(C18:H18,"x")) | L18: =IF($A18="","",IF(OR(C18=TRUE,C18="x"),N(L17)+1,0)) | M18: =IF($A18="","",IF(OR(D18=TRUE,D18="x"),N(M17)+1,0)) | N18: =IF($A18="","",IF(OR(E18=TRUE,E18="x"),N(N17)+1,0)) | O18: =IF($A18="","",IF(OR(F18=TRUE,F18="x"),N(O17)+1,0)) | P18: =IF($A18="","",IF(OR(G18=TRUE,G18="x"),N(P17)+1,0)) | Q18: =IF($A18="","",IF(OR(H18=TRUE,H18="x"),N(Q17)+1,0))
A19: =IF(A18="","",IF(MONTH(A18+1)=8,A18+1,"")) | B19: =IF(A19="","",A19) | I19: =IF(A19="","",COUNTIF(C19:H19,TRUE)+COUNTIF(C19:H19,"x")) | L19: =IF($A19="","",IF(OR(C19=TRUE,C19="x"),N(L18)+1,0)) | M19: =IF($A19="","",IF(OR(D19=TRUE,D19="x"),N(M18)+1,0)) | N19: =IF($A19="","",IF(OR(E19=TRUE,E19="x"),N(N18)+1,0)) | O19: =IF($A19="","",IF(OR(F19=TRUE,F19="x"),N(O18)+1,0)) | P19: =IF($A19="","",IF(OR(G19=TRUE,G19="x"),N(P18)+1,0)) | Q19: =IF($A19="","",IF(OR(H19=TRUE,H19="x"),N(Q18)+1,0))
A20: =IF(A19="","",IF(MONTH(A19+1)=8,A19+1,"")) | B20: =IF(A20="","",A20) | I20: =IF(A20="","",COUNTIF(C20:H20,TRUE)+COUNTIF(C20:H20,"x")) | L20: =IF($A20="","",IF(OR(C20=TRUE,C20="x"),N(L19)+1,0)) | M20: =IF($A20="","",IF(OR(D20=TRUE,D20="x"),N(M19)+1,0)) | N20: =IF($A20="","",IF(OR(E20=TRUE,E20="x"),N(N19)+1,0)) | O20: =IF($A20="","",IF(OR(F20=TRUE,F20="x"),N(O19)+1,0)) | P20: =IF($A20="","",IF(OR(G20=TRUE,G20="x"),N(P19)+1,0)) | Q20: =IF($A20="","",IF(OR(H20=TRUE,H20="x"),N(Q19)+1,0))
A21: =IF(A20="","",IF(MONTH(A20+1)=8,A20+1,"")) | B21: =IF(A21="","",A21) | I21: =IF(A21="","",COUNTIF(C21:H21,TRUE)+COUNTIF(C21:H21,"x")) | L21: =IF($A21="","",IF(OR(C21=TRUE,C21="x"),N(L20)+1,0)) | M21: =IF($A21="","",IF(OR(D21=TRUE,D21="x"),N(M20)+1,0)) | N21: =IF($A21="","",IF(OR(E21=TRUE,E21="x"),N(N20)+1,0)) | O21: =IF($A21="","",IF(OR(F21=TRUE,F21="x"),N(O20)+1,0)) | P21: =IF($A21="","",IF(OR(G21=TRUE,G21="x"),N(P20)+1,0)) | Q21: =IF($A21="","",IF(OR(H21=TRUE,H21="x"),N(Q20)+1,0))
... A39: =IF(A38="","",IF(MONTH(A38+1)=8,A38+1,"")) | B39: =IF(A39="","",A39) | I39: =IF(A39="","",COUNTIF(C39:H39,TRUE)+COUNTIF(C39:H39,"x")) | L39: =IF($A39="","",IF(OR(C39=TRUE,C39="x"),N(L38)+1,0)) | M39: =IF($A39="","",IF(OR(D39=TRUE,D39="x"),N(M38)+1,0)) | N39: =IF($A39="","",IF(OR(E39=TRUE,E39="x"),N(N38)+1,0)) | O39: =IF($A39="","",IF(OR(F39=TRUE,F39="x"),N(O38)+1,0)) | P39: =IF($A39="","",IF(OR(G39=TRUE,G39="x"),N(P38)+1,0)) | Q39: =IF($A39="","",IF(OR(H39=TRUE,H39="x"),N(Q38)+1,0))

Sheet Sep
A1: =DATE(Setup!$B$2,9,1)
A2: Days elapsed | B2: =IF(TODAY()<$A$9,0,MIN(TODAY(),MAX($A$9:$A$39))-$A$9+1)
A3: Current streak | C3: =IF(C$8="","",IF($B$2=0,0,IF(OR(INDEX(L$9:L$39,$B$2)>0,TODAY()>MAX($A$9:$A$39),$B$2=1),INDEX(L$9:L$39,$B$2),INDEX(L$9:L$39,$B$2-1)))) | D3: =IF(D$8="","",IF($B$2=0,0,IF(OR(INDEX(M$9:M$39,$B$2)>0,TODAY()>MAX($A$9:$A$39),$B$2=1),INDEX(M$9:M$39,$B$2),INDEX(M$9:M$39,$B$2-1)))) | E3: =IF(E$8="","",IF($B$2=0,0,IF(OR(INDEX(N$9:N$39,$B$2)>0,TODAY()>MAX($A$9:$A$39),$B$2=1),INDEX(N$9:N$39,$B$2),INDEX(N$9:N$39,$B$2-1)))) | F3: =IF(F$8="","",IF($B$2=0,0,IF(OR(INDEX(O$9:O$39,$B$2)>0,TODAY()>MAX($A$9:$A$39),$B$2=1),INDEX(O$9:O$39,$B$2),INDEX(O$9:O$39,$B$2-1)))) | G3: =IF(G$8="","",IF($B$2=0,0,IF(OR(INDEX(P$9:P$39,$B$2)>0,TODAY()>MAX($A$9:$A$39),$B$2=1),INDEX(P$9:P$39,$B$2),INDEX(P$9:P$39,$B$2-1)))) | H3: =IF(H$8="","",IF($B$2=0,0,IF(OR(INDEX(Q$9:Q$39,$B$2)>0,TODAY()>MAX($A$9:$A$39),$B$2=1),INDEX(Q$9:Q$39,$B$2),INDEX(Q$9:Q$39,$B$2-1))))
A4: Longest streak | C4: =IF(C$8="","",MAX(L$9:L$39)) | D4: =IF(D$8="","",MAX(M$9:M$39)) | E4: =IF(E$8="","",MAX(N$9:N$39)) | F4: =IF(F$8="","",MAX(O$9:O$39)) | G4: =IF(G$8="","",MAX(P$9:P$39)) | H4: =IF(H$8="","",MAX(Q$9:Q$39))
A5: Days done | C5: =IF(C$8="","",COUNTIF(C$9:C$39,TRUE)+COUNTIF(C$9:C$39,"x")) | D5: =IF(D$8="","",COUNTIF(D$9:D$39,TRUE)+COUNTIF(D$9:D$39,"x")) | E5: =IF(E$8="","",COUNTIF(E$9:E$39,TRUE)+COUNTIF(E$9:E$39,"x")) | F5: =IF(F$8="","",COUNTIF(F$9:F$39,TRUE)+COUNTIF(F$9:F$39,"x")) | G5: =IF(G$8="","",COUNTIF(G$9:G$39,TRUE)+COUNTIF(G$9:G$39,"x")) | H5: =IF(H$8="","",COUNTIF(H$9:H$39,TRUE)+COUNTIF(H$9:H$39,"x"))
A6: Completion | C6: =IF(OR(C$8="",$B$2=0),"",C5/$B$2) | D6: =IF(OR(D$8="",$B$2=0),"",D5/$B$2) | E6: =IF(OR(E$8="",$B$2=0),"",E5/$B$2) | F6: =IF(OR(F$8="",$B$2=0),"",F5/$B$2) | G6: =IF(OR(G$8="",$B$2=0),"",G5/$B$2) | H6: =IF(OR(H$8="",$B$2=0),"",H5/$B$2)
A7: Type x to tick a day. Completion divides by days elapsed, not by days in the month.
A8: Date | B8: Day | C8: =IF(Setup!$B$5="","",Setup!$B$5) | D8: =IF(Setup!$B$6="","",Setup!$B$6) | E8: =IF(Setup!$B$7="","",Setup!$B$7) | F8: =IF(Setup!$B$8="","",Setup!$B$8) | G8: =IF(Setup!$B$9="","",Setup!$B$9) | H8: =IF(Setup!$B$10="","",Setup!$B$10) | I8: Done today
A9: =$A$1 | B9: =IF(A9="","",A9) | I9: =IF(A9="","",COUNTIF(C9:H9,TRUE)+COUNTIF(C9:H9,"x")) | L9: =IF($A9="","",IF(OR(C9=TRUE,C9="x"),N(INDEX('Aug'!L$9:L$39,DAY($A$9-1)))+1,0)) | M9: =IF($A9="","",IF(OR(D9=TRUE,D9="x"),N(INDEX('Aug'!M$9:M$39,DAY($A$9-1)))+1,0)) | N9: =IF($A9="","",IF(OR(E9=TRUE,E9="x"),N(INDEX('Aug'!N$9:N$39,DAY($A$9-1)))+1,0)) | O9: =IF($A9="","",IF(OR(F9=TRUE,F9="x"),N(INDEX('Aug'!O$9:O$39,DAY($A$9-1)))+1,0)) | P9: =IF($A9="","",IF(OR(G9=TRUE,G9="x"),N(INDEX('Aug'!P$9:P$39,DAY($A$9-1)))+1,0)) | Q9: =IF($A9="","",IF(OR(H9=TRUE,H9="x"),N(INDEX('Aug'!Q$9:Q$39,DAY($A$9-1)))+1,0))
A10: =IF(A9="","",IF(MONTH(A9+1)=9,A9+1,"")) | B10: =IF(A10="","",A10) | I10: =IF(A10="","",COUNTIF(C10:H10,TRUE)+COUNTIF(C10:H10,"x")) | L10: =IF($A10="","",IF(OR(C10=TRUE,C10="x"),N(L9)+1,0)) | M10: =IF($A10="","",IF(OR(D10=TRUE,D10="x"),N(M9)+1,0)) | N10: =IF($A10="","",IF(OR(E10=TRUE,E10="x"),N(N9)+1,0)) | O10: =IF($A10="","",IF(OR(F10=TRUE,F10="x"),N(O9)+1,0)) | P10: =IF($A10="","",IF(OR(G10=TRUE,G10="x"),N(P9)+1,0)) | Q10: =IF($A10="","",IF(OR(H10=TRUE,H10="x"),N(Q9)+1,0))
A11: =IF(A10="","",IF(MONTH(A10+1)=9,A10+1,"")) | B11: =IF(A11="","",A11) | I11: =IF(A11="","",COUNTIF(C11:H11,TRUE)+COUNTIF(C11:H11,"x")) | L11: =IF($A11="","",IF(OR(C11=TRUE,C11="x"),N(L10)+1,0)) | M11: =IF($A11="","",IF(OR(D11=TRUE,D11="x"),N(M10)+1,0)) | N11: =IF($A11="","",IF(OR(E11=TRUE,E11="x"),N(N10)+1,0)) | O11: =IF($A11="","",IF(OR(F11=TRUE,F11="x"),N(O10)+1,0)) | P11: =IF($A11="","",IF(OR(G11=TRUE,G11="x"),N(P10)+1,0)) | Q11: =IF($A11="","",IF(OR(H11=TRUE,H11="x"),N(Q10)+1,0))
A12: =IF(A11="","",IF(MONTH(A11+1)=9,A11+1,"")) | B12: =IF(A12="","",A12) | I12: =IF(A12="","",COUNTIF(C12:H12,TRUE)+COUNTIF(C12:H12,"x")) | L12: =IF($A12="","",IF(OR(C12=TRUE,C12="x"),N(L11)+1,0)) | M12: =IF($A12="","",IF(OR(D12=TRUE,D12="x"),N(M11)+1,0)) | N12: =IF($A12="","",IF(OR(E12=TRUE,E12="x"),N(N11)+1,0)) | O12: =IF($A12="","",IF(OR(F12=TRUE,F12="x"),N(O11)+1,0)) | P12: =IF($A12="","",IF(OR(G12=TRUE,G12="x"),N(P11)+1,0)) | Q12: =IF($A12="","",IF(OR(H12=TRUE,H12="x"),N(Q11)+1,0))
A13: =IF(A12="","",IF(MONTH(A12+1)=9,A12+1,"")) | B13: =IF(A13="","",A13) | I13: =IF(A13="","",COUNTIF(C13:H13,TRUE)+COUNTIF(C13:H13,"x")) | L13: =IF($A13="","",IF(OR(C13=TRUE,C13="x"),N(L12)+1,0)) | M13: =IF($A13="","",IF(OR(D13=TRUE,D13="x"),N(M12)+1,0)) | N13: =IF($A13="","",IF(OR(E13=TRUE,E13="x"),N(N12)+1,0)) | O13: =IF($A13="","",IF(OR(F13=TRUE,F13="x"),N(O12)+1,0)) | P13: =IF($A13="","",IF(OR(G13=TRUE,G13="x"),N(P12)+1,0)) | Q13: =IF($A13="","",IF(OR(H13=TRUE,H13="x"),N(Q12)+1,0))
A14: =IF(A13="","",IF(MONTH(A13+1)=9,A13+1,"")) | B14: =IF(A14="","",A14) | I14: =IF(A14="","",COUNTIF(C14:H14,TRUE)+COUNTIF(C14:H14,"x")) | L14: =IF($A14="","",IF(OR(C14=TRUE,C14="x"),N(L13)+1,0)) | M14: =IF($A14="","",IF(OR(D14=TRUE,D14="x"),N(M13)+1,0)) | N14: =IF($A14="","",IF(OR(E14=TRUE,E14="x"),N(N13)+1,0)) | O14: =IF($A14="","",IF(OR(F14=TRUE,F14="x"),N(O13)+1,0)) | P14: =IF($A14="","",IF(OR(G14=TRUE,G14="x"),N(P13)+1,0)) | Q14: =IF($A14="","",IF(OR(H14=TRUE,H14="x"),N(Q13)+1,0))
A15: =IF(A14="","",IF(MONTH(A14+1)=9,A14+1,"")) | B15: =IF(A15="","",A15) | I15: =IF(A15="","",COUNTIF(C15:H15,TRUE)+COUNTIF(C15:H15,"x")) | L15: =IF($A15="","",IF(OR(C15=TRUE,C15="x"),N(L14)+1,0)) | M15: =IF($A15="","",IF(OR(D15=TRUE,D15="x"),N(M14)+1,0)) | N15: =IF($A15="","",IF(OR(E15=TRUE,E15="x"),N(N14)+1,0)) | O15: =IF($A15="","",IF(OR(F15=TRUE,F15="x"),N(O14)+1,0)) | P15: =IF($A15="","",IF(OR(G15=TRUE,G15="x"),N(P14)+1,0)) | Q15: =IF($A15="","",IF(OR(H15=TRUE,H15="x"),N(Q14)+1,0))
A16: =IF(A15="","",IF(MONTH(A15+1)=9,A15+1,"")) | B16: =IF(A16="","",A16) | I16: =IF(A16="","",COUNTIF(C16:H16,TRUE)+COUNTIF(C16:H16,"x")) | L16: =IF($A16="","",IF(OR(C16=TRUE,C16="x"),N(L15)+1,0)) | M16: =IF($A16="","",IF(OR(D16=TRUE,D16="x"),N(M15)+1,0)) | N16: =IF($A16="","",IF(OR(E16=TRUE,E16="x"),N(N15)+1,0)) | O16: =IF($A16="","",IF(OR(F16=TRUE,F16="x"),N(O15)+1,0)) | P16: =IF($A16="","",IF(OR(G16=TRUE,G16="x"),N(P15)+1,0)) | Q16: =IF($A16="","",IF(OR(H16=TRUE,H16="x"),N(Q15)+1,0))
A17: =IF(A16="","",IF(MONTH(A16+1)=9,A16+1,"")) | B17: =IF(A17="","",A17) | I17: =IF(A17="","",COUNTIF(C17:H17,TRUE)+COUNTIF(C17:H17,"x")) | L17: =IF($A17="","",IF(OR(C17=TRUE,C17="x"),N(L16)+1,0)) | M17: =IF($A17="","",IF(OR(D17=TRUE,D17="x"),N(M16)+1,0)) | N17: =IF($A17="","",IF(OR(E17=TRUE,E17="x"),N(N16)+1,0)) | O17: =IF($A17="","",IF(OR(F17=TRUE,F17="x"),N(O16)+1,0)) | P17: =IF($A17="","",IF(OR(G17=TRUE,G17="x"),N(P16)+1,0)) | Q17: =IF($A17="","",IF(OR(H17=TRUE,H17="x"),N(Q16)+1,0))
A18: =IF(A17="","",IF(MONTH(A17+1)=9,A17+1,"")) | B18: =IF(A18="","",A18) | I18: =IF(A18="","",COUNTIF(C18:H18,TRUE)+COUNTIF(C18:H18,"x")) | L18: =IF($A18="","",IF(OR(C18=TRUE,C18="x"),N(L17)+1,0)) | M18: =IF($A18="","",IF(OR(D18=TRUE,D18="x"),N(M17)+1,0)) | N18: =IF($A18="","",IF(OR(E18=TRUE,E18="x"),N(N17)+1,0)) | O18: =IF($A18="","",IF(OR(F18=TRUE,F18="x"),N(O17)+1,0)) | P18: =IF($A18="","",IF(OR(G18=TRUE,G18="x"),N(P17)+1,0)) | Q18: =IF($A18="","",IF(OR(H18=TRUE,H18="x"),N(Q17)+1,0))
A19: =IF(A18="","",IF(MONTH(A18+1)=9,A18+1,"")) | B19: =IF(A19="","",A19) | I19: =IF(A19="","",COUNTIF(C19:H19,TRUE)+COUNTIF(C19:H19,"x")) | L19: =IF($A19="","",IF(OR(C19=TRUE,C19="x"),N(L18)+1,0)) | M19: =IF($A19="","",IF(OR(D19=TRUE,D19="x"),N(M18)+1,0)) | N19: =IF($A19="","",IF(OR(E19=TRUE,E19="x"),N(N18)+1,0)) | O19: =IF($A19="","",IF(OR(F19=TRUE,F19="x"),N(O18)+1,0)) | P19: =IF($A19="","",IF(OR(G19=TRUE,G19="x"),N(P18)+1,0)) | Q19: =IF($A19="","",IF(OR(H19=TRUE,H19="x"),N(Q18)+1,0))
A20: =IF(A19="","",IF(MONTH(A19+1)=9,A19+1,"")) | B20: =IF(A20="","",A20) | I20: =IF(A20="","",COUNTIF(C20:H20,TRUE)+COUNTIF(C20:H20,"x")) | L20: =IF($A20="","",IF(OR(C20=TRUE,C20="x"),N(L19)+1,0)) | M20: =IF($A20="","",IF(OR(D20=TRUE,D20="x"),N(M19)+1,0)) | N20: =IF($A20="","",IF(OR(E20=TRUE,E20="x"),N(N19)+1,0)) | O20: =IF($A20="","",IF(OR(F20=TRUE,F20="x"),N(O19)+1,0)) | P20: =IF($A20="","",IF(OR(G20=TRUE,G20="x"),N(P19)+1,0)) | Q20: =IF($A20="","",IF(OR(H20=TRUE,H20="x"),N(Q19)+1,0))
A21: =IF(A20="","",IF(MONTH(A20+1)=9,A20+1,"")) | B21: =IF(A21="","",A21) | I21: =IF(A21="","",COUNTIF(C21:H21,TRUE)+COUNTIF(C21:H21,"x")) | L21: =IF($A21="","",IF(OR(C21=TRUE,C21="x"),N(L20)+1,0)) | M21: =IF($A21="","",IF(OR(D21=TRUE,D21="x"),N(M20)+1,0)) | N21: =IF($A21="","",IF(OR(E21=TRUE,E21="x"),N(N20)+1,0)) | O21: =IF($A21="","",IF(OR(F21=TRUE,F21="x"),N(O20)+1,0)) | P21: =IF($A21="","",IF(OR(G21=TRUE,G21="x"),N(P20)+1,0)) | Q21: =IF($A21="","",IF(OR(H21=TRUE,H21="x"),N(Q20)+1,0))
... A39: =IF(A38="","",IF(MONTH(A38+1)=9,A38+1,"")) | B39: =IF(A39="","",A39) | I39: =IF(A39="","",COUNTIF(C39:H39,TRUE)+COUNTIF(C39:H39,"x")) | L39: =IF($A39="","",IF(OR(C39=TRUE,C39="x"),N(L38)+1,0)) | M39: =IF($A39="","",IF(OR(D39=TRUE,D39="x"),N(M38)+1,0)) | N39: =IF($A39="","",IF(OR(E39=TRUE,E39="x"),N(N38)+1,0)) | O39: =IF($A39="","",IF(OR(F39=TRUE,F39="x"),N(O38)+1,0)) | P39: =IF($A39="","",IF(OR(G39=TRUE,G39="x"),N(P38)+1,0)) | Q39: =IF($A39="","",IF(OR(H39=TRUE,H39="x"),N(Q38)+1,0))

Sheet Oct
A1: =DATE(Setup!$B$2,10,1)
A2: Days elapsed | B2: =IF(TODAY()<$A$9,0,MIN(TODAY(),MAX($A$9:$A$39))-$A$9+1)
A3: Current streak | C3: =IF(C$8="","",IF($B$2=0,0,IF(OR(INDEX(L$9:L$39,$B$2)>0,TODAY()>MAX($A$9:$A$39),$B$2=1),INDEX(L$9:L$39,$B$2),INDEX(L$9:L$39,$B$2-1)))) | D3: =IF(D$8="","",IF($B$2=0,0,IF(OR(INDEX(M$9:M$39,$B$2)>0,TODAY()>MAX($A$9:$A$39),$B$2=1),INDEX(M$9:M$39,$B$2),INDEX(M$9:M$39,$B$2-1)))) | E3: =IF(E$8="","",IF($B$2=0,0,IF(OR(INDEX(N$9:N$39,$B$2)>0,TODAY()>MAX($A$9:$A$39),$B$2=1),INDEX(N$9:N$39,$B$2),INDEX(N$9:N$39,$B$2-1)))) | F3: =IF(F$8="","",IF($B$2=0,0,IF(OR(INDEX(O$9:O$39,$B$2)>0,TODAY()>MAX($A$9:$A$39),$B$2=1),INDEX(O$9:O$39,$B$2),INDEX(O$9:O$39,$B$2-1)))) | G3: =IF(G$8="","",IF($B$2=0,0,IF(OR(INDEX(P$9:P$39,$B$2)>0,TODAY()>MAX($A$9:$A$39),$B$2=1),INDEX(P$9:P$39,$B$2),INDEX(P$9:P$39,$B$2-1)))) | H3: =IF(H$8="","",IF($B$2=0,0,IF(OR(INDEX(Q$9:Q$39,$B$2)>0,TODAY()>MAX($A$9:$A$39),$B$2=1),INDEX(Q$9:Q$39,$B$2),INDEX(Q$9:Q$39,$B$2-1))))
A4: Longest streak | C4: =IF(C$8="","",MAX(L$9:L$39)) | D4: =IF(D$8="","",MAX(M$9:M$39)) | E4: =IF(E$8="","",MAX(N$9:N$39)) | F4: =IF(F$8="","",MAX(O$9:O$39)) | G4: =IF(G$8="","",MAX(P$9:P$39)) | H4: =IF(H$8="","",MAX(Q$9:Q$39))
A5: Days done | C5: =IF(C$8="","",COUNTIF(C$9:C$39,TRUE)+COUNTIF(C$9:C$39,"x")) | D5: =IF(D$8="","",COUNTIF(D$9:D$39,TRUE)+COUNTIF(D$9:D$39,"x")) | E5: =IF(E$8="","",COUNTIF(E$9:E$39,TRUE)+COUNTIF(E$9:E$39,"x")) | F5: =IF(F$8="","",COUNTIF(F$9:F$39,TRUE)+COUNTIF(F$9:F$39,"x")) | G5: =IF(G$8="","",COUNTIF(G$9:G$39,TRUE)+COUNTIF(G$9:G$39,"x")) | H5: =IF(H$8="","",COUNTIF(H$9:H$39,TRUE)+COUNTIF(H$9:H$39,"x"))
A6: Completion | C6: =IF(OR(C$8="",$B$2=0),"",C5/$B$2) | D6: =IF(OR(D$8="",$B$2=0),"",D5/$B$2) | E6: =IF(OR(E$8="",$B$2=0),"",E5/$B$2) | F6: =IF(OR(F$8="",$B$2=0),"",F5/$B$2) | G6: =IF(OR(G$8="",$B$2=0),"",G5/$B$2) | H6: =IF(OR(H$8="",$B$2=0),"",H5/$B$2)
A7: Type x to tick a day. Completion divides by days elapsed, not by days in the month.
A8: Date | B8: Day | C8: =IF(Setup!$B$5="","",Setup!$B$5) | D8: =IF(Setup!$B$6="","",Setup!$B$6) | E8: =IF(Setup!$B$7="","",Setup!$B$7) | F8: =IF(Setup!$B$8="","",Setup!$B$8) | G8: =IF(Setup!$B$9="","",Setup!$B$9) | H8: =IF(Setup!$B$10="","",Setup!$B$10) | I8: Done today
A9: =$A$1 | B9: =IF(A9="","",A9) | I9: =IF(A9="","",COUNTIF(C9:H9,TRUE)+COUNTIF(C9:H9,"x")) | L9: =IF($A9="","",IF(OR(C9=TRUE,C9="x"),N(INDEX('Sep'!L$9:L$39,DAY($A$9-1)))+1,0)) | M9: =IF($A9="","",IF(OR(D9=TRUE,D9="x"),N(INDEX('Sep'!M$9:M$39,DAY($A$9-1)))+1,0)) | N9: =IF($A9="","",IF(OR(E9=TRUE,E9="x"),N(INDEX('Sep'!N$9:N$39,DAY($A$9-1)))+1,0)) | O9: =IF($A9="","",IF(OR(F9=TRUE,F9="x"),N(INDEX('Sep'!O$9:O$39,DAY($A$9-1)))+1,0)) | P9: =IF($A9="","",IF(OR(G9=TRUE,G9="x"),N(INDEX('Sep'!P$9:P$39,DAY($A$9-1)))+1,0)) | Q9: =IF($A9="","",IF(OR(H9=TRUE,H9="x"),N(INDEX('Sep'!Q$9:Q$39,DAY($A$9-1)))+1,0))
A10: =IF(A9="","",IF(MONTH(A9+1)=10,A9+1,"")) | B10: =IF(A10="","",A10) | I10: =IF(A10="","",COUNTIF(C10:H10,TRUE)+COUNTIF(C10:H10,"x")) | L10: =IF($A10="","",IF(OR(C10=TRUE,C10="x"),N(L9)+1,0)) | M10: =IF($A10="","",IF(OR(D10=TRUE,D10="x"),N(M9)+1,0)) | N10: =IF($A10="","",IF(OR(E10=TRUE,E10="x"),N(N9)+1,0)) | O10: =IF($A10="","",IF(OR(F10=TRUE,F10="x"),N(O9)+1,0)) | P10: =IF($A10="","",IF(OR(G10=TRUE,G10="x"),N(P9)+1,0)) | Q10: =IF($A10="","",IF(OR(H10=TRUE,H10="x"),N(Q9)+1,0))
A11: =IF(A10="","",IF(MONTH(A10+1)=10,A10+1,"")) | B11: =IF(A11="","",A11) | I11: =IF(A11="","",COUNTIF(C11:H11,TRUE)+COUNTIF(C11:H11,"x")) | L11: =IF($A11="","",IF(OR(C11=TRUE,C11="x"),N(L10)+1,0)) | M11: =IF($A11="","",IF(OR(D11=TRUE,D11="x"),N(M10)+1,0)) | N11: =IF($A11="","",IF(OR(E11=TRUE,E11="x"),N(N10)+1,0)) | O11: =IF($A11="","",IF(OR(F11=TRUE,F11="x"),N(O10)+1,0)) | P11: =IF($A11="","",IF(OR(G11=TRUE,G11="x"),N(P10)+1,0)) | Q11: =IF($A11="","",IF(OR(H11=TRUE,H11="x"),N(Q10)+1,0))
A12: =IF(A11="","",IF(MONTH(A11+1)=10,A11+1,"")) | B12: =IF(A12="","",A12) | I12: =IF(A12="","",COUNTIF(C12:H12,TRUE)+COUNTIF(C12:H12,"x")) | L12: =IF($A12="","",IF(OR(C12=TRUE,C12="x"),N(L11)+1,0)) | M12: =IF($A12="","",IF(OR(D12=TRUE,D12="x"),N(M11)+1,0)) | N12: =IF($A12="","",IF(OR(E12=TRUE,E12="x"),N(N11)+1,0)) | O12: =IF($A12="","",IF(OR(F12=TRUE,F12="x"),N(O11)+1,0)) | P12: =IF($A12="","",IF(OR(G12=TRUE,G12="x"),N(P11)+1,0)) | Q12: =IF($A12="","",IF(OR(H12=TRUE,H12="x"),N(Q11)+1,0))
A13: =IF(A12="","",IF(MONTH(A12+1)=10,A12+1,"")) | B13: =IF(A13="","",A13) | I13: =IF(A13="","",COUNTIF(C13:H13,TRUE)+COUNTIF(C13:H13,"x")) | L13: =IF($A13="","",IF(OR(C13=TRUE,C13="x"),N(L12)+1,0)) | M13: =IF($A13="","",IF(OR(D13=TRUE,D13="x"),N(M12)+1,0)) | N13: =IF($A13="","",IF(OR(E13=TRUE,E13="x"),N(N12)+1,0)) | O13: =IF($A13="","",IF(OR(F13=TRUE,F13="x"),N(O12)+1,0)) | P13: =IF($A13="","",IF(OR(G13=TRUE,G13="x"),N(P12)+1,0)) | Q13: =IF($A13="","",IF(OR(H13=TRUE,H13="x"),N(Q12)+1,0))
A14: =IF(A13="","",IF(MONTH(A13+1)=10,A13+1,"")) | B14: =IF(A14="","",A14) | I14: =IF(A14="","",COUNTIF(C14:H14,TRUE)+COUNTIF(C14:H14,"x")) | L14: =IF($A14="","",IF(OR(C14=TRUE,C14="x"),N(L13)+1,0)) | M14: =IF($A14="","",IF(OR(D14=TRUE,D14="x"),N(M13)+1,0)) | N14: =IF($A14="","",IF(OR(E14=TRUE,E14="x"),N(N13)+1,0)) | O14: =IF($A14="","",IF(OR(F14=TRUE,F14="x"),N(O13)+1,0)) | P14: =IF($A14="","",IF(OR(G14=TRUE,G14="x"),N(P13)+1,0)) | Q14: =IF($A14="","",IF(OR(H14=TRUE,H14="x"),N(Q13)+1,0))
A15: =IF(A14="","",IF(MONTH(A14+1)=10,A14+1,"")) | B15: =IF(A15="","",A15) | I15: =IF(A15="","",COUNTIF(C15:H15,TRUE)+COUNTIF(C15:H15,"x")) | L15: =IF($A15="","",IF(OR(C15=TRUE,C15="x"),N(L14)+1,0)) | M15: =IF($A15="","",IF(OR(D15=TRUE,D15="x"),N(M14)+1,0)) | N15: =IF($A15="","",IF(OR(E15=TRUE,E15="x"),N(N14)+1,0)) | O15: =IF($A15="","",IF(OR(F15=TRUE,F15="x"),N(O14)+1,0)) | P15: =IF($A15="","",IF(OR(G15=TRUE,G15="x"),N(P14)+1,0)) | Q15: =IF($A15="","",IF(OR(H15=TRUE,H15="x"),N(Q14)+1,0))
A16: =IF(A15="","",IF(MONTH(A15+1)=10,A15+1,"")) | B16: =IF(A16="","",A16) | I16: =IF(A16="","",COUNTIF(C16:H16,TRUE)+COUNTIF(C16:H16,"x")) | L16: =IF($A16="","",IF(OR(C16=TRUE,C16="x"),N(L15)+1,0)) | M16: =IF($A16="","",IF(OR(D16=TRUE,D16="x"),N(M15)+1,0)) | N16: =IF($A16="","",IF(OR(E16=TRUE,E16="x"),N(N15)+1,0)) | O16: =IF($A16="","",IF(OR(F16=TRUE,F16="x"),N(O15)+1,0)) | P16: =IF($A16="","",IF(OR(G16=TRUE,G16="x"),N(P15)+1,0)) | Q16: =IF($A16="","",IF(OR(H16=TRUE,H16="x"),N(Q15)+1,0))
A17: =IF(A16="","",IF(MONTH(A16+1)=10,A16+1,"")) | B17: =IF(A17="","",A17) | I17: =IF(A17="","",COUNTIF(C17:H17,TRUE)+COUNTIF(C17:H17,"x")) | L17: =IF($A17="","",IF(OR(C17=TRUE,C17="x"),N(L16)+1,0)) | M17: =IF($A17="","",IF(OR(D17=TRUE,D17="x"),N(M16)+1,0)) | N17: =IF($A17="","",IF(OR(E17=TRUE,E17="x"),N(N16)+1,0)) | O17: =IF($A17="","",IF(OR(F17=TRUE,F17="x"),N(O16)+1,0)) | P17: =IF($A17="","",IF(OR(G17=TRUE,G17="x"),N(P16)+1,0)) | Q17: =IF($A17="","",IF(OR(H17=TRUE,H17="x"),N(Q16)+1,0))
A18: =IF(A17="","",IF(MONTH(A17+1)=10,A17+1,"")) | B18: =IF(A18="","",A18) | I18: =IF(A18="","",COUNTIF(C18:H18,TRUE)+COUNTIF(C18:H18,"x")) | L18: =IF($A18="","",IF(OR(C18=TRUE,C18="x"),N(L17)+1,0)) | M18: =IF($A18="","",IF(OR(D18=TRUE,D18="x"),N(M17)+1,0)) | N18: =IF($A18="","",IF(OR(E18=TRUE,E18="x"),N(N17)+1,0)) | O18: =IF($A18="","",IF(OR(F18=TRUE,F18="x"),N(O17)+1,0)) | P18: =IF($A18="","",IF(OR(G18=TRUE,G18="x"),N(P17)+1,0)) | Q18: =IF($A18="","",IF(OR(H18=TRUE,H18="x"),N(Q17)+1,0))
A19: =IF(A18="","",IF(MONTH(A18+1)=10,A18+1,"")) | B19: =IF(A19="","",A19) | I19: =IF(A19="","",COUNTIF(C19:H19,TRUE)+COUNTIF(C19:H19,"x")) | L19: =IF($A19="","",IF(OR(C19=TRUE,C19="x"),N(L18)+1,0)) | M19: =IF($A19="","",IF(OR(D19=TRUE,D19="x"),N(M18)+1,0)) | N19: =IF($A19="","",IF(OR(E19=TRUE,E19="x"),N(N18)+1,0)) | O19: =IF($A19="","",IF(OR(F19=TRUE,F19="x"),N(O18)+1,0)) | P19: =IF($A19="","",IF(OR(G19=TRUE,G19="x"),N(P18)+1,0)) | Q19: =IF($A19="","",IF(OR(H19=TRUE,H19="x"),N(Q18)+1,0))
A20: =IF(A19="","",IF(MONTH(A19+1)=10,A19+1,"")) | B20: =IF(A20="","",A20) | I20: =IF(A20="","",COUNTIF(C20:H20,TRUE)+COUNTIF(C20:H20,"x")) | L20: =IF($A20="","",IF(OR(C20=TRUE,C20="x"),N(L19)+1,0)) | M20: =IF($A20="","",IF(OR(D20=TRUE,D20="x"),N(M19)+1,0)) | N20: =IF($A20="","",IF(OR(E20=TRUE,E20="x"),N(N19)+1,0)) | O20: =IF($A20="","",IF(OR(F20=TRUE,F20="x"),N(O19)+1,0)) | P20: =IF($A20="","",IF(OR(G20=TRUE,G20="x"),N(P19)+1,0)) | Q20: =IF($A20="","",IF(OR(H20=TRUE,H20="x"),N(Q19)+1,0))
A21: =IF(A20="","",IF(MONTH(A20+1)=10,A20+1,"")) | B21: =IF(A21="","",A21) | I21: =IF(A21="","",COUNTIF(C21:H21,TRUE)+COUNTIF(C21:H21,"x")) | L21: =IF($A21="","",IF(OR(C21=TRUE,C21="x"),N(L20)+1,0)) | M21: =IF($A21="","",IF(OR(D21=TRUE,D21="x"),N(M20)+1,0)) | N21: =IF($A21="","",IF(OR(E21=TRUE,E21="x"),N(N20)+1,0)) | O21: =IF($A21="","",IF(OR(F21=TRUE,F21="x"),N(O20)+1,0)) | P21: =IF($A21="","",IF(OR(G21=TRUE,G21="x"),N(P20)+1,0)) | Q21: =IF($A21="","",IF(OR(H21=TRUE,H21="x"),N(Q20)+1,0))
... A39: =IF(A38="","",IF(MONTH(A38+1)=10,A38+1,"")) | B39: =IF(A39="","",A39) | I39: =IF(A39="","",COUNTIF(C39:H39,TRUE)+COUNTIF(C39:H39,"x")) | L39: =IF($A39="","",IF(OR(C39=TRUE,C39="x"),N(L38)+1,0)) | M39: =IF($A39="","",IF(OR(D39=TRUE,D39="x"),N(M38)+1,0)) | N39: =IF($A39="","",IF(OR(E39=TRUE,E39="x"),N(N38)+1,0)) | O39: =IF($A39="","",IF(OR(F39=TRUE,F39="x"),N(O38)+1,0)) | P39: =IF($A39="","",IF(OR(G39=TRUE,G39="x"),N(P38)+1,0)) | Q39: =IF($A39="","",IF(OR(H39=TRUE,H39="x"),N(Q38)+1,0))

Sheet Nov
A1: =DATE(Setup!$B$2,11,1)
A2: Days elapsed | B2: =IF(TODAY()<$A$9,0,MIN(TODAY(),MAX($A$9:$A$39))-$A$9+1)
A3: Current streak | C3: =IF(C$8="","",IF($B$2=0,0,IF(OR(INDEX(L$9:L$39,$B$2)>0,TODAY()>MAX($A$9:$A$39),$B$2=1),INDEX(L$9:L$39,$B$2),INDEX(L$9:L$39,$B$2-1)))) | D3: =IF(D$8="","",IF($B$2=0,0,IF(OR(INDEX(M$9:M$39,$B$2)>0,TODAY()>MAX($A$9:$A$39),$B$2=1),INDEX(M$9:M$39,$B$2),INDEX(M$9:M$39,$B$2-1)))) | E3: =IF(E$8="","",IF($B$2=0,0,IF(OR(INDEX(N$9:N$39,$B$2)>0,TODAY()>MAX($A$9:$A$39),$B$2=1),INDEX(N$9:N$39,$B$2),INDEX(N$9:N$39,$B$2-1)))) | F3: =IF(F$8="","",IF($B$2=0,0,IF(OR(INDEX(O$9:O$39,$B$2)>0,TODAY()>MAX($A$9:$A$39),$B$2=1),INDEX(O$9:O$39,$B$2),INDEX(O$9:O$39,$B$2-1)))) | G3: =IF(G$8="","",IF($B$2=0,0,IF(OR(INDEX(P$9:P$39,$B$2)>0,TODAY()>MAX($A$9:$A$39),$B$2=1),INDEX(P$9:P$39,$B$2),INDEX(P$9:P$39,$B$2-1)))) | H3: =IF(H$8="","",IF($B$2=0,0,IF(OR(INDEX(Q$9:Q$39,$B$2)>0,TODAY()>MAX($A$9:$A$39),$B$2=1),INDEX(Q$9:Q$39,$B$2),INDEX(Q$9:Q$39,$B$2-1))))
A4: Longest streak | C4: =IF(C$8="","",MAX(L$9:L$39)) | D4: =IF(D$8="","",MAX(M$9:M$39)) | E4: =IF(E$8="","",MAX(N$9:N$39)) | F4: =IF(F$8="","",MAX(O$9:O$39)) | G4: =IF(G$8="","",MAX(P$9:P$39)) | H4: =IF(H$8="","",MAX(Q$9:Q$39))
A5: Days done | C5: =IF(C$8="","",COUNTIF(C$9:C$39,TRUE)+COUNTIF(C$9:C$39,"x")) | D5: =IF(D$8="","",COUNTIF(D$9:D$39,TRUE)+COUNTIF(D$9:D$39,"x")) | E5: =IF(E$8="","",COUNTIF(E$9:E$39,TRUE)+COUNTIF(E$9:E$39,"x")) | F5: =IF(F$8="","",COUNTIF(F$9:F$39,TRUE)+COUNTIF(F$9:F$39,"x")) | G5: =IF(G$8="","",COUNTIF(G$9:G$39,TRUE)+COUNTIF(G$9:G$39,"x")) | H5: =IF(H$8="","",COUNTIF(H$9:H$39,TRUE)+COUNTIF(H$9:H$39,"x"))
A6: Completion | C6: =IF(OR(C$8="",$B$2=0),"",C5/$B$2) | D6: =IF(OR(D$8="",$B$2=0),"",D5/$B$2) | E6: =IF(OR(E$8="",$B$2=0),"",E5/$B$2) | F6: =IF(OR(F$8="",$B$2=0),"",F5/$B$2) | G6: =IF(OR(G$8="",$B$2=0),"",G5/$B$2) | H6: =IF(OR(H$8="",$B$2=0),"",H5/$B$2)
A7: Type x to tick a day. Completion divides by days elapsed, not by days in the month.
A8: Date | B8: Day | C8: =IF(Setup!$B$5="","",Setup!$B$5) | D8: =IF(Setup!$B$6="","",Setup!$B$6) | E8: =IF(Setup!$B$7="","",Setup!$B$7) | F8: =IF(Setup!$B$8="","",Setup!$B$8) | G8: =IF(Setup!$B$9="","",Setup!$B$9) | H8: =IF(Setup!$B$10="","",Setup!$B$10) | I8: Done today
A9: =$A$1 | B9: =IF(A9="","",A9) | I9: =IF(A9="","",COUNTIF(C9:H9,TRUE)+COUNTIF(C9:H9,"x")) | L9: =IF($A9="","",IF(OR(C9=TRUE,C9="x"),N(INDEX('Oct'!L$9:L$39,DAY($A$9-1)))+1,0)) | M9: =IF($A9="","",IF(OR(D9=TRUE,D9="x"),N(INDEX('Oct'!M$9:M$39,DAY($A$9-1)))+1,0)) | N9: =IF($A9="","",IF(OR(E9=TRUE,E9="x"),N(INDEX('Oct'!N$9:N$39,DAY($A$9-1)))+1,0)) | O9: =IF($A9="","",IF(OR(F9=TRUE,F9="x"),N(INDEX('Oct'!O$9:O$39,DAY($A$9-1)))+1,0)) | P9: =IF($A9="","",IF(OR(G9=TRUE,G9="x"),N(INDEX('Oct'!P$9:P$39,DAY($A$9-1)))+1,0)) | Q9: =IF($A9="","",IF(OR(H9=TRUE,H9="x"),N(INDEX('Oct'!Q$9:Q$39,DAY($A$9-1)))+1,0))
A10: =IF(A9="","",IF(MONTH(A9+1)=11,A9+1,"")) | B10: =IF(A10="","",A10) | I10: =IF(A10="","",COUNTIF(C10:H10,TRUE)+COUNTIF(C10:H10,"x")) | L10: =IF($A10="","",IF(OR(C10=TRUE,C10="x"),N(L9)+1,0)) | M10: =IF($A10="","",IF(OR(D10=TRUE,D10="x"),N(M9)+1,0)) | N10: =IF($A10="","",IF(OR(E10=TRUE,E10="x"),N(N9)+1,0)) | O10: =IF($A10="","",IF(OR(F10=TRUE,F10="x"),N(O9)+1,0)) | P10: =IF($A10="","",IF(OR(G10=TRUE,G10="x"),N(P9)+1,0)) | Q10: =IF($A10="","",IF(OR(H10=TRUE,H10="x"),N(Q9)+1,0))
A11: =IF(A10="","",IF(MONTH(A10+1)=11,A10+1,"")) | B11: =IF(A11="","",A11) | I11: =IF(A11="","",COUNTIF(C11:H11,TRUE)+COUNTIF(C11:H11,"x")) | L11: =IF($A11="","",IF(OR(C11=TRUE,C11="x"),N(L10)+1,0)) | M11: =IF($A11="","",IF(OR(D11=TRUE,D11="x"),N(M10)+1,0)) | N11: =IF($A11="","",IF(OR(E11=TRUE,E11="x"),N(N10)+1,0)) | O11: =IF($A11="","",IF(OR(F11=TRUE,F11="x"),N(O10)+1,0)) | P11: =IF($A11="","",IF(OR(G11=TRUE,G11="x"),N(P10)+1,0)) | Q11: =IF($A11="","",IF(OR(H11=TRUE,H11="x"),N(Q10)+1,0))
A12: =IF(A11="","",IF(MONTH(A11+1)=11,A11+1,"")) | B12: =IF(A12="","",A12) | I12: =IF(A12="","",COUNTIF(C12:H12,TRUE)+COUNTIF(C12:H12,"x")) | L12: =IF($A12="","",IF(OR(C12=TRUE,C12="x"),N(L11)+1,0)) | M12: =IF($A12="","",IF(OR(D12=TRUE,D12="x"),N(M11)+1,0)) | N12: =IF($A12="","",IF(OR(E12=TRUE,E12="x"),N(N11)+1,0)) | O12: =IF($A12="","",IF(OR(F12=TRUE,F12="x"),N(O11)+1,0)) | P12: =IF($A12="","",IF(OR(G12=TRUE,G12="x"),N(P11)+1,0)) | Q12: =IF($A12="","",IF(OR(H12=TRUE,H12="x"),N(Q11)+1,0))
A13: =IF(A12="","",IF(MONTH(A12+1)=11,A12+1,"")) | B13: =IF(A13="","",A13) | I13: =IF(A13="","",COUNTIF(C13:H13,TRUE)+COUNTIF(C13:H13,"x")) | L13: =IF($A13="","",IF(OR(C13=TRUE,C13="x"),N(L12)+1,0)) | M13: =IF($A13="","",IF(OR(D13=TRUE,D13="x"),N(M12)+1,0)) | N13: =IF($A13="","",IF(OR(E13=TRUE,E13="x"),N(N12)+1,0)) | O13: =IF($A13="","",IF(OR(F13=TRUE,F13="x"),N(O12)+1,0)) | P13: =IF($A13="","",IF(OR(G13=TRUE,G13="x"),N(P12)+1,0)) | Q13: =IF($A13="","",IF(OR(H13=TRUE,H13="x"),N(Q12)+1,0))
A14: =IF(A13="","",IF(MONTH(A13+1)=11,A13+1,"")) | B14: =IF(A14="","",A14) | I14: =IF(A14="","",COUNTIF(C14:H14,TRUE)+COUNTIF(C14:H14,"x")) | L14: =IF($A14="","",IF(OR(C14=TRUE,C14="x"),N(L13)+1,0)) | M14: =IF($A14="","",IF(OR(D14=TRUE,D14="x"),N(M13)+1,0)) | N14: =IF($A14="","",IF(OR(E14=TRUE,E14="x"),N(N13)+1,0)) | O14: =IF($A14="","",IF(OR(F14=TRUE,F14="x"),N(O13)+1,0)) | P14: =IF($A14="","",IF(OR(G14=TRUE,G14="x"),N(P13)+1,0)) | Q14: =IF($A14="","",IF(OR(H14=TRUE,H14="x"),N(Q13)+1,0))
A15: =IF(A14="","",IF(MONTH(A14+1)=11,A14+1,"")) | B15: =IF(A15="","",A15) | I15: =IF(A15="","",COUNTIF(C15:H15,TRUE)+COUNTIF(C15:H15,"x")) | L15: =IF($A15="","",IF(OR(C15=TRUE,C15="x"),N(L14)+1,0)) | M15: =IF($A15="","",IF(OR(D15=TRUE,D15="x"),N(M14)+1,0)) | N15: =IF($A15="","",IF(OR(E15=TRUE,E15="x"),N(N14)+1,0)) | O15: =IF($A15="","",IF(OR(F15=TRUE,F15="x"),N(O14)+1,0)) | P15: =IF($A15="","",IF(OR(G15=TRUE,G15="x"),N(P14)+1,0)) | Q15: =IF($A15="","",IF(OR(H15=TRUE,H15="x"),N(Q14)+1,0))
A16: =IF(A15="","",IF(MONTH(A15+1)=11,A15+1,"")) | B16: =IF(A16="","",A16) | I16: =IF(A16="","",COUNTIF(C16:H16,TRUE)+COUNTIF(C16:H16,"x")) | L16: =IF($A16="","",IF(OR(C16=TRUE,C16="x"),N(L15)+1,0)) | M16: =IF($A16="","",IF(OR(D16=TRUE,D16="x"),N(M15)+1,0)) | N16: =IF($A16="","",IF(OR(E16=TRUE,E16="x"),N(N15)+1,0)) | O16: =IF($A16="","",IF(OR(F16=TRUE,F16="x"),N(O15)+1,0)) | P16: =IF($A16="","",IF(OR(G16=TRUE,G16="x"),N(P15)+1,0)) | Q16: =IF($A16="","",IF(OR(H16=TRUE,H16="x"),N(Q15)+1,0))
A17: =IF(A16="","",IF(MONTH(A16+1)=11,A16+1,"")) | B17: =IF(A17="","",A17) | I17: =IF(A17="","",COUNTIF(C17:H17,TRUE)+COUNTIF(C17:H17,"x")) | L17: =IF($A17="","",IF(OR(C17=TRUE,C17="x"),N(L16)+1,0)) | M17: =IF($A17="","",IF(OR(D17=TRUE,D17="x"),N(M16)+1,0)) | N17: =IF($A17="","",IF(OR(E17=TRUE,E17="x"),N(N16)+1,0)) | O17: =IF($A17="","",IF(OR(F17=TRUE,F17="x"),N(O16)+1,0)) | P17: =IF($A17="","",IF(OR(G17=TRUE,G17="x"),N(P16)+1,0)) | Q17: =IF($A17="","",IF(OR(H17=TRUE,H17="x"),N(Q16)+1,0))
A18: =IF(A17="","",IF(MONTH(A17+1)=11,A17+1,"")) | B18: =IF(A18="","",A18) | I18: =IF(A18="","",COUNTIF(C18:H18,TRUE)+COUNTIF(C18:H18,"x")) | L18: =IF($A18="","",IF(OR(C18=TRUE,C18="x"),N(L17)+1,0)) | M18: =IF($A18="","",IF(OR(D18=TRUE,D18="x"),N(M17)+1,0)) | N18: =IF($A18="","",IF(OR(E18=TRUE,E18="x"),N(N17)+1,0)) | O18: =IF($A18="","",IF(OR(F18=TRUE,F18="x"),N(O17)+1,0)) | P18: =IF($A18="","",IF(OR(G18=TRUE,G18="x"),N(P17)+1,0)) | Q18: =IF($A18="","",IF(OR(H18=TRUE,H18="x"),N(Q17)+1,0))
A19: =IF(A18="","",IF(MONTH(A18+1)=11,A18+1,"")) | B19: =IF(A19="","",A19) | I19: =IF(A19="","",COUNTIF(C19:H19,TRUE)+COUNTIF(C19:H19,"x")) | L19: =IF($A19="","",IF(OR(C19=TRUE,C19="x"),N(L18)+1,0)) | M19: =IF($A19="","",IF(OR(D19=TRUE,D19="x"),N(M18)+1,0)) | N19: =IF($A19="","",IF(OR(E19=TRUE,E19="x"),N(N18)+1,0)) | O19: =IF($A19="","",IF(OR(F19=TRUE,F19="x"),N(O18)+1,0)) | P19: =IF($A19="","",IF(OR(G19=TRUE,G19="x"),N(P18)+1,0)) | Q19: =IF($A19="","",IF(OR(H19=TRUE,H19="x"),N(Q18)+1,0))
A20: =IF(A19="","",IF(MONTH(A19+1)=11,A19+1,"")) | B20: =IF(A20="","",A20) | I20: =IF(A20="","",COUNTIF(C20:H20,TRUE)+COUNTIF(C20:H20,"x")) | L20: =IF($A20="","",IF(OR(C20=TRUE,C20="x"),N(L19)+1,0)) | M20: =IF($A20="","",IF(OR(D20=TRUE,D20="x"),N(M19)+1,0)) | N20: =IF($A20="","",IF(OR(E20=TRUE,E20="x"),N(N19)+1,0)) | O20: =IF($A20="","",IF(OR(F20=TRUE,F20="x"),N(O19)+1,0)) | P20: =IF($A20="","",IF(OR(G20=TRUE,G20="x"),N(P19)+1,0)) | Q20: =IF($A20="","",IF(OR(H20=TRUE,H20="x"),N(Q19)+1,0))
A21: =IF(A20="","",IF(MONTH(A20+1)=11,A20+1,"")) | B21: =IF(A21="","",A21) | I21: =IF(A21="","",COUNTIF(C21:H21,TRUE)+COUNTIF(C21:H21,"x")) | L21: =IF($A21="","",IF(OR(C21=TRUE,C21="x"),N(L20)+1,0)) | M21: =IF($A21="","",IF(OR(D21=TRUE,D21="x"),N(M20)+1,0)) | N21: =IF($A21="","",IF(OR(E21=TRUE,E21="x"),N(N20)+1,0)) | O21: =IF($A21="","",IF(OR(F21=TRUE,F21="x"),N(O20)+1,0)) | P21: =IF($A21="","",IF(OR(G21=TRUE,G21="x"),N(P20)+1,0)) | Q21: =IF($A21="","",IF(OR(H21=TRUE,H21="x"),N(Q20)+1,0))
... A39: =IF(A38="","",IF(MONTH(A38+1)=11,A38+1,"")) | B39: =IF(A39="","",A39) | I39: =IF(A39="","",COUNTIF(C39:H39,TRUE)+COUNTIF(C39:H39,"x")) | L39: =IF($A39="","",IF(OR(C39=TRUE,C39="x"),N(L38)+1,0)) | M39: =IF($A39="","",IF(OR(D39=TRUE,D39="x"),N(M38)+1,0)) | N39: =IF($A39="","",IF(OR(E39=TRUE,E39="x"),N(N38)+1,0)) | O39: =IF($A39="","",IF(OR(F39=TRUE,F39="x"),N(O38)+1,0)) | P39: =IF($A39="","",IF(OR(G39=TRUE,G39="x"),N(P38)+1,0)) | Q39: =IF($A39="","",IF(OR(H39=TRUE,H39="x"),N(Q38)+1,0))

Sheet Dec
A1: =DATE(Setup!$B$2,12,1)
A2: Days elapsed | B2: =IF(TODAY()<$A$9,0,MIN(TODAY(),MAX($A$9:$A$39))-$A$9+1)
A3: Current streak | C3: =IF(C$8="","",IF($B$2=0,0,IF(OR(INDEX(L$9:L$39,$B$2)>0,TODAY()>MAX($A$9:$A$39),$B$2=1),INDEX(L$9:L$39,$B$2),INDEX(L$9:L$39,$B$2-1)))) | D3: =IF(D$8="","",IF($B$2=0,0,IF(OR(INDEX(M$9:M$39,$B$2)>0,TODAY()>MAX($A$9:$A$39),$B$2=1),INDEX(M$9:M$39,$B$2),INDEX(M$9:M$39,$B$2-1)))) | E3: =IF(E$8="","",IF($B$2=0,0,IF(OR(INDEX(N$9:N$39,$B$2)>0,TODAY()>MAX($A$9:$A$39),$B$2=1),INDEX(N$9:N$39,$B$2),INDEX(N$9:N$39,$B$2-1)))) | F3: =IF(F$8="","",IF($B$2=0,0,IF(OR(INDEX(O$9:O$39,$B$2)>0,TODAY()>MAX($A$9:$A$39),$B$2=1),INDEX(O$9:O$39,$B$2),INDEX(O$9:O$39,$B$2-1)))) | G3: =IF(G$8="","",IF($B$2=0,0,IF(OR(INDEX(P$9:P$39,$B$2)>0,TODAY()>MAX($A$9:$A$39),$B$2=1),INDEX(P$9:P$39,$B$2),INDEX(P$9:P$39,$B$2-1)))) | H3: =IF(H$8="","",IF($B$2=0,0,IF(OR(INDEX(Q$9:Q$39,$B$2)>0,TODAY()>MAX($A$9:$A$39),$B$2=1),INDEX(Q$9:Q$39,$B$2),INDEX(Q$9:Q$39,$B$2-1))))
A4: Longest streak | C4: =IF(C$8="","",MAX(L$9:L$39)) | D4: =IF(D$8="","",MAX(M$9:M$39)) | E4: =IF(E$8="","",MAX(N$9:N$39)) | F4: =IF(F$8="","",MAX(O$9:O$39)) | G4: =IF(G$8="","",MAX(P$9:P$39)) | H4: =IF(H$8="","",MAX(Q$9:Q$39))
A5: Days done | C5: =IF(C$8="","",COUNTIF(C$9:C$39,TRUE)+COUNTIF(C$9:C$39,"x")) | D5: =IF(D$8="","",COUNTIF(D$9:D$39,TRUE)+COUNTIF(D$9:D$39,"x")) | E5: =IF(E$8="","",COUNTIF(E$9:E$39,TRUE)+COUNTIF(E$9:E$39,"x")) | F5: =IF(F$8="","",COUNTIF(F$9:F$39,TRUE)+COUNTIF(F$9:F$39,"x")) | G5: =IF(G$8="","",COUNTIF(G$9:G$39,TRUE)+COUNTIF(G$9:G$39,"x")) | H5: =IF(H$8="","",COUNTIF(H$9:H$39,TRUE)+COUNTIF(H$9:H$39,"x"))
A6: Completion | C6: =IF(OR(C$8="",$B$2=0),"",C5/$B$2) | D6: =IF(OR(D$8="",$B$2=0),"",D5/$B$2) | E6: =IF(OR(E$8="",$B$2=0),"",E5/$B$2) | F6: =IF(OR(F$8="",$B$2=0),"",F5/$B$2) | G6: =IF(OR(G$8="",$B$2=0),"",G5/$B$2) | H6: =IF(OR(H$8="",$B$2=0),"",H5/$B$2)
A7: Type x to tick a day. Completion divides by days elapsed, not by days in the month.
A8: Date | B8: Day | C8: =IF(Setup!$B$5="","",Setup!$B$5) | D8: =IF(Setup!$B$6="","",Setup!$B$6) | E8: =IF(Setup!$B$7="","",Setup!$B$7) | F8: =IF(Setup!$B$8="","",Setup!$B$8) | G8: =IF(Setup!$B$9="","",Setup!$B$9) | H8: =IF(Setup!$B$10="","",Setup!$B$10) | I8: Done today
A9: =$A$1 | B9: =IF(A9="","",A9) | I9: =IF(A9="","",COUNTIF(C9:H9,TRUE)+COUNTIF(C9:H9,"x")) | L9: =IF($A9="","",IF(OR(C9=TRUE,C9="x"),N(INDEX('Nov'!L$9:L$39,DAY($A$9-1)))+1,0)) | M9: =IF($A9="","",IF(OR(D9=TRUE,D9="x"),N(INDEX('Nov'!M$9:M$39,DAY($A$9-1)))+1,0)) | N9: =IF($A9="","",IF(OR(E9=TRUE,E9="x"),N(INDEX('Nov'!N$9:N$39,DAY($A$9-1)))+1,0)) | O9: =IF($A9="","",IF(OR(F9=TRUE,F9="x"),N(INDEX('Nov'!O$9:O$39,DAY($A$9-1)))+1,0)) | P9: =IF($A9="","",IF(OR(G9=TRUE,G9="x"),N(INDEX('Nov'!P$9:P$39,DAY($A$9-1)))+1,0)) | Q9: =IF($A9="","",IF(OR(H9=TRUE,H9="x"),N(INDEX('Nov'!Q$9:Q$39,DAY($A$9-1)))+1,0))
A10: =IF(A9="","",IF(MONTH(A9+1)=12,A9+1,"")) | B10: =IF(A10="","",A10) | I10: =IF(A10="","",COUNTIF(C10:H10,TRUE)+COUNTIF(C10:H10,"x")) | L10: =IF($A10="","",IF(OR(C10=TRUE,C10="x"),N(L9)+1,0)) | M10: =IF($A10="","",IF(OR(D10=TRUE,D10="x"),N(M9)+1,0)) | N10: =IF($A10="","",IF(OR(E10=TRUE,E10="x"),N(N9)+1,0)) | O10: =IF($A10="","",IF(OR(F10=TRUE,F10="x"),N(O9)+1,0)) | P10: =IF($A10="","",IF(OR(G10=TRUE,G10="x"),N(P9)+1,0)) | Q10: =IF($A10="","",IF(OR(H10=TRUE,H10="x"),N(Q9)+1,0))
A11: =IF(A10="","",IF(MONTH(A10+1)=12,A10+1,"")) | B11: =IF(A11="","",A11) | I11: =IF(A11="","",COUNTIF(C11:H11,TRUE)+COUNTIF(C11:H11,"x")) | L11: =IF($A11="","",IF(OR(C11=TRUE,C11="x"),N(L10)+1,0)) | M11: =IF($A11="","",IF(OR(D11=TRUE,D11="x"),N(M10)+1,0)) | N11: =IF($A11="","",IF(OR(E11=TRUE,E11="x"),N(N10)+1,0)) | O11: =IF($A11="","",IF(OR(F11=TRUE,F11="x"),N(O10)+1,0)) | P11: =IF($A11="","",IF(OR(G11=TRUE,G11="x"),N(P10)+1,0)) | Q11: =IF($A11="","",IF(OR(H11=TRUE,H11="x"),N(Q10)+1,0))
A12: =IF(A11="","",IF(MONTH(A11+1)=12,A11+1,"")) | B12: =IF(A12="","",A12) | I12: =IF(A12="","",COUNTIF(C12:H12,TRUE)+COUNTIF(C12:H12,"x")) | L12: =IF($A12="","",IF(OR(C12=TRUE,C12="x"),N(L11)+1,0)) | M12: =IF($A12="","",IF(OR(D12=TRUE,D12="x"),N(M11)+1,0)) | N12: =IF($A12="","",IF(OR(E12=TRUE,E12="x"),N(N11)+1,0)) | O12: =IF($A12="","",IF(OR(F12=TRUE,F12="x"),N(O11)+1,0)) | P12: =IF($A12="","",IF(OR(G12=TRUE,G12="x"),N(P11)+1,0)) | Q12: =IF($A12="","",IF(OR(H12=TRUE,H12="x"),N(Q11)+1,0))
A13: =IF(A12="","",IF(MONTH(A12+1)=12,A12+1,"")) | B13: =IF(A13="","",A13) | I13: =IF(A13="","",COUNTIF(C13:H13,TRUE)+COUNTIF(C13:H13,"x")) | L13: =IF($A13="","",IF(OR(C13=TRUE,C13="x"),N(L12)+1,0)) | M13: =IF($A13="","",IF(OR(D13=TRUE,D13="x"),N(M12)+1,0)) | N13: =IF($A13="","",IF(OR(E13=TRUE,E13="x"),N(N12)+1,0)) | O13: =IF($A13="","",IF(OR(F13=TRUE,F13="x"),N(O12)+1,0)) | P13: =IF($A13="","",IF(OR(G13=TRUE,G13="x"),N(P12)+1,0)) | Q13: =IF($A13="","",IF(OR(H13=TRUE,H13="x"),N(Q12)+1,0))
A14: =IF(A13="","",IF(MONTH(A13+1)=12,A13+1,"")) | B14: =IF(A14="","",A14) | I14: =IF(A14="","",COUNTIF(C14:H14,TRUE)+COUNTIF(C14:H14,"x")) | L14: =IF($A14="","",IF(OR(C14=TRUE,C14="x"),N(L13)+1,0)) | M14: =IF($A14="","",IF(OR(D14=TRUE,D14="x"),N(M13)+1,0)) | N14: =IF($A14="","",IF(OR(E14=TRUE,E14="x"),N(N13)+1,0)) | O14: =IF($A14="","",IF(OR(F14=TRUE,F14="x"),N(O13)+1,0)) | P14: =IF($A14="","",IF(OR(G14=TRUE,G14="x"),N(P13)+1,0)) | Q14: =IF($A14="","",IF(OR(H14=TRUE,H14="x"),N(Q13)+1,0))
A15: =IF(A14="","",IF(MONTH(A14+1)=12,A14+1,"")) | B15: =IF(A15="","",A15) | I15: =IF(A15="","",COUNTIF(C15:H15,TRUE)+COUNTIF(C15:H15,"x")) | L15: =IF($A15="","",IF(OR(C15=TRUE,C15="x"),N(L14)+1,0)) | M15: =IF($A15="","",IF(OR(D15=TRUE,D15="x"),N(M14)+1,0)) | N15: =IF($A15="","",IF(OR(E15=TRUE,E15="x"),N(N14)+1,0)) | O15: =IF($A15="","",IF(OR(F15=TRUE,F15="x"),N(O14)+1,0)) | P15: =IF($A15="","",IF(OR(G15=TRUE,G15="x"),N(P14)+1,0)) | Q15: =IF($A15="","",IF(OR(H15=TRUE,H15="x"),N(Q14)+1,0))
A16: =IF(A15="","",IF(MONTH(A15+1)=12,A15+1,"")) | B16: =IF(A16="","",A16) | I16: =IF(A16="","",COUNTIF(C16:H16,TRUE)+COUNTIF(C16:H16,"x")) | L16: =IF($A16="","",IF(OR(C16=TRUE,C16="x"),N(L15)+1,0)) | M16: =IF($A16="","",IF(OR(D16=TRUE,D16="x"),N(M15)+1,0)) | N16: =IF($A16="","",IF(OR(E16=TRUE,E16="x"),N(N15)+1,0)) | O16: =IF($A16="","",IF(OR(F16=TRUE,F16="x"),N(O15)+1,0)) | P16: =IF($A16="","",IF(OR(G16=TRUE,G16="x"),N(P15)+1,0)) | Q16: =IF($A16="","",IF(OR(H16=TRUE,H16="x"),N(Q15)+1,0))
A17: =IF(A16="","",IF(MONTH(A16+1)=12,A16+1,"")) | B17: =IF(A17="","",A17) | I17: =IF(A17="","",COUNTIF(C17:H17,TRUE)+COUNTIF(C17:H17,"x")) | L17: =IF($A17="","",IF(OR(C17=TRUE,C17="x"),N(L16)+1,0)) | M17: =IF($A17="","",IF(OR(D17=TRUE,D17="x"),N(M16)+1,0)) | N17: =IF($A17="","",IF(OR(E17=TRUE,E17="x"),N(N16)+1,0)) | O17: =IF($A17="","",IF(OR(F17=TRUE,F17="x"),N(O16)+1,0)) | P17: =IF($A17="","",IF(OR(G17=TRUE,G17="x"),N(P16)+1,0)) | Q17: =IF($A17="","",IF(OR(H17=TRUE,H17="x"),N(Q16)+1,0))
A18: =IF(A17="","",IF(MONTH(A17+1)=12,A17+1,"")) | B18: =IF(A18="","",A18) | I18: =IF(A18="","",COUNTIF(C18:H18,TRUE)+COUNTIF(C18:H18,"x")) | L18: =IF($A18="","",IF(OR(C18=TRUE,C18="x"),N(L17)+1,0)) | M18: =IF($A18="","",IF(OR(D18=TRUE,D18="x"),N(M17)+1,0)) | N18: =IF($A18="","",IF(OR(E18=TRUE,E18="x"),N(N17)+1,0)) | O18: =IF($A18="","",IF(OR(F18=TRUE,F18="x"),N(O17)+1,0)) | P18: =IF($A18="","",IF(OR(G18=TRUE,G18="x"),N(P17)+1,0)) | Q18: =IF($A18="","",IF(OR(H18=TRUE,H18="x"),N(Q17)+1,0))
A19: =IF(A18="","",IF(MONTH(A18+1)=12,A18+1,"")) | B19: =IF(A19="","",A19) | I19: =IF(A19="","",COUNTIF(C19:H19,TRUE)+COUNTIF(C19:H19,"x")) | L19: =IF($A19="","",IF(OR(C19=TRUE,C19="x"),N(L18)+1,0)) | M19: =IF($A19="","",IF(OR(D19=TRUE,D19="x"),N(M18)+1,0)) | N19: =IF($A19="","",IF(OR(E19=TRUE,E19="x"),N(N18)+1,0)) | O19: =IF($A19="","",IF(OR(F19=TRUE,F19="x"),N(O18)+1,0)) | P19: =IF($A19="","",IF(OR(G19=TRUE,G19="x"),N(P18)+1,0)) | Q19: =IF($A19="","",IF(OR(H19=TRUE,H19="x"),N(Q18)+1,0))
A20: =IF(A19="","",IF(MONTH(A19+1)=12,A19+1,"")) | B20: =IF(A20="","",A20) | I20: =IF(A20="","",COUNTIF(C20:H20,TRUE)+COUNTIF(C20:H20,"x")) | L20: =IF($A20="","",IF(OR(C20=TRUE,C20="x"),N(L19)+1,0)) | M20: =IF($A20="","",IF(OR(D20=TRUE,D20="x"),N(M19)+1,0)) | N20: =IF($A20="","",IF(OR(E20=TRUE,E20="x"),N(N19)+1,0)) | O20: =IF($A20="","",IF(OR(F20=TRUE,F20="x"),N(O19)+1,0)) | P20: =IF($A20="","",IF(OR(G20=TRUE,G20="x"),N(P19)+1,0)) | Q20: =IF($A20="","",IF(OR(H20=TRUE,H20="x"),N(Q19)+1,0))
A21: =IF(A20="","",IF(MONTH(A20+1)=12,A20+1,"")) | B21: =IF(A21="","",A21) | I21: =IF(A21="","",COUNTIF(C21:H21,TRUE)+COUNTIF(C21:H21,"x")) | L21: =IF($A21="","",IF(OR(C21=TRUE,C21="x"),N(L20)+1,0)) | M21: =IF($A21="","",IF(OR(D21=TRUE,D21="x"),N(M20)+1,0)) | N21: =IF($A21="","",IF(OR(E21=TRUE,E21="x"),N(N20)+1,0)) | O21: =IF($A21="","",IF(OR(F21=TRUE,F21="x"),N(O20)+1,0)) | P21: =IF($A21="","",IF(OR(G21=TRUE,G21="x"),N(P20)+1,0)) | Q21: =IF($A21="","",IF(OR(H21=TRUE,H21="x"),N(Q20)+1,0))
... A39: =IF(A38="","",IF(MONTH(A38+1)=12,A38+1,"")) | B39: =IF(A39="","",A39) | I39: =IF(A39="","",COUNTIF(C39:H39,TRUE)+COUNTIF(C39:H39,"x")) | L39: =IF($A39="","",IF(OR(C39=TRUE,C39="x"),N(L38)+1,0)) | M39: =IF($A39="","",IF(OR(D39=TRUE,D39="x"),N(M38)+1,0)) | N39: =IF($A39="","",IF(OR(E39=TRUE,E39="x"),N(N38)+1,0)) | O39: =IF($A39="","",IF(OR(F39=TRUE,F39="x"),N(O38)+1,0)) | P39: =IF($A39="","",IF(OR(G39=TRUE,G39="x"),N(P38)+1,0)) | Q39: =IF($A39="","",IF(OR(H39=TRUE,H39="x"),N(Q38)+1,0))
